Test-Label: checkpatch Test-Status: SUCCESS http://dpdk.org/patch/84732 _coding style OK_
[-- Attachment #1: Type: text/plain, Size: 1267 bytes --] Test-Label: iol-broadcom-Performance Test-Status: SUCCESS http://dpdk.org/patch/84732 _Performance Testing PASS_ Submitter: Murphy Yang <murphyx.yang@intel.com> Date: Thursday, December 03 2020 07:50:30 DPDK git baseline: Repo:dpdk Branch: master CommitID:d3fa7b89f0b893f051cb4cef1cbc961cb59f5721 84732 --> performance testing pass Test environment and result as below: Ubuntu 18.04 Kernel: 4.15.0-65-generic Compiler: gcc gcc (Ubuntu 7.4.0-1ubuntu1~18.04.1) 7.4.0 NIC: Broadcom Inc. brcm_57414 25000 Mbps Target: x86_64-native-linuxapp-gcc Fail/Total: 0/2 Detail performance results: +------------+---------+-------------------------------------+ | frame_size | txd/rxd | throughput difference from expected | +============+=========+=====================================+ | 64 | 512 | -0.045 | +------------+---------+-------------------------------------+ | 64 | 2048 | 0.046 | +------------+---------+-------------------------------------+ To view detailed results, visit: https://lab.dpdk.org/results/dashboard/patchsets/14726/ UNH-IOL DPDK Community Lab To manage your email subscriptions, visit: https://lab.dpdk.org/results/dashboard/preferences/subscriptions/
[-- Attachment #1: Type: text/plain, Size: 794 bytes --] Test-Label: iol-broadcom-Functional Test-Status: SUCCESS http://dpdk.org/patch/84732 _Functional Testing PASS_ Submitter: Murphy Yang <murphyx.yang@intel.com> Date: Thursday, December 03 2020 07:50:30 DPDK git baseline: Repo:dpdk Branch: master CommitID:d3fa7b89f0b893f051cb4cef1cbc961cb59f5721 84732 --> functional testing pass Test environment and result as below: Ubuntu 18.04 Kernel: 4.15.0-65-generic Compiler: gcc gcc (Ubuntu 7.4.0-1ubuntu1~18.04.1) 7.4.0 NIC: Broadcom Inc. brcm_57414 25000 Mbps Target: x86_64-native-linuxapp-gcc Fail/Total: 0/3 To view detailed results, visit: https://lab.dpdk.org/results/dashboard/patchsets/14726/ UNH-IOL DPDK Community Lab To manage your email subscriptions, visit: https://lab.dpdk.org/results/dashboard/preferences/subscriptions/
[-- Attachment #1: Type: text/plain, Size: 2333 bytes --] Test-Label: iol-testing Test-Status: SUCCESS http://dpdk.org/patch/84732 _Testing PASS_ Submitter: Murphy Yang <murphyx.yang@intel.com> Date: Thursday, December 03 2020 07:50:30 DPDK git baseline: Repo:dpdk Branch: master CommitID:d3fa7b89f0b893f051cb4cef1cbc961cb59f5721 84732 --> testing pass Test environment and result as below: +---------------------+--------------------+----------------+-------------------+ | Environment | dpdk_meson_compile | dpdk_unit_test | dpdk_compile_spdk | +=====================+====================+================+===================+ | Windows Server 2019 | PASS | SKIPPED | SKIPPED | +---------------------+--------------------+----------------+-------------------+ | FreeBSD 11.2 | PASS | SKIPPED | SKIPPED | +---------------------+--------------------+----------------+-------------------+ | Fedora 31 | PASS | SKIPPED | SKIPPED | +---------------------+--------------------+----------------+-------------------+ | CentOS 8 | PASS | SKIPPED | SKIPPED | +---------------------+--------------------+----------------+-------------------+ | openSUSE Leap 15 | PASS | SKIPPED | SKIPPED | +---------------------+--------------------+----------------+-------------------+ | Ubuntu 18.04 | PASS | PASS | PASS | +---------------------+--------------------+----------------+-------------------+ | Arch Linux | PASS | SKIPPED | SKIPPED | +---------------------+--------------------+----------------+-------------------+ Windows Server 2019 Kernel: 10.0 Compiler: clang 9.0 FreeBSD 11.2 Kernel: 11.2 Compiler: gcc 8.3 Fedora 31 Kernel: 5.3.16 Compiler: gcc 9.2.1 CentOS 8 Kernel: 4.18.0.el8_0 Compiler: gcc 8.3.1 openSUSE Leap 15 Kernel: 4.12.14 Compiler: gcc 7.4.1 Ubuntu 18.04 Kernel: 4.15.0-generic Compiler: gcc 7.5 Arch Linux Kernel: latest Compiler: gcc latest To view detailed results, visit: https://lab.dpdk.org/results/dashboard/patchsets/14726/ UNH-IOL DPDK Community Lab To manage your email subscriptions, visit: https://lab.dpdk.org/results/dashboard/preferences/subscriptions/
[-- Attachment #1: Type: text/plain, Size: 973 bytes --] Test-Label: iol-intel-Functional Test-Status: SUCCESS http://dpdk.org/patch/84732 _Functional Testing PASS_ Submitter: Murphy Yang <murphyx.yang@intel.com> Date: Thursday, December 03 2020 07:50:30 DPDK git baseline: Repo:dpdk Branch: master CommitID:d3fa7b89f0b893f051cb4cef1cbc961cb59f5721 84732 --> functional testing pass Test environment and result as below: Ubuntu 18.04 Kernel: 4.15.0-generic Compiler: gcc 7.4 NIC: Intel Corporation Ethernet Converged Network Adapter XL710-QDA2 40000 Mbps Target: x86_64-native-linuxapp-gcc Fail/Total: 0/3 Ubuntu 18.04 Kernel: 4.15.0-generic Compiler: gcc 7.4 NIC: Intel Corporation Ethernet Converged Network Adapter 82599ES 10000 Mbps Target: x86_64-native-linuxapp-gcc Fail/Total: 0/5 To view detailed results, visit: https://lab.dpdk.org/results/dashboard/patchsets/14726/ UNH-IOL DPDK Community Lab To manage your email subscriptions, visit: https://lab.dpdk.org/results/dashboard/preferences/subscriptions/
[-- Attachment #1: Type: text/plain, Size: 1916 bytes --] Test-Label: iol-intel-Performance Test-Status: SUCCESS http://dpdk.org/patch/84732 _Performance Testing PASS_ Submitter: Murphy Yang <murphyx.yang@intel.com> Date: Thursday, December 03 2020 07:50:30 DPDK git baseline: Repo:dpdk Branch: master CommitID:d3fa7b89f0b893f051cb4cef1cbc961cb59f5721 84732 --> performance testing pass Test environment and result as below: Ubuntu 18.04 Kernel: 4.15.0-generic Compiler: gcc 7.4 NIC: Intel Corporation Ethernet Converged Network Adapter XL710-QDA2 40000 Mbps Target: x86_64-native-linuxapp-gcc Fail/Total: 0/2 Detail performance results: +------------+---------+-------------------------------------+ | frame_size | txd/rxd | throughput difference from expected | +============+=========+=====================================+ | 64 | 512 | 2.796 | +------------+---------+-------------------------------------+ | 64 | 2048 | 2.019 | +------------+---------+-------------------------------------+ Ubuntu 18.04 Kernel: 4.15.0-generic Compiler: gcc 7.4 NIC: Intel Corporation Ethernet Converged Network Adapter 82599ES 10000 Mbps Target: x86_64-native-linuxapp-gcc Fail/Total: 0/2 Detail performance results: +------------+---------+-------------------------------------+ | frame_size | txd/rxd | throughput difference from expected | +============+=========+=====================================+ | 64 | 512 | 2.191 | +------------+---------+-------------------------------------+ | 64 | 2048 | 1.038 | +------------+---------+-------------------------------------+ To view detailed results, visit: https://lab.dpdk.org/results/dashboard/patchsets/14726/ UNH-IOL DPDK Community Lab To manage your email subscriptions, visit: https://lab.dpdk.org/results/dashboard/preferences/subscriptions/