* [dpdk-test-report] |SUCCESS| pw84716 [PATCH] [V1] app/testpmd: fix queue stats mapping configuration
@ 2020-12-03 13:24 dpdklab
0 siblings, 0 replies; 11+ messages in thread
From: dpdklab @ 2020-12-03 13:24 UTC (permalink / raw)
To: Test Report; +Cc: dpdk-test-reports
[-- Attachment #1: Type: text/plain, Size: 974 bytes --]
Test-Label: iol-intel-Functional
Test-Status: SUCCESS
http://dpdk.org/patch/84716
_Functional Testing PASS_
Submitter: Min Hu (Connor) <humin29@huawei.com>
Date: Wednesday, December 02 2020 12:48:55
DPDK git baseline: Repo:dpdk
Branch: master
CommitID:d3fa7b89f0b893f051cb4cef1cbc961cb59f5721
84716 --> functional testing pass
Test environment and result as below:
Ubuntu 18.04
Kernel: 4.15.0-generic
Compiler: gcc 7.4
NIC: Intel Corporation Ethernet Converged Network Adapter XL710-QDA2 40000 Mbps
Target: x86_64-native-linuxapp-gcc
Fail/Total: 0/3
Ubuntu 18.04
Kernel: 4.15.0-generic
Compiler: gcc 7.4
NIC: Intel Corporation Ethernet Converged Network Adapter 82599ES 10000 Mbps
Target: x86_64-native-linuxapp-gcc
Fail/Total: 0/5
To view detailed results, visit:
https://lab.dpdk.org/results/dashboard/patchsets/14717/
UNH-IOL DPDK Community Lab
To manage your email subscriptions, visit:
https://lab.dpdk.org/results/dashboard/preferences/subscriptions/
^ permalink raw reply [flat|nested] 11+ messages in thread
* [dpdk-test-report] |SUCCESS| pw84716 [PATCH] [V1] app/testpmd: fix queue stats mapping configuration
@ 2020-12-03 14:40 dpdklab
0 siblings, 0 replies; 11+ messages in thread
From: dpdklab @ 2020-12-03 14:40 UTC (permalink / raw)
To: Test Report; +Cc: dpdk-test-reports
[-- Attachment #1: Type: text/plain, Size: 2334 bytes --]
Test-Label: iol-testing
Test-Status: SUCCESS
http://dpdk.org/patch/84716
_Testing PASS_
Submitter: Min Hu (Connor) <humin29@huawei.com>
Date: Wednesday, December 02 2020 12:48:55
DPDK git baseline: Repo:dpdk
Branch: master
CommitID:d3fa7b89f0b893f051cb4cef1cbc961cb59f5721
84716 --> testing pass
Test environment and result as below:
+---------------------+--------------------+-------------------+----------------+
| Environment | dpdk_meson_compile | dpdk_compile_spdk | dpdk_unit_test |
+=====================+====================+===================+================+
| Windows Server 2019 | PASS | SKIPPED | SKIPPED |
+---------------------+--------------------+-------------------+----------------+
| FreeBSD 11.2 | PASS | SKIPPED | SKIPPED |
+---------------------+--------------------+-------------------+----------------+
| CentOS 8 | PASS | SKIPPED | SKIPPED |
+---------------------+--------------------+-------------------+----------------+
| Fedora 31 | PASS | SKIPPED | SKIPPED |
+---------------------+--------------------+-------------------+----------------+
| openSUSE Leap 15 | PASS | SKIPPED | SKIPPED |
+---------------------+--------------------+-------------------+----------------+
| Ubuntu 18.04 | PASS | PASS | PASS |
+---------------------+--------------------+-------------------+----------------+
| Arch Linux | PASS | SKIPPED | SKIPPED |
+---------------------+--------------------+-------------------+----------------+
Windows Server 2019
Kernel: 10.0
Compiler: clang 9.0
FreeBSD 11.2
Kernel: 11.2
Compiler: gcc 8.3
CentOS 8
Kernel: 4.18.0.el8_0
Compiler: gcc 8.3.1
Fedora 31
Kernel: 5.3.16
Compiler: gcc 9.2.1
openSUSE Leap 15
Kernel: 4.12.14
Compiler: gcc 7.4.1
Ubuntu 18.04
Kernel: 4.15.0-generic
Compiler: gcc 7.5
Arch Linux
Kernel: latest
Compiler: gcc latest
To view detailed results, visit:
https://lab.dpdk.org/results/dashboard/patchsets/14717/
UNH-IOL DPDK Community Lab
To manage your email subscriptions, visit:
https://lab.dpdk.org/results/dashboard/preferences/subscriptions/
^ permalink raw reply [flat|nested] 11+ messages in thread
* [dpdk-test-report] |SUCCESS| pw84716 [PATCH] [V1] app/testpmd: fix queue stats mapping configuration
@ 2020-12-03 14:19 dpdklab
0 siblings, 0 replies; 11+ messages in thread
From: dpdklab @ 2020-12-03 14:19 UTC (permalink / raw)
To: Test Report; +Cc: dpdk-test-reports
[-- Attachment #1: Type: text/plain, Size: 2334 bytes --]
Test-Label: iol-testing
Test-Status: SUCCESS
http://dpdk.org/patch/84716
_Testing PASS_
Submitter: Min Hu (Connor) <humin29@huawei.com>
Date: Wednesday, December 02 2020 12:48:55
DPDK git baseline: Repo:dpdk
Branch: master
CommitID:d3fa7b89f0b893f051cb4cef1cbc961cb59f5721
84716 --> testing pass
Test environment and result as below:
+---------------------+--------------------+-------------------+----------------+
| Environment | dpdk_meson_compile | dpdk_compile_spdk | dpdk_unit_test |
+=====================+====================+===================+================+
| Windows Server 2019 | PASS | SKIPPED | SKIPPED |
+---------------------+--------------------+-------------------+----------------+
| FreeBSD 11.2 | PASS | SKIPPED | SKIPPED |
+---------------------+--------------------+-------------------+----------------+
| Fedora 31 | PASS | SKIPPED | SKIPPED |
+---------------------+--------------------+-------------------+----------------+
| CentOS 8 | PASS | SKIPPED | SKIPPED |
+---------------------+--------------------+-------------------+----------------+
| openSUSE Leap 15 | PASS | SKIPPED | SKIPPED |
+---------------------+--------------------+-------------------+----------------+
| Ubuntu 18.04 | PASS | PASS | PASS |
+---------------------+--------------------+-------------------+----------------+
| Arch Linux | PASS | SKIPPED | SKIPPED |
+---------------------+--------------------+-------------------+----------------+
Windows Server 2019
Kernel: 10.0
Compiler: clang 9.0
FreeBSD 11.2
Kernel: 11.2
Compiler: gcc 8.3
Fedora 31
Kernel: 5.3.16
Compiler: gcc 9.2.1
CentOS 8
Kernel: 4.18.0.el8_0
Compiler: gcc 8.3.1
openSUSE Leap 15
Kernel: 4.12.14
Compiler: gcc 7.4.1
Ubuntu 18.04
Kernel: 4.15.0-generic
Compiler: gcc 7.5
Arch Linux
Kernel: latest
Compiler: gcc latest
To view detailed results, visit:
https://lab.dpdk.org/results/dashboard/patchsets/14717/
UNH-IOL DPDK Community Lab
To manage your email subscriptions, visit:
https://lab.dpdk.org/results/dashboard/preferences/subscriptions/
^ permalink raw reply [flat|nested] 11+ messages in thread
* [dpdk-test-report] |SUCCESS| pw84716 [PATCH] [V1] app/testpmd: fix queue stats mapping configuration
@ 2020-12-03 14:01 dpdklab
0 siblings, 0 replies; 11+ messages in thread
From: dpdklab @ 2020-12-03 14:01 UTC (permalink / raw)
To: Test Report; +Cc: dpdk-test-reports
[-- Attachment #1: Type: text/plain, Size: 1917 bytes --]
Test-Label: iol-intel-Performance
Test-Status: SUCCESS
http://dpdk.org/patch/84716
_Performance Testing PASS_
Submitter: Min Hu (Connor) <humin29@huawei.com>
Date: Wednesday, December 02 2020 12:48:55
DPDK git baseline: Repo:dpdk
Branch: master
CommitID:d3fa7b89f0b893f051cb4cef1cbc961cb59f5721
84716 --> performance testing pass
Test environment and result as below:
Ubuntu 18.04
Kernel: 4.15.0-generic
Compiler: gcc 7.4
NIC: Intel Corporation Ethernet Converged Network Adapter XL710-QDA2 40000 Mbps
Target: x86_64-native-linuxapp-gcc
Fail/Total: 0/2
Detail performance results:
+------------+---------+-------------------------------------+
| frame_size | txd/rxd | throughput difference from expected |
+============+=========+=====================================+
| 64 | 512 | 2.828 |
+------------+---------+-------------------------------------+
| 64 | 2048 | 1.991 |
+------------+---------+-------------------------------------+
Ubuntu 18.04
Kernel: 4.15.0-generic
Compiler: gcc 7.4
NIC: Intel Corporation Ethernet Converged Network Adapter 82599ES 10000 Mbps
Target: x86_64-native-linuxapp-gcc
Fail/Total: 0/2
Detail performance results:
+------------+---------+-------------------------------------+
| frame_size | txd/rxd | throughput difference from expected |
+============+=========+=====================================+
| 64 | 512 | 2.055 |
+------------+---------+-------------------------------------+
| 64 | 2048 | 0.881 |
+------------+---------+-------------------------------------+
To view detailed results, visit:
https://lab.dpdk.org/results/dashboard/patchsets/14717/
UNH-IOL DPDK Community Lab
To manage your email subscriptions, visit:
https://lab.dpdk.org/results/dashboard/preferences/subscriptions/
^ permalink raw reply [flat|nested] 11+ messages in thread
* [dpdk-test-report] |SUCCESS| pw84716 [PATCH] [V1] app/testpmd: fix queue stats mapping configuration
@ 2020-12-03 13:50 dpdklab
0 siblings, 0 replies; 11+ messages in thread
From: dpdklab @ 2020-12-03 13:50 UTC (permalink / raw)
To: Test Report; +Cc: dpdk-test-reports
[-- Attachment #1: Type: text/plain, Size: 974 bytes --]
Test-Label: iol-intel-Functional
Test-Status: SUCCESS
http://dpdk.org/patch/84716
_Functional Testing PASS_
Submitter: Min Hu (Connor) <humin29@huawei.com>
Date: Wednesday, December 02 2020 12:48:55
DPDK git baseline: Repo:dpdk
Branch: master
CommitID:d3fa7b89f0b893f051cb4cef1cbc961cb59f5721
84716 --> functional testing pass
Test environment and result as below:
Ubuntu 18.04
Kernel: 4.15.0-generic
Compiler: gcc 7.4
NIC: Intel Corporation Ethernet Converged Network Adapter XL710-QDA2 40000 Mbps
Target: x86_64-native-linuxapp-gcc
Fail/Total: 0/3
Ubuntu 18.04
Kernel: 4.15.0-generic
Compiler: gcc 7.4
NIC: Intel Corporation Ethernet Converged Network Adapter 82599ES 10000 Mbps
Target: x86_64-native-linuxapp-gcc
Fail/Total: 0/5
To view detailed results, visit:
https://lab.dpdk.org/results/dashboard/patchsets/14717/
UNH-IOL DPDK Community Lab
To manage your email subscriptions, visit:
https://lab.dpdk.org/results/dashboard/preferences/subscriptions/
^ permalink raw reply [flat|nested] 11+ messages in thread
* [dpdk-test-report] |SUCCESS| pw84716 [PATCH] [V1] app/testpmd: fix queue stats mapping configuration
@ 2020-12-03 13:36 dpdklab
0 siblings, 0 replies; 11+ messages in thread
From: dpdklab @ 2020-12-03 13:36 UTC (permalink / raw)
To: Test Report; +Cc: dpdk-test-reports
[-- Attachment #1: Type: text/plain, Size: 1917 bytes --]
Test-Label: iol-intel-Performance
Test-Status: SUCCESS
http://dpdk.org/patch/84716
_Performance Testing PASS_
Submitter: Min Hu (Connor) <humin29@huawei.com>
Date: Wednesday, December 02 2020 12:48:55
DPDK git baseline: Repo:dpdk
Branch: master
CommitID:d3fa7b89f0b893f051cb4cef1cbc961cb59f5721
84716 --> performance testing pass
Test environment and result as below:
Ubuntu 18.04
Kernel: 4.15.0-generic
Compiler: gcc 7.4
NIC: Intel Corporation Ethernet Converged Network Adapter XL710-QDA2 40000 Mbps
Target: x86_64-native-linuxapp-gcc
Fail/Total: 0/2
Detail performance results:
+------------+---------+-------------------------------------+
| frame_size | txd/rxd | throughput difference from expected |
+============+=========+=====================================+
| 64 | 512 | 2.945 |
+------------+---------+-------------------------------------+
| 64 | 2048 | 1.832 |
+------------+---------+-------------------------------------+
Ubuntu 18.04
Kernel: 4.15.0-generic
Compiler: gcc 7.4
NIC: Intel Corporation Ethernet Converged Network Adapter 82599ES 10000 Mbps
Target: x86_64-native-linuxapp-gcc
Fail/Total: 0/2
Detail performance results:
+------------+---------+-------------------------------------+
| frame_size | txd/rxd | throughput difference from expected |
+============+=========+=====================================+
| 64 | 512 | 2.093 |
+------------+---------+-------------------------------------+
| 64 | 2048 | 1.206 |
+------------+---------+-------------------------------------+
To view detailed results, visit:
https://lab.dpdk.org/results/dashboard/patchsets/14717/
UNH-IOL DPDK Community Lab
To manage your email subscriptions, visit:
https://lab.dpdk.org/results/dashboard/preferences/subscriptions/
^ permalink raw reply [flat|nested] 11+ messages in thread
* [dpdk-test-report] |SUCCESS| pw84716 [PATCH] [V1] app/testpmd: fix queue stats mapping configuration
@ 2020-12-03 13:24 dpdklab
0 siblings, 0 replies; 11+ messages in thread
From: dpdklab @ 2020-12-03 13:24 UTC (permalink / raw)
To: Ajit Khaparde, Test Report; +Cc: dpdk-test-reports
[-- Attachment #1: Type: text/plain, Size: 795 bytes --]
Test-Label: iol-broadcom-Functional
Test-Status: SUCCESS
http://dpdk.org/patch/84716
_Functional Testing PASS_
Submitter: Min Hu (Connor) <humin29@huawei.com>
Date: Wednesday, December 02 2020 12:48:55
DPDK git baseline: Repo:dpdk
Branch: master
CommitID:d3fa7b89f0b893f051cb4cef1cbc961cb59f5721
84716 --> functional testing pass
Test environment and result as below:
Ubuntu 18.04
Kernel: 4.15.0-65-generic
Compiler: gcc gcc (Ubuntu 7.4.0-1ubuntu1~18.04.1) 7.4.0
NIC: Broadcom Inc. brcm_57414 25000 Mbps
Target: x86_64-native-linuxapp-gcc
Fail/Total: 0/3
To view detailed results, visit:
https://lab.dpdk.org/results/dashboard/patchsets/14717/
UNH-IOL DPDK Community Lab
To manage your email subscriptions, visit:
https://lab.dpdk.org/results/dashboard/preferences/subscriptions/
^ permalink raw reply [flat|nested] 11+ messages in thread
* [dpdk-test-report] |SUCCESS| pw84716 [PATCH] [V1] app/testpmd: fix queue stats mapping configuration
@ 2020-12-03 13:15 dpdklab
0 siblings, 0 replies; 11+ messages in thread
From: dpdklab @ 2020-12-03 13:15 UTC (permalink / raw)
To: Ajit Khaparde, Test Report; +Cc: dpdk-test-reports
[-- Attachment #1: Type: text/plain, Size: 1268 bytes --]
Test-Label: iol-broadcom-Performance
Test-Status: SUCCESS
http://dpdk.org/patch/84716
_Performance Testing PASS_
Submitter: Min Hu (Connor) <humin29@huawei.com>
Date: Wednesday, December 02 2020 12:48:55
DPDK git baseline: Repo:dpdk
Branch: master
CommitID:d3fa7b89f0b893f051cb4cef1cbc961cb59f5721
84716 --> performance testing pass
Test environment and result as below:
Ubuntu 18.04
Kernel: 4.15.0-65-generic
Compiler: gcc gcc (Ubuntu 7.4.0-1ubuntu1~18.04.1) 7.4.0
NIC: Broadcom Inc. brcm_57414 25000 Mbps
Target: x86_64-native-linuxapp-gcc
Fail/Total: 0/2
Detail performance results:
+------------+---------+-------------------------------------+
| frame_size | txd/rxd | throughput difference from expected |
+============+=========+=====================================+
| 64 | 512 | -0.015 |
+------------+---------+-------------------------------------+
| 64 | 2048 | 0.092 |
+------------+---------+-------------------------------------+
To view detailed results, visit:
https://lab.dpdk.org/results/dashboard/patchsets/14717/
UNH-IOL DPDK Community Lab
To manage your email subscriptions, visit:
https://lab.dpdk.org/results/dashboard/preferences/subscriptions/
^ permalink raw reply [flat|nested] 11+ messages in thread
* [dpdk-test-report] |SUCCESS| pw84716 [PATCH] [V1] app/testpmd: fix queue stats mapping configuration
@ 2020-12-03 13:10 dpdklab
0 siblings, 0 replies; 11+ messages in thread
From: dpdklab @ 2020-12-03 13:10 UTC (permalink / raw)
To: Ajit Khaparde, Test Report; +Cc: dpdk-test-reports
[-- Attachment #1: Type: text/plain, Size: 795 bytes --]
Test-Label: iol-broadcom-Functional
Test-Status: SUCCESS
http://dpdk.org/patch/84716
_Functional Testing PASS_
Submitter: Min Hu (Connor) <humin29@huawei.com>
Date: Wednesday, December 02 2020 12:48:55
DPDK git baseline: Repo:dpdk
Branch: master
CommitID:d3fa7b89f0b893f051cb4cef1cbc961cb59f5721
84716 --> functional testing pass
Test environment and result as below:
Ubuntu 18.04
Kernel: 4.15.0-65-generic
Compiler: gcc gcc (Ubuntu 7.4.0-1ubuntu1~18.04.1) 7.4.0
NIC: Broadcom Inc. brcm_57414 25000 Mbps
Target: x86_64-native-linuxapp-gcc
Fail/Total: 0/3
To view detailed results, visit:
https://lab.dpdk.org/results/dashboard/patchsets/14717/
UNH-IOL DPDK Community Lab
To manage your email subscriptions, visit:
https://lab.dpdk.org/results/dashboard/preferences/subscriptions/
^ permalink raw reply [flat|nested] 11+ messages in thread
* [dpdk-test-report] |SUCCESS| pw84716 [PATCH] [V1] app/testpmd: fix queue stats mapping configuration
@ 2020-12-03 13:01 dpdklab
0 siblings, 0 replies; 11+ messages in thread
From: dpdklab @ 2020-12-03 13:01 UTC (permalink / raw)
To: Ajit Khaparde, Test Report; +Cc: dpdk-test-reports
[-- Attachment #1: Type: text/plain, Size: 1268 bytes --]
Test-Label: iol-broadcom-Performance
Test-Status: SUCCESS
http://dpdk.org/patch/84716
_Performance Testing PASS_
Submitter: Min Hu (Connor) <humin29@huawei.com>
Date: Wednesday, December 02 2020 12:48:55
DPDK git baseline: Repo:dpdk
Branch: master
CommitID:d3fa7b89f0b893f051cb4cef1cbc961cb59f5721
84716 --> performance testing pass
Test environment and result as below:
Ubuntu 18.04
Kernel: 4.15.0-65-generic
Compiler: gcc gcc (Ubuntu 7.4.0-1ubuntu1~18.04.1) 7.4.0
NIC: Broadcom Inc. brcm_57414 25000 Mbps
Target: x86_64-native-linuxapp-gcc
Fail/Total: 0/2
Detail performance results:
+------------+---------+-------------------------------------+
| frame_size | txd/rxd | throughput difference from expected |
+============+=========+=====================================+
| 64 | 512 | -0.005 |
+------------+---------+-------------------------------------+
| 64 | 2048 | 0.024 |
+------------+---------+-------------------------------------+
To view detailed results, visit:
https://lab.dpdk.org/results/dashboard/patchsets/14717/
UNH-IOL DPDK Community Lab
To manage your email subscriptions, visit:
https://lab.dpdk.org/results/dashboard/preferences/subscriptions/
^ permalink raw reply [flat|nested] 11+ messages in thread
* [dpdk-test-report] |SUCCESS| pw84716 [PATCH V1] app/testpmd: fix queue stats mapping configuration
[not found] <1606913335-7145-1-git-send-email-humin29@huawei.com>
@ 2020-12-02 12:49 ` checkpatch
0 siblings, 0 replies; 11+ messages in thread
From: checkpatch @ 2020-12-02 12:49 UTC (permalink / raw)
To: test-report
Test-Label: checkpatch
Test-Status: SUCCESS
http://dpdk.org/patch/84716
_coding style OK_
^ permalink raw reply [flat|nested] 11+ messages in thread
end of thread, other threads:[~2020-12-03 14:40 UTC | newest]
Thread overview: 11+ messages (download: mbox.gz / follow: Atom feed)
-- links below jump to the message on this page --
2020-12-03 13:24 [dpdk-test-report] |SUCCESS| pw84716 [PATCH] [V1] app/testpmd: fix queue stats mapping configuration dpdklab
-- strict thread matches above, loose matches on Subject: below --
2020-12-03 14:40 dpdklab
2020-12-03 14:19 dpdklab
2020-12-03 14:01 dpdklab
2020-12-03 13:50 dpdklab
2020-12-03 13:36 dpdklab
2020-12-03 13:24 dpdklab
2020-12-03 13:15 dpdklab
2020-12-03 13:10 dpdklab
2020-12-03 13:01 dpdklab
[not found] <1606913335-7145-1-git-send-email-humin29@huawei.com>
2020-12-02 12:49 ` [dpdk-test-report] |SUCCESS| pw84716 [PATCH V1] " checkpatch
This is a public inbox, see mirroring instructions
for how to clone and mirror all data and code used for this inbox;
as well as URLs for NNTP newsgroup(s).