Test-Label: checkpatch Test-Status: SUCCESS http://dpdk.org/patch/85971 _coding style OK_
[-- Attachment #1: Type: text/plain, Size: 811 bytes --] Test-Label: iol-broadcom-Functional Test-Status: SUCCESS http://dpdk.org/patch/85971 _Functional Testing PASS_ Submitter: Narcisa Ana Maria Vasile <navasile@linux.microsoft.com> Date: Tuesday, January 05 2021 02:35:22 DPDK git baseline: Repo:dpdk Branch: master CommitID:9d620630ea30386d7fc2ff192656a9051b6dc6b5 85971 --> functional testing pass Test environment and result as below: Ubuntu 18.04 Kernel: 4.15.0-65-generic Compiler: gcc gcc (Ubuntu 7.4.0-1ubuntu1~18.04.1) 7.4.0 NIC: Broadcom Inc. brcm_57414 25000 Mbps Target: x86_64-native-linuxapp-gcc Fail/Total: 0/3 To view detailed results, visit: https://lab.dpdk.org/results/dashboard/patchsets/14999/ UNH-IOL DPDK Community Lab To manage your email subscriptions, visit: https://lab.dpdk.org/results/dashboard/preferences/subscriptions/
[-- Attachment #1: Type: text/plain, Size: 1284 bytes --] Test-Label: iol-broadcom-Performance Test-Status: SUCCESS http://dpdk.org/patch/85971 _Performance Testing PASS_ Submitter: Narcisa Ana Maria Vasile <navasile@linux.microsoft.com> Date: Tuesday, January 05 2021 02:35:22 DPDK git baseline: Repo:dpdk Branch: master CommitID:9d620630ea30386d7fc2ff192656a9051b6dc6b5 85971 --> performance testing pass Test environment and result as below: Ubuntu 18.04 Kernel: 4.15.0-65-generic Compiler: gcc gcc (Ubuntu 7.4.0-1ubuntu1~18.04.1) 7.4.0 NIC: Broadcom Inc. brcm_57414 25000 Mbps Target: x86_64-native-linuxapp-gcc Fail/Total: 0/2 Detail performance results: +------------+---------+-------------------------------------+ | frame_size | txd/rxd | throughput difference from expected | +============+=========+=====================================+ | 64 | 512 | -0.043 | +------------+---------+-------------------------------------+ | 64 | 2048 | 0.059 | +------------+---------+-------------------------------------+ To view detailed results, visit: https://lab.dpdk.org/results/dashboard/patchsets/14999/ UNH-IOL DPDK Community Lab To manage your email subscriptions, visit: https://lab.dpdk.org/results/dashboard/preferences/subscriptions/
[-- Attachment #1: Type: text/plain, Size: 806 bytes --] Test-Label: iol-intel-Functional Test-Status: SUCCESS http://dpdk.org/patch/85971 _Functional Testing PASS_ Submitter: Narcisa Ana Maria Vasile <navasile@linux.microsoft.com> Date: Tuesday, January 05 2021 02:35:22 DPDK git baseline: Repo:dpdk Branch: master CommitID:9d620630ea30386d7fc2ff192656a9051b6dc6b5 85971 --> functional testing pass Test environment and result as below: Ubuntu 18.04 Kernel: 4.15.0-generic Compiler: gcc 7.4 NIC: Intel Corporation Ethernet Converged Network Adapter XL710-QDA2 40000 Mbps Target: x86_64-native-linuxapp-gcc Fail/Total: 0/3 To view detailed results, visit: https://lab.dpdk.org/results/dashboard/patchsets/14999/ UNH-IOL DPDK Community Lab To manage your email subscriptions, visit: https://lab.dpdk.org/results/dashboard/preferences/subscriptions/
[-- Attachment #1: Type: text/plain, Size: 811 bytes --] Test-Label: iol-broadcom-Functional Test-Status: SUCCESS http://dpdk.org/patch/85971 _Functional Testing PASS_ Submitter: Narcisa Ana Maria Vasile <navasile@linux.microsoft.com> Date: Tuesday, January 05 2021 02:35:22 DPDK git baseline: Repo:dpdk Branch: master CommitID:9d620630ea30386d7fc2ff192656a9051b6dc6b5 85971 --> functional testing pass Test environment and result as below: Ubuntu 18.04 Kernel: 4.15.0-65-generic Compiler: gcc gcc (Ubuntu 7.4.0-1ubuntu1~18.04.1) 7.4.0 NIC: Broadcom Inc. brcm_57414 25000 Mbps Target: x86_64-native-linuxapp-gcc Fail/Total: 0/3 To view detailed results, visit: https://lab.dpdk.org/results/dashboard/patchsets/14999/ UNH-IOL DPDK Community Lab To manage your email subscriptions, visit: https://lab.dpdk.org/results/dashboard/preferences/subscriptions/
[-- Attachment #1: Type: text/plain, Size: 1284 bytes --] Test-Label: iol-broadcom-Performance Test-Status: SUCCESS http://dpdk.org/patch/85971 _Performance Testing PASS_ Submitter: Narcisa Ana Maria Vasile <navasile@linux.microsoft.com> Date: Tuesday, January 05 2021 02:35:22 DPDK git baseline: Repo:dpdk Branch: master CommitID:9d620630ea30386d7fc2ff192656a9051b6dc6b5 85971 --> performance testing pass Test environment and result as below: Ubuntu 18.04 Kernel: 4.15.0-65-generic Compiler: gcc gcc (Ubuntu 7.4.0-1ubuntu1~18.04.1) 7.4.0 NIC: Broadcom Inc. brcm_57414 25000 Mbps Target: x86_64-native-linuxapp-gcc Fail/Total: 0/2 Detail performance results: +------------+---------+-------------------------------------+ | frame_size | txd/rxd | throughput difference from expected | +============+=========+=====================================+ | 64 | 512 | -0.092 | +------------+---------+-------------------------------------+ | 64 | 2048 | 0.088 | +------------+---------+-------------------------------------+ To view detailed results, visit: https://lab.dpdk.org/results/dashboard/patchsets/14999/ UNH-IOL DPDK Community Lab To manage your email subscriptions, visit: https://lab.dpdk.org/results/dashboard/preferences/subscriptions/
[-- Attachment #1: Type: text/plain, Size: 790 bytes --] Test-Label: iol-abi-testing Test-Status: SUCCESS http://dpdk.org/patch/85971 _Testing PASS_ Submitter: Narcisa Ana Maria Vasile <navasile@linux.microsoft.com> Date: Tuesday, January 05 2021 02:35:22 DPDK git baseline: Repo:dpdk Branch: master CommitID:9d620630ea30386d7fc2ff192656a9051b6dc6b5 85971 --> testing pass Test environment and result as below: +--------------+----------+ | Environment | abi_test | +==============+==========+ | Ubuntu 18.04 | PASS | +--------------+----------+ Ubuntu 18.04 Kernel: 4.15.0-generic Compiler: gcc 7.5 To view detailed results, visit: https://lab.dpdk.org/results/dashboard/patchsets/14999/ UNH-IOL DPDK Community Lab To manage your email subscriptions, visit: https://lab.dpdk.org/results/dashboard/preferences/subscriptions/
[-- Attachment #1: Type: text/plain, Size: 1933 bytes --] Test-Label: iol-intel-Performance Test-Status: SUCCESS http://dpdk.org/patch/85971 _Performance Testing PASS_ Submitter: Narcisa Ana Maria Vasile <navasile@linux.microsoft.com> Date: Tuesday, January 05 2021 02:35:22 DPDK git baseline: Repo:dpdk Branch: master CommitID:9d620630ea30386d7fc2ff192656a9051b6dc6b5 85971 --> performance testing pass Test environment and result as below: Ubuntu 18.04 Kernel: 4.15.0-generic Compiler: gcc 7.4 NIC: Intel Corporation Ethernet Converged Network Adapter XL710-QDA2 40000 Mbps Target: x86_64-native-linuxapp-gcc Fail/Total: 0/2 Detail performance results: +------------+---------+-------------------------------------+ | frame_size | txd/rxd | throughput difference from expected | +============+=========+=====================================+ | 64 | 512 | 2.623 | +------------+---------+-------------------------------------+ | 64 | 2048 | 2.040 | +------------+---------+-------------------------------------+ Ubuntu 18.04 Kernel: 4.15.0-generic Compiler: gcc 7.4 NIC: Intel Corporation Ethernet Converged Network Adapter 82599ES 10000 Mbps Target: x86_64-native-linuxapp-gcc Fail/Total: 0/2 Detail performance results: +------------+---------+-------------------------------------+ | frame_size | txd/rxd | throughput difference from expected | +============+=========+=====================================+ | 64 | 512 | 2.069 | +------------+---------+-------------------------------------+ | 64 | 2048 | 1.074 | +------------+---------+-------------------------------------+ To view detailed results, visit: https://lab.dpdk.org/results/dashboard/patchsets/14999/ UNH-IOL DPDK Community Lab To manage your email subscriptions, visit: https://lab.dpdk.org/results/dashboard/preferences/subscriptions/
[-- Attachment #1: Type: text/plain, Size: 806 bytes --] Test-Label: iol-intel-Functional Test-Status: SUCCESS http://dpdk.org/patch/85971 _Functional Testing PASS_ Submitter: Narcisa Ana Maria Vasile <navasile@linux.microsoft.com> Date: Tuesday, January 05 2021 02:35:22 DPDK git baseline: Repo:dpdk Branch: master CommitID:9d620630ea30386d7fc2ff192656a9051b6dc6b5 85971 --> functional testing pass Test environment and result as below: Ubuntu 18.04 Kernel: 4.15.0-generic Compiler: gcc 7.4 NIC: Intel Corporation Ethernet Converged Network Adapter XL710-QDA2 40000 Mbps Target: x86_64-native-linuxapp-gcc Fail/Total: 0/3 To view detailed results, visit: https://lab.dpdk.org/results/dashboard/patchsets/14999/ UNH-IOL DPDK Community Lab To manage your email subscriptions, visit: https://lab.dpdk.org/results/dashboard/preferences/subscriptions/
[-- Attachment #1: Type: text/plain, Size: 2743 bytes --] Test-Label: iol-testing Test-Status: SUCCESS http://dpdk.org/patch/85971 _Testing PASS_ Submitter: Narcisa Ana Maria Vasile <navasile@linux.microsoft.com> Date: Tuesday, January 05 2021 02:35:22 DPDK git baseline: Repo:dpdk Branch: master CommitID:9d620630ea30386d7fc2ff192656a9051b6dc6b5 85971 --> testing pass Test environment and result as below: +---------------------+----------------------+--------------------+----------------+-------------------+ | Environment | dpdk_mingw64_compile | dpdk_meson_compile | dpdk_unit_test | dpdk_compile_spdk | +=====================+======================+====================+================+===================+ | Windows Server 2019 | PASS | PASS | SKIPPED | SKIPPED | +---------------------+----------------------+--------------------+----------------+-------------------+ | FreeBSD 11.2 | SKIPPED | PASS | SKIPPED | SKIPPED | +---------------------+----------------------+--------------------+----------------+-------------------+ | CentOS 8 | SKIPPED | PASS | SKIPPED | SKIPPED | +---------------------+----------------------+--------------------+----------------+-------------------+ | Fedora 31 | SKIPPED | PASS | SKIPPED | PASS | +---------------------+----------------------+--------------------+----------------+-------------------+ | openSUSE Leap 15 | SKIPPED | PASS | SKIPPED | SKIPPED | +---------------------+----------------------+--------------------+----------------+-------------------+ | Ubuntu 18.04 | SKIPPED | PASS | PASS | PASS | +---------------------+----------------------+--------------------+----------------+-------------------+ | Arch Linux | SKIPPED | PASS | SKIPPED | SKIPPED | +---------------------+----------------------+--------------------+----------------+-------------------+ Windows Server 2019 Kernel: 10.0 Compiler: clang 9.0 FreeBSD 11.2 Kernel: 11.2 Compiler: gcc 8.3 CentOS 8 Kernel: 4.18.0.el8_0 Compiler: gcc 8.3.1 Fedora 31 Kernel: 5.3.16 Compiler: gcc 9.2.1 openSUSE Leap 15 Kernel: 4.12.14 Compiler: gcc 7.4.1 Ubuntu 18.04 Kernel: 5.4.0-53-generic Compiler: gcc 9.3 Arch Linux Kernel: latest Compiler: gcc latest To view detailed results, visit: https://lab.dpdk.org/results/dashboard/patchsets/14999/ UNH-IOL DPDK Community Lab To manage your email subscriptions, visit: https://lab.dpdk.org/results/dashboard/preferences/subscriptions/
[-- Attachment #1: Type: text/plain, Size: 1933 bytes --] Test-Label: iol-intel-Performance Test-Status: SUCCESS http://dpdk.org/patch/85971 _Performance Testing PASS_ Submitter: Narcisa Ana Maria Vasile <navasile@linux.microsoft.com> Date: Tuesday, January 05 2021 02:35:22 DPDK git baseline: Repo:dpdk Branch: master CommitID:9d620630ea30386d7fc2ff192656a9051b6dc6b5 85971 --> performance testing pass Test environment and result as below: Ubuntu 18.04 Kernel: 4.15.0-generic Compiler: gcc 7.4 NIC: Intel Corporation Ethernet Converged Network Adapter XL710-QDA2 40000 Mbps Target: x86_64-native-linuxapp-gcc Fail/Total: 0/2 Detail performance results: +------------+---------+-------------------------------------+ | frame_size | txd/rxd | throughput difference from expected | +============+=========+=====================================+ | 64 | 512 | 2.785 | +------------+---------+-------------------------------------+ | 64 | 2048 | 2.185 | +------------+---------+-------------------------------------+ Ubuntu 18.04 Kernel: 4.15.0-generic Compiler: gcc 7.4 NIC: Intel Corporation Ethernet Converged Network Adapter 82599ES 10000 Mbps Target: x86_64-native-linuxapp-gcc Fail/Total: 0/2 Detail performance results: +------------+---------+-------------------------------------+ | frame_size | txd/rxd | throughput difference from expected | +============+=========+=====================================+ | 64 | 512 | 1.998 | +------------+---------+-------------------------------------+ | 64 | 2048 | 1.404 | +------------+---------+-------------------------------------+ To view detailed results, visit: https://lab.dpdk.org/results/dashboard/patchsets/14999/ UNH-IOL DPDK Community Lab To manage your email subscriptions, visit: https://lab.dpdk.org/results/dashboard/preferences/subscriptions/
[-- Attachment #1: Type: text/plain, Size: 3983 bytes --] Test-Label: iol-mellanox-Performance Test-Status: SUCCESS http://dpdk.org/patch/85971 _Performance Testing PASS_ Submitter: Narcisa Ana Maria Vasile <navasile@linux.microsoft.com> Date: Tuesday, January 05 2021 02:35:22 DPDK git baseline: Repo:dpdk Branch: master CommitID:9d620630ea30386d7fc2ff192656a9051b6dc6b5 85971 --> performance testing pass Test environment and result as below: Ubuntu 18.04 Kernel: 4.15.0-generic Compiler: gcc 7.4 NIC: Mellanox ConnectX-5 100000 Mbps Target: x86_64-native-linuxapp-gcc Fail/Total: 0/6 Detail performance results: +------------+---------+-------------------------------------+ | frame_size | txd/rxd | throughput difference from expected | +============+=========+=====================================+ | 64 | 256 | -0.193 | +------------+---------+-------------------------------------+ | 128 | 256 | -0.073 | +------------+---------+-------------------------------------+ | 256 | 256 | 0.061 | +------------+---------+-------------------------------------+ | 512 | 256 | 0.552 | +------------+---------+-------------------------------------+ | 1024 | 256 | -0.073 | +------------+---------+-------------------------------------+ | 1518 | 256 | -0.001 | +------------+---------+-------------------------------------+ Ubuntu 18.04 Kernel: 4.15.0-generic Compiler: gcc 7.4 NIC: Mellanox ConnectX-4 Lx 25000 Mbps Target: x86_64-native-linuxapp-gcc Fail/Total: 0/6 Detail performance results: +------------+---------+-------------------------------------+ | frame_size | txd/rxd | throughput difference from expected | +============+=========+=====================================+ | 64 | 256 | -0.015 | +------------+---------+-------------------------------------+ | 128 | 256 | -0.448 | +------------+---------+-------------------------------------+ | 256 | 256 | -0.145 | +------------+---------+-------------------------------------+ | 512 | 256 | 0.049 | +------------+---------+-------------------------------------+ | 1024 | 256 | 0.011 | +------------+---------+-------------------------------------+ | 1518 | 256 | -0.003 | +------------+---------+-------------------------------------+ Ubuntu 18.04 Kernel: 4.15.0-generic Compiler: gcc 7.4 NIC: Mellanox ConnectX-4 Lx 40000 Mbps Target: x86_64-native-linuxapp-gcc Fail/Total: 0/6 Detail performance results: +------------+---------+-------------------------------------+ | frame_size | txd/rxd | throughput difference from expected | +============+=========+=====================================+ | 64 | 256 | -0.145 | +------------+---------+-------------------------------------+ | 128 | 256 | 0.100 | +------------+---------+-------------------------------------+ | 256 | 256 | 0.469 | +------------+---------+-------------------------------------+ | 512 | 256 | 0.017 | +------------+---------+-------------------------------------+ | 1024 | 256 | -0.028 | +------------+---------+-------------------------------------+ | 1518 | 256 | 0.011 | +------------+---------+-------------------------------------+ To view detailed results, visit: https://lab.dpdk.org/results/dashboard/patchsets/14999/ UNH-IOL DPDK Community Lab To manage your email subscriptions, visit: https://lab.dpdk.org/results/dashboard/preferences/subscriptions/
[-- Attachment #1: Type: text/plain, Size: 790 bytes --] Test-Label: iol-abi-testing Test-Status: SUCCESS http://dpdk.org/patch/85971 _Testing PASS_ Submitter: Narcisa Ana Maria Vasile <navasile@linux.microsoft.com> Date: Tuesday, January 05 2021 02:35:22 DPDK git baseline: Repo:dpdk Branch: master CommitID:9d620630ea30386d7fc2ff192656a9051b6dc6b5 85971 --> testing pass Test environment and result as below: +--------------+----------+ | Environment | abi_test | +==============+==========+ | Ubuntu 18.04 | PASS | +--------------+----------+ Ubuntu 18.04 Kernel: 4.15.0-generic Compiler: gcc 7.5 To view detailed results, visit: https://lab.dpdk.org/results/dashboard/patchsets/14999/ UNH-IOL DPDK Community Lab To manage your email subscriptions, visit: https://lab.dpdk.org/results/dashboard/preferences/subscriptions/
[-- Attachment #1: Type: text/plain, Size: 2743 bytes --] Test-Label: iol-testing Test-Status: SUCCESS http://dpdk.org/patch/85971 _Testing PASS_ Submitter: Narcisa Ana Maria Vasile <navasile@linux.microsoft.com> Date: Tuesday, January 05 2021 02:35:22 DPDK git baseline: Repo:dpdk Branch: master CommitID:9d620630ea30386d7fc2ff192656a9051b6dc6b5 85971 --> testing pass Test environment and result as below: +---------------------+----------------------+--------------------+----------------+-------------------+ | Environment | dpdk_mingw64_compile | dpdk_meson_compile | dpdk_unit_test | dpdk_compile_spdk | +=====================+======================+====================+================+===================+ | Windows Server 2019 | PASS | PASS | SKIPPED | SKIPPED | +---------------------+----------------------+--------------------+----------------+-------------------+ | FreeBSD 11.2 | SKIPPED | PASS | SKIPPED | SKIPPED | +---------------------+----------------------+--------------------+----------------+-------------------+ | CentOS 8 | SKIPPED | PASS | SKIPPED | SKIPPED | +---------------------+----------------------+--------------------+----------------+-------------------+ | Fedora 31 | SKIPPED | PASS | SKIPPED | PASS | +---------------------+----------------------+--------------------+----------------+-------------------+ | openSUSE Leap 15 | SKIPPED | PASS | SKIPPED | SKIPPED | +---------------------+----------------------+--------------------+----------------+-------------------+ | Ubuntu 18.04 | SKIPPED | PASS | PASS | PASS | +---------------------+----------------------+--------------------+----------------+-------------------+ | Arch Linux | SKIPPED | PASS | SKIPPED | SKIPPED | +---------------------+----------------------+--------------------+----------------+-------------------+ Windows Server 2019 Kernel: 10.0 Compiler: clang 9.0 FreeBSD 11.2 Kernel: 11.2 Compiler: gcc 8.3 CentOS 8 Kernel: 4.18.0.el8_0 Compiler: gcc 8.3.1 Fedora 31 Kernel: 5.3.16 Compiler: gcc 9.2.1 openSUSE Leap 15 Kernel: 4.12.14 Compiler: gcc 7.4.1 Ubuntu 18.04 Kernel: 5.4.0-53-generic Compiler: gcc 9.3 Arch Linux Kernel: latest Compiler: gcc latest To view detailed results, visit: https://lab.dpdk.org/results/dashboard/patchsets/14999/ UNH-IOL DPDK Community Lab To manage your email subscriptions, visit: https://lab.dpdk.org/results/dashboard/preferences/subscriptions/
[-- Attachment #1: Type: text/plain, Size: 3983 bytes --] Test-Label: iol-mellanox-Performance Test-Status: SUCCESS http://dpdk.org/patch/85971 _Performance Testing PASS_ Submitter: Narcisa Ana Maria Vasile <navasile@linux.microsoft.com> Date: Tuesday, January 05 2021 02:35:22 DPDK git baseline: Repo:dpdk Branch: master CommitID:9d620630ea30386d7fc2ff192656a9051b6dc6b5 85971 --> performance testing pass Test environment and result as below: Ubuntu 18.04 Kernel: 4.15.0-generic Compiler: gcc 7.4 NIC: Mellanox ConnectX-5 100000 Mbps Target: x86_64-native-linuxapp-gcc Fail/Total: 0/6 Detail performance results: +------------+---------+-------------------------------------+ | frame_size | txd/rxd | throughput difference from expected | +============+=========+=====================================+ | 64 | 256 | -0.210 | +------------+---------+-------------------------------------+ | 128 | 256 | -0.032 | +------------+---------+-------------------------------------+ | 256 | 256 | -0.002 | +------------+---------+-------------------------------------+ | 512 | 256 | 0.570 | +------------+---------+-------------------------------------+ | 1024 | 256 | -0.297 | +------------+---------+-------------------------------------+ | 1518 | 256 | -0.020 | +------------+---------+-------------------------------------+ Ubuntu 18.04 Kernel: 4.15.0-generic Compiler: gcc 7.4 NIC: Mellanox ConnectX-4 Lx 25000 Mbps Target: x86_64-native-linuxapp-gcc Fail/Total: 0/6 Detail performance results: +------------+---------+-------------------------------------+ | frame_size | txd/rxd | throughput difference from expected | +============+=========+=====================================+ | 64 | 256 | -0.182 | +------------+---------+-------------------------------------+ | 128 | 256 | -0.289 | +------------+---------+-------------------------------------+ | 256 | 256 | -0.118 | +------------+---------+-------------------------------------+ | 512 | 256 | -0.027 | +------------+---------+-------------------------------------+ | 1024 | 256 | 0.011 | +------------+---------+-------------------------------------+ | 1518 | 256 | 0.013 | +------------+---------+-------------------------------------+ Ubuntu 18.04 Kernel: 4.15.0-generic Compiler: gcc 7.4 NIC: Mellanox ConnectX-4 Lx 40000 Mbps Target: x86_64-native-linuxapp-gcc Fail/Total: 0/6 Detail performance results: +------------+---------+-------------------------------------+ | frame_size | txd/rxd | throughput difference from expected | +============+=========+=====================================+ | 64 | 256 | -0.037 | +------------+---------+-------------------------------------+ | 128 | 256 | -0.177 | +------------+---------+-------------------------------------+ | 256 | 256 | -0.415 | +------------+---------+-------------------------------------+ | 512 | 256 | 0.001 | +------------+---------+-------------------------------------+ | 1024 | 256 | -0.016 | +------------+---------+-------------------------------------+ | 1518 | 256 | 0.010 | +------------+---------+-------------------------------------+ To view detailed results, visit: https://lab.dpdk.org/results/dashboard/patchsets/14999/ UNH-IOL DPDK Community Lab To manage your email subscriptions, visit: https://lab.dpdk.org/results/dashboard/preferences/subscriptions/