[-- Attachment #1: Type: text/plain, Size: 776 bytes --] Test-Label: iol-abi-testing Test-Status: SUCCESS http://dpdk.org/patch/86280 _Testing PASS_ Submitter: Haiyue Wang <haiyue.wang@intel.com> Date: Monday, January 11 2021 13:34:06 DPDK git baseline: Repo:dpdk Branch: master CommitID:86d8b57e37eaea344870ffdf7dd6ead814204096 86278-86280 --> testing pass Test environment and result as below: +--------------+----------+ | Environment | abi_test | +==============+==========+ | Ubuntu 18.04 | PASS | +--------------+----------+ Ubuntu 18.04 Kernel: 4.15.0-generic Compiler: gcc 7.5 To view detailed results, visit: https://lab.dpdk.org/results/dashboard/patchsets/15087/ UNH-IOL DPDK Community Lab To manage your email subscriptions, visit: https://lab.dpdk.org/results/dashboard/preferences/subscriptions/
[-- Attachment #1: Type: text/plain, Size: 2727 bytes --] Test-Label: iol-testing Test-Status: SUCCESS http://dpdk.org/patch/86280 _Testing PASS_ Submitter: Haiyue Wang <haiyue.wang@intel.com> Date: Monday, January 11 2021 13:34:06 DPDK git baseline: Repo:dpdk Branch: master CommitID:86d8b57e37eaea344870ffdf7dd6ead814204096 86278-86280 --> testing pass Test environment and result as below: +---------------------+----------------------+--------------------+----------------+-------------------+ | Environment | dpdk_mingw64_compile | dpdk_meson_compile | dpdk_unit_test | dpdk_compile_spdk | +=====================+======================+====================+================+===================+ | Windows Server 2019 | PASS | PASS | SKIPPED | SKIPPED | +---------------------+----------------------+--------------------+----------------+-------------------+ | FreeBSD 11.2 | SKIPPED | PASS | SKIPPED | SKIPPED | +---------------------+----------------------+--------------------+----------------+-------------------+ | CentOS 8 | SKIPPED | PASS | SKIPPED | SKIPPED | +---------------------+----------------------+--------------------+----------------+-------------------+ | Fedora 31 | SKIPPED | PASS | SKIPPED | SKIPPED | +---------------------+----------------------+--------------------+----------------+-------------------+ | openSUSE Leap 15 | SKIPPED | PASS | SKIPPED | SKIPPED | +---------------------+----------------------+--------------------+----------------+-------------------+ | Arch Linux | SKIPPED | PASS | SKIPPED | SKIPPED | +---------------------+----------------------+--------------------+----------------+-------------------+ | Ubuntu 18.04 | SKIPPED | SKIPPED | PASS | PASS | +---------------------+----------------------+--------------------+----------------+-------------------+ Windows Server 2019 Kernel: 10.0 Compiler: clang 9.0 FreeBSD 11.2 Kernel: 11.2 Compiler: gcc 8.3 CentOS 8 Kernel: 4.18.0.el8_0 Compiler: gcc 8.3.1 Fedora 31 Kernel: 5.3.16 Compiler: gcc 9.2.1 openSUSE Leap 15 Kernel: 4.12.14 Compiler: gcc 7.4.1 Arch Linux Kernel: latest Compiler: gcc latest Ubuntu 18.04 Kernel: 4.15.0-generic Compiler: gcc 7.5 To view detailed results, visit: https://lab.dpdk.org/results/dashboard/patchsets/15087/ UNH-IOL DPDK Community Lab To manage your email subscriptions, visit: https://lab.dpdk.org/results/dashboard/preferences/subscriptions/
[-- Attachment #1: Type: text/plain, Size: 776 bytes --] Test-Label: iol-abi-testing Test-Status: SUCCESS http://dpdk.org/patch/86280 _Testing PASS_ Submitter: Haiyue Wang <haiyue.wang@intel.com> Date: Monday, January 11 2021 13:34:06 DPDK git baseline: Repo:dpdk Branch: master CommitID:86d8b57e37eaea344870ffdf7dd6ead814204096 86278-86280 --> testing pass Test environment and result as below: +--------------+----------+ | Environment | abi_test | +==============+==========+ | Ubuntu 18.04 | PASS | +--------------+----------+ Ubuntu 18.04 Kernel: 4.15.0-generic Compiler: gcc 7.5 To view detailed results, visit: https://lab.dpdk.org/results/dashboard/patchsets/15087/ UNH-IOL DPDK Community Lab To manage your email subscriptions, visit: https://lab.dpdk.org/results/dashboard/preferences/subscriptions/
[-- Attachment #1: Type: text/plain, Size: 2727 bytes --] Test-Label: iol-testing Test-Status: SUCCESS http://dpdk.org/patch/86280 _Testing PASS_ Submitter: Haiyue Wang <haiyue.wang@intel.com> Date: Monday, January 11 2021 13:34:06 DPDK git baseline: Repo:dpdk Branch: master CommitID:86d8b57e37eaea344870ffdf7dd6ead814204096 86278-86280 --> testing pass Test environment and result as below: +---------------------+----------------------+--------------------+-------------------+----------------+ | Environment | dpdk_mingw64_compile | dpdk_meson_compile | dpdk_compile_spdk | dpdk_unit_test | +=====================+======================+====================+===================+================+ | Windows Server 2019 | PASS | PASS | SKIPPED | SKIPPED | +---------------------+----------------------+--------------------+-------------------+----------------+ | FreeBSD 11.2 | SKIPPED | PASS | SKIPPED | SKIPPED | +---------------------+----------------------+--------------------+-------------------+----------------+ | CentOS 8 | SKIPPED | PASS | SKIPPED | SKIPPED | +---------------------+----------------------+--------------------+-------------------+----------------+ | Fedora 31 | SKIPPED | PASS | PASS | SKIPPED | +---------------------+----------------------+--------------------+-------------------+----------------+ | openSUSE Leap 15 | SKIPPED | PASS | SKIPPED | SKIPPED | +---------------------+----------------------+--------------------+-------------------+----------------+ | Arch Linux | SKIPPED | PASS | SKIPPED | SKIPPED | +---------------------+----------------------+--------------------+-------------------+----------------+ | Ubuntu 18.04 | SKIPPED | PASS | PASS | PASS | +---------------------+----------------------+--------------------+-------------------+----------------+ Windows Server 2019 Kernel: 10.0 Compiler: clang 9.0 FreeBSD 11.2 Kernel: 11.2 Compiler: gcc 8.3 CentOS 8 Kernel: 4.18.0.el8_0 Compiler: gcc 8.3.1 Fedora 31 Kernel: 5.3.16 Compiler: gcc 9.2.1 openSUSE Leap 15 Kernel: 4.12.14 Compiler: gcc 7.4.1 Arch Linux Kernel: latest Compiler: gcc latest Ubuntu 18.04 Kernel: 4.15.0-generic Compiler: gcc 7.5 To view detailed results, visit: https://lab.dpdk.org/results/dashboard/patchsets/15087/ UNH-IOL DPDK Community Lab To manage your email subscriptions, visit: https://lab.dpdk.org/results/dashboard/preferences/subscriptions/
[-- Attachment #1: Type: text/plain, Size: 796 bytes --] Test-Label: iol-broadcom-Functional Test-Status: SUCCESS http://dpdk.org/patch/86280 _Functional Testing PASS_ Submitter: Haiyue Wang <haiyue.wang@intel.com> Date: Monday, January 11 2021 13:34:06 DPDK git baseline: Repo:dpdk Branch: master CommitID:86d8b57e37eaea344870ffdf7dd6ead814204096 86278-86280 --> functional testing pass Test environment and result as below: Ubuntu 18.04 Kernel: 4.15.0-65-generic Compiler: gcc gcc (Ubuntu 7.4.0-1ubuntu1~18.04.1) 7.4.0 NIC: Broadcom Inc. brcm_57414 25000 Mbps Target: x86_64-native-linuxapp-gcc Fail/Total: 0/3 To view detailed results, visit: https://lab.dpdk.org/results/dashboard/patchsets/15087/ UNH-IOL DPDK Community Lab To manage your email subscriptions, visit: https://lab.dpdk.org/results/dashboard/preferences/subscriptions/
[-- Attachment #1: Type: text/plain, Size: 1269 bytes --] Test-Label: iol-broadcom-Performance Test-Status: SUCCESS http://dpdk.org/patch/86280 _Performance Testing PASS_ Submitter: Haiyue Wang <haiyue.wang@intel.com> Date: Monday, January 11 2021 13:34:06 DPDK git baseline: Repo:dpdk Branch: master CommitID:86d8b57e37eaea344870ffdf7dd6ead814204096 86278-86280 --> performance testing pass Test environment and result as below: Ubuntu 18.04 Kernel: 4.15.0-65-generic Compiler: gcc gcc (Ubuntu 7.4.0-1ubuntu1~18.04.1) 7.4.0 NIC: Broadcom Inc. brcm_57414 25000 Mbps Target: x86_64-native-linuxapp-gcc Fail/Total: 0/2 Detail performance results: +------------+---------+-------------------------------------+ | frame_size | txd/rxd | throughput difference from expected | +============+=========+=====================================+ | 64 | 512 | 0.004 | +------------+---------+-------------------------------------+ | 64 | 2048 | 0.059 | +------------+---------+-------------------------------------+ To view detailed results, visit: https://lab.dpdk.org/results/dashboard/patchsets/15087/ UNH-IOL DPDK Community Lab To manage your email subscriptions, visit: https://lab.dpdk.org/results/dashboard/preferences/subscriptions/
[-- Attachment #1: Type: text/plain, Size: 796 bytes --] Test-Label: iol-broadcom-Functional Test-Status: SUCCESS http://dpdk.org/patch/86280 _Functional Testing PASS_ Submitter: Haiyue Wang <haiyue.wang@intel.com> Date: Monday, January 11 2021 13:34:06 DPDK git baseline: Repo:dpdk Branch: master CommitID:86d8b57e37eaea344870ffdf7dd6ead814204096 86278-86280 --> functional testing pass Test environment and result as below: Ubuntu 18.04 Kernel: 4.15.0-65-generic Compiler: gcc gcc (Ubuntu 7.4.0-1ubuntu1~18.04.1) 7.4.0 NIC: Broadcom Inc. brcm_57414 25000 Mbps Target: x86_64-native-linuxapp-gcc Fail/Total: 0/3 To view detailed results, visit: https://lab.dpdk.org/results/dashboard/patchsets/15087/ UNH-IOL DPDK Community Lab To manage your email subscriptions, visit: https://lab.dpdk.org/results/dashboard/preferences/subscriptions/
[-- Attachment #1: Type: text/plain, Size: 1269 bytes --] Test-Label: iol-broadcom-Performance Test-Status: SUCCESS http://dpdk.org/patch/86280 _Performance Testing PASS_ Submitter: Haiyue Wang <haiyue.wang@intel.com> Date: Monday, January 11 2021 13:34:06 DPDK git baseline: Repo:dpdk Branch: master CommitID:86d8b57e37eaea344870ffdf7dd6ead814204096 86278-86280 --> performance testing pass Test environment and result as below: Ubuntu 18.04 Kernel: 4.15.0-65-generic Compiler: gcc gcc (Ubuntu 7.4.0-1ubuntu1~18.04.1) 7.4.0 NIC: Broadcom Inc. brcm_57414 25000 Mbps Target: x86_64-native-linuxapp-gcc Fail/Total: 0/2 Detail performance results: +------------+---------+-------------------------------------+ | frame_size | txd/rxd | throughput difference from expected | +============+=========+=====================================+ | 64 | 512 | -0.018 | +------------+---------+-------------------------------------+ | 64 | 2048 | 0.068 | +------------+---------+-------------------------------------+ To view detailed results, visit: https://lab.dpdk.org/results/dashboard/patchsets/15087/ UNH-IOL DPDK Community Lab To manage your email subscriptions, visit: https://lab.dpdk.org/results/dashboard/preferences/subscriptions/
[-- Attachment #1: Type: text/plain, Size: 791 bytes --] Test-Label: iol-intel-Functional Test-Status: SUCCESS http://dpdk.org/patch/86280 _Functional Testing PASS_ Submitter: Haiyue Wang <haiyue.wang@intel.com> Date: Monday, January 11 2021 13:34:06 DPDK git baseline: Repo:dpdk Branch: master CommitID:86d8b57e37eaea344870ffdf7dd6ead814204096 86278-86280 --> functional testing pass Test environment and result as below: Ubuntu 18.04 Kernel: 4.15.0-generic Compiler: gcc 7.4 NIC: Intel Corporation Ethernet Converged Network Adapter XL710-QDA2 40000 Mbps Target: x86_64-native-linuxapp-gcc Fail/Total: 0/3 To view detailed results, visit: https://lab.dpdk.org/results/dashboard/patchsets/15087/ UNH-IOL DPDK Community Lab To manage your email subscriptions, visit: https://lab.dpdk.org/results/dashboard/preferences/subscriptions/
[-- Attachment #1: Type: text/plain, Size: 1918 bytes --] Test-Label: iol-intel-Performance Test-Status: SUCCESS http://dpdk.org/patch/86280 _Performance Testing PASS_ Submitter: Haiyue Wang <haiyue.wang@intel.com> Date: Monday, January 11 2021 13:34:06 DPDK git baseline: Repo:dpdk Branch: master CommitID:86d8b57e37eaea344870ffdf7dd6ead814204096 86278-86280 --> performance testing pass Test environment and result as below: Ubuntu 18.04 Kernel: 4.15.0-generic Compiler: gcc 7.4 NIC: Intel Corporation Ethernet Converged Network Adapter XL710-QDA2 40000 Mbps Target: x86_64-native-linuxapp-gcc Fail/Total: 0/2 Detail performance results: +------------+---------+-------------------------------------+ | frame_size | txd/rxd | throughput difference from expected | +============+=========+=====================================+ | 64 | 512 | 3.023 | +------------+---------+-------------------------------------+ | 64 | 2048 | 2.141 | +------------+---------+-------------------------------------+ Ubuntu 18.04 Kernel: 4.15.0-generic Compiler: gcc 7.4 NIC: Intel Corporation Ethernet Converged Network Adapter 82599ES 10000 Mbps Target: x86_64-native-linuxapp-gcc Fail/Total: 0/2 Detail performance results: +------------+---------+-------------------------------------+ | frame_size | txd/rxd | throughput difference from expected | +============+=========+=====================================+ | 64 | 512 | 1.988 | +------------+---------+-------------------------------------+ | 64 | 2048 | 0.970 | +------------+---------+-------------------------------------+ To view detailed results, visit: https://lab.dpdk.org/results/dashboard/patchsets/15087/ UNH-IOL DPDK Community Lab To manage your email subscriptions, visit: https://lab.dpdk.org/results/dashboard/preferences/subscriptions/
[-- Attachment #1: Type: text/plain, Size: 791 bytes --] Test-Label: iol-intel-Functional Test-Status: SUCCESS http://dpdk.org/patch/86280 _Functional Testing PASS_ Submitter: Haiyue Wang <haiyue.wang@intel.com> Date: Monday, January 11 2021 13:34:06 DPDK git baseline: Repo:dpdk Branch: master CommitID:86d8b57e37eaea344870ffdf7dd6ead814204096 86278-86280 --> functional testing pass Test environment and result as below: Ubuntu 18.04 Kernel: 4.15.0-generic Compiler: gcc 7.4 NIC: Intel Corporation Ethernet Converged Network Adapter XL710-QDA2 40000 Mbps Target: x86_64-native-linuxapp-gcc Fail/Total: 0/3 To view detailed results, visit: https://lab.dpdk.org/results/dashboard/patchsets/15087/ UNH-IOL DPDK Community Lab To manage your email subscriptions, visit: https://lab.dpdk.org/results/dashboard/preferences/subscriptions/
[-- Attachment #1: Type: text/plain, Size: 1918 bytes --] Test-Label: iol-intel-Performance Test-Status: SUCCESS http://dpdk.org/patch/86280 _Performance Testing PASS_ Submitter: Haiyue Wang <haiyue.wang@intel.com> Date: Monday, January 11 2021 13:34:06 DPDK git baseline: Repo:dpdk Branch: master CommitID:86d8b57e37eaea344870ffdf7dd6ead814204096 86278-86280 --> performance testing pass Test environment and result as below: Ubuntu 18.04 Kernel: 4.15.0-generic Compiler: gcc 7.4 NIC: Intel Corporation Ethernet Converged Network Adapter XL710-QDA2 40000 Mbps Target: x86_64-native-linuxapp-gcc Fail/Total: 0/2 Detail performance results: +------------+---------+-------------------------------------+ | frame_size | txd/rxd | throughput difference from expected | +============+=========+=====================================+ | 64 | 512 | 2.855 | +------------+---------+-------------------------------------+ | 64 | 2048 | 2.157 | +------------+---------+-------------------------------------+ Ubuntu 18.04 Kernel: 4.15.0-generic Compiler: gcc 7.4 NIC: Intel Corporation Ethernet Converged Network Adapter 82599ES 10000 Mbps Target: x86_64-native-linuxapp-gcc Fail/Total: 0/2 Detail performance results: +------------+---------+-------------------------------------+ | frame_size | txd/rxd | throughput difference from expected | +============+=========+=====================================+ | 64 | 512 | 2.213 | +------------+---------+-------------------------------------+ | 64 | 2048 | 1.131 | +------------+---------+-------------------------------------+ To view detailed results, visit: https://lab.dpdk.org/results/dashboard/patchsets/15087/ UNH-IOL DPDK Community Lab To manage your email subscriptions, visit: https://lab.dpdk.org/results/dashboard/preferences/subscriptions/