* [dpdk-test-report] |SUCCESS| pw86385 [PATCH] [v1] lib/hash: support non sse42 cpu architecture
@ 2021-01-12 20:01 dpdklab
0 siblings, 0 replies; 13+ messages in thread
From: dpdklab @ 2021-01-12 20:01 UTC (permalink / raw)
To: Test Report; +Cc: dpdk-test-reports
[-- Attachment #1: Type: text/plain, Size: 786 bytes --]
Test-Label: iol-intel-Functional
Test-Status: SUCCESS
http://dpdk.org/patch/86385
_Functional Testing PASS_
Submitter: kumar amber <kumar.amber@intel.com>
Date: Tuesday, January 12 2021 07:24:46
DPDK git baseline: Repo:dpdk
Branch: master
CommitID:b1fd151267e6791a7649090c185413293549d033
86385 --> functional testing pass
Test environment and result as below:
Ubuntu 18.04
Kernel: 4.15.0-generic
Compiler: gcc 7.4
NIC: Intel Corporation Ethernet Converged Network Adapter XL710-QDA2 40000 Mbps
Target: x86_64-native-linuxapp-gcc
Fail/Total: 0/3
To view detailed results, visit:
https://lab.dpdk.org/results/dashboard/patchsets/15118/
UNH-IOL DPDK Community Lab
To manage your email subscriptions, visit:
https://lab.dpdk.org/results/dashboard/preferences/subscriptions/
^ permalink raw reply [flat|nested] 13+ messages in thread
* [dpdk-test-report] |SUCCESS| pw86385 [PATCH] [v1] lib/hash: support non sse42 cpu architecture
@ 2021-01-13 3:56 dpdklab
0 siblings, 0 replies; 13+ messages in thread
From: dpdklab @ 2021-01-13 3:56 UTC (permalink / raw)
To: Test Report; +Cc: dpdk-test-reports
[-- Attachment #1: Type: text/plain, Size: 2995 bytes --]
Test-Label: iol-testing
Test-Status: SUCCESS
http://dpdk.org/patch/86385
_Testing PASS_
Submitter: kumar amber <kumar.amber@intel.com>
Date: Tuesday, January 12 2021 07:24:46
DPDK git baseline: Repo:dpdk
Branch: master
CommitID:b1fd151267e6791a7649090c185413293549d033
86385 --> testing pass
Test environment and result as below:
+---------------------+----------------------+--------------------+-------------------+----------------+
| Environment | dpdk_mingw64_compile | dpdk_meson_compile | dpdk_compile_spdk | dpdk_unit_test |
+=====================+======================+====================+===================+================+
| Windows Server 2019 | PASS | PASS | SKIPPED | SKIPPED |
+---------------------+----------------------+--------------------+-------------------+----------------+
| FreeBSD 11.2 | SKIPPED | PASS | SKIPPED | SKIPPED |
+---------------------+----------------------+--------------------+-------------------+----------------+
| CentOS 8 | SKIPPED | PASS | SKIPPED | SKIPPED |
+---------------------+----------------------+--------------------+-------------------+----------------+
| Fedora 31 | SKIPPED | PASS | PASS | SKIPPED |
+---------------------+----------------------+--------------------+-------------------+----------------+
| openSUSE Leap 15 | SKIPPED | PASS | SKIPPED | SKIPPED |
+---------------------+----------------------+--------------------+-------------------+----------------+
| Arch Linux | SKIPPED | PASS | SKIPPED | SKIPPED |
+---------------------+----------------------+--------------------+-------------------+----------------+
| Ubuntu 18.04 | SKIPPED | PASS | PASS | PASS |
+---------------------+----------------------+--------------------+-------------------+----------------+
| Ubuntu 18.04 ARM | SKIPPED | PASS | SKIPPED | SKIPPED |
+---------------------+----------------------+--------------------+-------------------+----------------+
Windows Server 2019
Kernel: 10.0
Compiler: clang 9.0
FreeBSD 11.2
Kernel: 11.2
Compiler: gcc 8.3
CentOS 8
Kernel: 4.18.0.el8_0
Compiler: gcc 8.3.1
Fedora 31
Kernel: 5.3.16
Compiler: gcc 9.2.1
openSUSE Leap 15
Kernel: 4.12.14
Compiler: gcc 7.4.1
Arch Linux
Kernel: latest
Compiler: gcc latest
Ubuntu 18.04
Kernel: 4.15.0-generic
Compiler: gcc 7.5
Ubuntu 18.04 ARM
Kernel: 5.4.0-53-generic
Compiler: gcc 9.3
To view detailed results, visit:
https://lab.dpdk.org/results/dashboard/patchsets/15118/
UNH-IOL DPDK Community Lab
To manage your email subscriptions, visit:
https://lab.dpdk.org/results/dashboard/preferences/subscriptions/
^ permalink raw reply [flat|nested] 13+ messages in thread
* [dpdk-test-report] |SUCCESS| pw86385 [PATCH] [v1] lib/hash: support non sse42 cpu architecture
@ 2021-01-13 3:56 dpdklab
0 siblings, 0 replies; 13+ messages in thread
From: dpdklab @ 2021-01-13 3:56 UTC (permalink / raw)
To: Test Report; +Cc: dpdk-test-reports
[-- Attachment #1: Type: text/plain, Size: 918 bytes --]
Test-Label: iol-abi-testing
Test-Status: SUCCESS
http://dpdk.org/patch/86385
_Testing PASS_
Submitter: kumar amber <kumar.amber@intel.com>
Date: Tuesday, January 12 2021 07:24:46
DPDK git baseline: Repo:dpdk
Branch: master
CommitID:b1fd151267e6791a7649090c185413293549d033
86385 --> testing pass
Test environment and result as below:
+------------------+----------+
| Environment | abi_test |
+==================+==========+
| Ubuntu 18.04 | PASS |
+------------------+----------+
| Ubuntu 18.04 ARM | PASS |
+------------------+----------+
Ubuntu 18.04
Kernel: 4.15.0-generic
Compiler: gcc 7.5
Ubuntu 18.04 ARM
Kernel: 5.4.0-53-generic
Compiler: gcc 9.3
To view detailed results, visit:
https://lab.dpdk.org/results/dashboard/patchsets/15118/
UNH-IOL DPDK Community Lab
To manage your email subscriptions, visit:
https://lab.dpdk.org/results/dashboard/preferences/subscriptions/
^ permalink raw reply [flat|nested] 13+ messages in thread
* [dpdk-test-report] |SUCCESS| pw86385 [PATCH] [v1] lib/hash: support non sse42 cpu architecture
@ 2021-01-13 2:35 dpdklab
0 siblings, 0 replies; 13+ messages in thread
From: dpdklab @ 2021-01-13 2:35 UTC (permalink / raw)
To: Test Report; +Cc: dpdk-test-reports
[-- Attachment #1: Type: text/plain, Size: 2995 bytes --]
Test-Label: iol-testing
Test-Status: SUCCESS
http://dpdk.org/patch/86385
_Testing PASS_
Submitter: kumar amber <kumar.amber@intel.com>
Date: Tuesday, January 12 2021 07:24:46
DPDK git baseline: Repo:dpdk
Branch: master
CommitID:b1fd151267e6791a7649090c185413293549d033
86385 --> testing pass
Test environment and result as below:
+---------------------+----------------------+--------------------+-------------------+----------------+
| Environment | dpdk_mingw64_compile | dpdk_meson_compile | dpdk_compile_spdk | dpdk_unit_test |
+=====================+======================+====================+===================+================+
| Windows Server 2019 | PASS | PASS | SKIPPED | SKIPPED |
+---------------------+----------------------+--------------------+-------------------+----------------+
| FreeBSD 11.2 | SKIPPED | PASS | SKIPPED | SKIPPED |
+---------------------+----------------------+--------------------+-------------------+----------------+
| CentOS 8 | SKIPPED | PASS | SKIPPED | SKIPPED |
+---------------------+----------------------+--------------------+-------------------+----------------+
| Fedora 31 | SKIPPED | PASS | PASS | SKIPPED |
+---------------------+----------------------+--------------------+-------------------+----------------+
| openSUSE Leap 15 | SKIPPED | PASS | SKIPPED | SKIPPED |
+---------------------+----------------------+--------------------+-------------------+----------------+
| Arch Linux | SKIPPED | PASS | SKIPPED | SKIPPED |
+---------------------+----------------------+--------------------+-------------------+----------------+
| Ubuntu 18.04 | SKIPPED | PASS | PASS | PASS |
+---------------------+----------------------+--------------------+-------------------+----------------+
| Ubuntu 18.04 ARM | SKIPPED | PASS | SKIPPED | SKIPPED |
+---------------------+----------------------+--------------------+-------------------+----------------+
Windows Server 2019
Kernel: 10.0
Compiler: clang 9.0
FreeBSD 11.2
Kernel: 11.2
Compiler: gcc 8.3
CentOS 8
Kernel: 4.18.0.el8_0
Compiler: gcc 8.3.1
Fedora 31
Kernel: 5.3.16
Compiler: gcc 9.2.1
openSUSE Leap 15
Kernel: 4.12.14
Compiler: gcc 7.4.1
Arch Linux
Kernel: latest
Compiler: gcc latest
Ubuntu 18.04
Kernel: 4.15.0-generic
Compiler: gcc 7.5
Ubuntu 18.04 ARM
Kernel: 5.4.0-53-generic
Compiler: gcc 9.3
To view detailed results, visit:
https://lab.dpdk.org/results/dashboard/patchsets/15118/
UNH-IOL DPDK Community Lab
To manage your email subscriptions, visit:
https://lab.dpdk.org/results/dashboard/preferences/subscriptions/
^ permalink raw reply [flat|nested] 13+ messages in thread
* [dpdk-test-report] |SUCCESS| pw86385 [PATCH] [v1] lib/hash: support non sse42 cpu architecture
@ 2021-01-13 2:35 dpdklab
0 siblings, 0 replies; 13+ messages in thread
From: dpdklab @ 2021-01-13 2:35 UTC (permalink / raw)
To: Test Report; +Cc: dpdk-test-reports
[-- Attachment #1: Type: text/plain, Size: 918 bytes --]
Test-Label: iol-abi-testing
Test-Status: SUCCESS
http://dpdk.org/patch/86385
_Testing PASS_
Submitter: kumar amber <kumar.amber@intel.com>
Date: Tuesday, January 12 2021 07:24:46
DPDK git baseline: Repo:dpdk
Branch: master
CommitID:b1fd151267e6791a7649090c185413293549d033
86385 --> testing pass
Test environment and result as below:
+------------------+----------+
| Environment | abi_test |
+==================+==========+
| Ubuntu 18.04 | PASS |
+------------------+----------+
| Ubuntu 18.04 ARM | PASS |
+------------------+----------+
Ubuntu 18.04
Kernel: 4.15.0-generic
Compiler: gcc 7.5
Ubuntu 18.04 ARM
Kernel: 5.4.0-53-generic
Compiler: gcc 9.3
To view detailed results, visit:
https://lab.dpdk.org/results/dashboard/patchsets/15118/
UNH-IOL DPDK Community Lab
To manage your email subscriptions, visit:
https://lab.dpdk.org/results/dashboard/preferences/subscriptions/
^ permalink raw reply [flat|nested] 13+ messages in thread
* [dpdk-test-report] |SUCCESS| pw86385 [PATCH] [v1] lib/hash: support non sse42 cpu architecture
@ 2021-01-12 19:51 dpdklab
0 siblings, 0 replies; 13+ messages in thread
From: dpdklab @ 2021-01-12 19:51 UTC (permalink / raw)
To: Test Report; +Cc: dpdk-test-reports
[-- Attachment #1: Type: text/plain, Size: 1913 bytes --]
Test-Label: iol-intel-Performance
Test-Status: SUCCESS
http://dpdk.org/patch/86385
_Performance Testing PASS_
Submitter: kumar amber <kumar.amber@intel.com>
Date: Tuesday, January 12 2021 07:24:46
DPDK git baseline: Repo:dpdk
Branch: master
CommitID:b1fd151267e6791a7649090c185413293549d033
86385 --> performance testing pass
Test environment and result as below:
Ubuntu 18.04
Kernel: 4.15.0-generic
Compiler: gcc 7.4
NIC: Intel Corporation Ethernet Converged Network Adapter 82599ES 10000 Mbps
Target: x86_64-native-linuxapp-gcc
Fail/Total: 0/2
Detail performance results:
+------------+---------+-------------------------------------+
| frame_size | txd/rxd | throughput difference from expected |
+============+=========+=====================================+
| 64 | 512 | 1.886 |
+------------+---------+-------------------------------------+
| 64 | 2048 | 1.251 |
+------------+---------+-------------------------------------+
Ubuntu 18.04
Kernel: 4.15.0-generic
Compiler: gcc 7.4
NIC: Intel Corporation Ethernet Converged Network Adapter XL710-QDA2 40000 Mbps
Target: x86_64-native-linuxapp-gcc
Fail/Total: 0/2
Detail performance results:
+------------+---------+-------------------------------------+
| frame_size | txd/rxd | throughput difference from expected |
+============+=========+=====================================+
| 64 | 512 | 2.561 |
+------------+---------+-------------------------------------+
| 64 | 2048 | 2.011 |
+------------+---------+-------------------------------------+
To view detailed results, visit:
https://lab.dpdk.org/results/dashboard/patchsets/15118/
UNH-IOL DPDK Community Lab
To manage your email subscriptions, visit:
https://lab.dpdk.org/results/dashboard/preferences/subscriptions/
^ permalink raw reply [flat|nested] 13+ messages in thread
* [dpdk-test-report] |SUCCESS| pw86385 [PATCH] [v1] lib/hash: support non sse42 cpu architecture
@ 2021-01-12 19:38 dpdklab
0 siblings, 0 replies; 13+ messages in thread
From: dpdklab @ 2021-01-12 19:38 UTC (permalink / raw)
To: Test Report; +Cc: dpdk-test-reports
[-- Attachment #1: Type: text/plain, Size: 786 bytes --]
Test-Label: iol-intel-Functional
Test-Status: SUCCESS
http://dpdk.org/patch/86385
_Functional Testing PASS_
Submitter: kumar amber <kumar.amber@intel.com>
Date: Tuesday, January 12 2021 07:24:46
DPDK git baseline: Repo:dpdk
Branch: master
CommitID:b1fd151267e6791a7649090c185413293549d033
86385 --> functional testing pass
Test environment and result as below:
Ubuntu 18.04
Kernel: 4.15.0-generic
Compiler: gcc 7.4
NIC: Intel Corporation Ethernet Converged Network Adapter XL710-QDA2 40000 Mbps
Target: x86_64-native-linuxapp-gcc
Fail/Total: 0/3
To view detailed results, visit:
https://lab.dpdk.org/results/dashboard/patchsets/15118/
UNH-IOL DPDK Community Lab
To manage your email subscriptions, visit:
https://lab.dpdk.org/results/dashboard/preferences/subscriptions/
^ permalink raw reply [flat|nested] 13+ messages in thread
* [dpdk-test-report] |SUCCESS| pw86385 [PATCH] [v1] lib/hash: support non sse42 cpu architecture
@ 2021-01-12 19:28 dpdklab
0 siblings, 0 replies; 13+ messages in thread
From: dpdklab @ 2021-01-12 19:28 UTC (permalink / raw)
To: Test Report; +Cc: dpdk-test-reports
[-- Attachment #1: Type: text/plain, Size: 1913 bytes --]
Test-Label: iol-intel-Performance
Test-Status: SUCCESS
http://dpdk.org/patch/86385
_Performance Testing PASS_
Submitter: kumar amber <kumar.amber@intel.com>
Date: Tuesday, January 12 2021 07:24:46
DPDK git baseline: Repo:dpdk
Branch: master
CommitID:b1fd151267e6791a7649090c185413293549d033
86385 --> performance testing pass
Test environment and result as below:
Ubuntu 18.04
Kernel: 4.15.0-generic
Compiler: gcc 7.4
NIC: Intel Corporation Ethernet Converged Network Adapter 82599ES 10000 Mbps
Target: x86_64-native-linuxapp-gcc
Fail/Total: 0/2
Detail performance results:
+------------+---------+-------------------------------------+
| frame_size | txd/rxd | throughput difference from expected |
+============+=========+=====================================+
| 64 | 512 | 1.962 |
+------------+---------+-------------------------------------+
| 64 | 2048 | 1.079 |
+------------+---------+-------------------------------------+
Ubuntu 18.04
Kernel: 4.15.0-generic
Compiler: gcc 7.4
NIC: Intel Corporation Ethernet Converged Network Adapter XL710-QDA2 40000 Mbps
Target: x86_64-native-linuxapp-gcc
Fail/Total: 0/2
Detail performance results:
+------------+---------+-------------------------------------+
| frame_size | txd/rxd | throughput difference from expected |
+============+=========+=====================================+
| 64 | 512 | 2.900 |
+------------+---------+-------------------------------------+
| 64 | 2048 | 2.078 |
+------------+---------+-------------------------------------+
To view detailed results, visit:
https://lab.dpdk.org/results/dashboard/patchsets/15118/
UNH-IOL DPDK Community Lab
To manage your email subscriptions, visit:
https://lab.dpdk.org/results/dashboard/preferences/subscriptions/
^ permalink raw reply [flat|nested] 13+ messages in thread
* [dpdk-test-report] |SUCCESS| pw86385 [PATCH] [v1] lib/hash: support non sse42 cpu architecture
@ 2021-01-12 8:55 dpdklab
0 siblings, 0 replies; 13+ messages in thread
From: dpdklab @ 2021-01-12 8:55 UTC (permalink / raw)
To: Ajit Khaparde, Test Report; +Cc: dpdk-test-reports
[-- Attachment #1: Type: text/plain, Size: 1264 bytes --]
Test-Label: iol-broadcom-Performance
Test-Status: SUCCESS
http://dpdk.org/patch/86385
_Performance Testing PASS_
Submitter: kumar amber <kumar.amber@intel.com>
Date: Tuesday, January 12 2021 07:24:46
DPDK git baseline: Repo:dpdk
Branch: master
CommitID:b1fd151267e6791a7649090c185413293549d033
86385 --> performance testing pass
Test environment and result as below:
Ubuntu 18.04
Kernel: 4.15.0-65-generic
Compiler: gcc gcc (Ubuntu 7.4.0-1ubuntu1~18.04.1) 7.4.0
NIC: Broadcom Inc. brcm_57414 25000 Mbps
Target: x86_64-native-linuxapp-gcc
Fail/Total: 0/2
Detail performance results:
+------------+---------+-------------------------------------+
| frame_size | txd/rxd | throughput difference from expected |
+============+=========+=====================================+
| 64 | 512 | 0.091 |
+------------+---------+-------------------------------------+
| 64 | 2048 | 0.010 |
+------------+---------+-------------------------------------+
To view detailed results, visit:
https://lab.dpdk.org/results/dashboard/patchsets/15118/
UNH-IOL DPDK Community Lab
To manage your email subscriptions, visit:
https://lab.dpdk.org/results/dashboard/preferences/subscriptions/
^ permalink raw reply [flat|nested] 13+ messages in thread
* [dpdk-test-report] |SUCCESS| pw86385 [PATCH] [v1] lib/hash: support non sse42 cpu architecture
@ 2021-01-12 8:49 dpdklab
0 siblings, 0 replies; 13+ messages in thread
From: dpdklab @ 2021-01-12 8:49 UTC (permalink / raw)
To: Ajit Khaparde, Test Report; +Cc: dpdk-test-reports
[-- Attachment #1: Type: text/plain, Size: 791 bytes --]
Test-Label: iol-broadcom-Functional
Test-Status: SUCCESS
http://dpdk.org/patch/86385
_Functional Testing PASS_
Submitter: kumar amber <kumar.amber@intel.com>
Date: Tuesday, January 12 2021 07:24:46
DPDK git baseline: Repo:dpdk
Branch: master
CommitID:b1fd151267e6791a7649090c185413293549d033
86385 --> functional testing pass
Test environment and result as below:
Ubuntu 18.04
Kernel: 4.15.0-65-generic
Compiler: gcc gcc (Ubuntu 7.4.0-1ubuntu1~18.04.1) 7.4.0
NIC: Broadcom Inc. brcm_57414 25000 Mbps
Target: x86_64-native-linuxapp-gcc
Fail/Total: 0/3
To view detailed results, visit:
https://lab.dpdk.org/results/dashboard/patchsets/15118/
UNH-IOL DPDK Community Lab
To manage your email subscriptions, visit:
https://lab.dpdk.org/results/dashboard/preferences/subscriptions/
^ permalink raw reply [flat|nested] 13+ messages in thread
* [dpdk-test-report] |SUCCESS| pw86385 [PATCH] [v1] lib/hash: support non sse42 cpu architecture
@ 2021-01-12 8:22 dpdklab
0 siblings, 0 replies; 13+ messages in thread
From: dpdklab @ 2021-01-12 8:22 UTC (permalink / raw)
To: Ajit Khaparde, Test Report; +Cc: dpdk-test-reports
[-- Attachment #1: Type: text/plain, Size: 791 bytes --]
Test-Label: iol-broadcom-Functional
Test-Status: SUCCESS
http://dpdk.org/patch/86385
_Functional Testing PASS_
Submitter: kumar amber <kumar.amber@intel.com>
Date: Tuesday, January 12 2021 07:24:46
DPDK git baseline: Repo:dpdk
Branch: master
CommitID:b1fd151267e6791a7649090c185413293549d033
86385 --> functional testing pass
Test environment and result as below:
Ubuntu 18.04
Kernel: 4.15.0-65-generic
Compiler: gcc gcc (Ubuntu 7.4.0-1ubuntu1~18.04.1) 7.4.0
NIC: Broadcom Inc. brcm_57414 25000 Mbps
Target: x86_64-native-linuxapp-gcc
Fail/Total: 0/3
To view detailed results, visit:
https://lab.dpdk.org/results/dashboard/patchsets/15118/
UNH-IOL DPDK Community Lab
To manage your email subscriptions, visit:
https://lab.dpdk.org/results/dashboard/preferences/subscriptions/
^ permalink raw reply [flat|nested] 13+ messages in thread
* [dpdk-test-report] |SUCCESS| pw86385 [PATCH] [v1] lib/hash: support non sse42 cpu architecture
@ 2021-01-12 8:14 dpdklab
0 siblings, 0 replies; 13+ messages in thread
From: dpdklab @ 2021-01-12 8:14 UTC (permalink / raw)
To: Ajit Khaparde, Test Report; +Cc: dpdk-test-reports
[-- Attachment #1: Type: text/plain, Size: 1264 bytes --]
Test-Label: iol-broadcom-Performance
Test-Status: SUCCESS
http://dpdk.org/patch/86385
_Performance Testing PASS_
Submitter: kumar amber <kumar.amber@intel.com>
Date: Tuesday, January 12 2021 07:24:46
DPDK git baseline: Repo:dpdk
Branch: master
CommitID:b1fd151267e6791a7649090c185413293549d033
86385 --> performance testing pass
Test environment and result as below:
Ubuntu 18.04
Kernel: 4.15.0-65-generic
Compiler: gcc gcc (Ubuntu 7.4.0-1ubuntu1~18.04.1) 7.4.0
NIC: Broadcom Inc. brcm_57414 25000 Mbps
Target: x86_64-native-linuxapp-gcc
Fail/Total: 0/2
Detail performance results:
+------------+---------+-------------------------------------+
| frame_size | txd/rxd | throughput difference from expected |
+============+=========+=====================================+
| 64 | 512 | 0.090 |
+------------+---------+-------------------------------------+
| 64 | 2048 | 0.007 |
+------------+---------+-------------------------------------+
To view detailed results, visit:
https://lab.dpdk.org/results/dashboard/patchsets/15118/
UNH-IOL DPDK Community Lab
To manage your email subscriptions, visit:
https://lab.dpdk.org/results/dashboard/preferences/subscriptions/
^ permalink raw reply [flat|nested] 13+ messages in thread
[parent not found: <20210112072446.880122-1-kumar.amber@intel.com>]
end of thread, other threads:[~2021-01-13 3:56 UTC | newest]
Thread overview: 13+ messages (download: mbox.gz / follow: Atom feed)
-- links below jump to the message on this page --
2021-01-12 20:01 [dpdk-test-report] |SUCCESS| pw86385 [PATCH] [v1] lib/hash: support non sse42 cpu architecture dpdklab
-- strict thread matches above, loose matches on Subject: below --
2021-01-13 3:56 dpdklab
2021-01-13 3:56 dpdklab
2021-01-13 2:35 dpdklab
2021-01-13 2:35 dpdklab
2021-01-12 19:51 dpdklab
2021-01-12 19:38 dpdklab
2021-01-12 19:28 dpdklab
2021-01-12 8:55 dpdklab
2021-01-12 8:49 dpdklab
2021-01-12 8:22 dpdklab
2021-01-12 8:14 dpdklab
[not found] <20210112072446.880122-1-kumar.amber@intel.com>
2021-01-12 7:34 ` [dpdk-test-report] |SUCCESS| pw86385 [PATCH v1] " checkpatch
This is a public inbox, see mirroring instructions
for how to clone and mirror all data and code used for this inbox;
as well as URLs for NNTP newsgroup(s).