automatic DPDK test reports
 help / color / mirror / Atom feed
* [dpdk-test-report] |SUCCESS| pw86436 [PATCH] [v2] bus/pci/windows: guard against sdk/dpdk guid collision
@ 2021-01-13  1:57 dpdklab
  0 siblings, 0 replies; 11+ messages in thread
From: dpdklab @ 2021-01-13  1:57 UTC (permalink / raw)
  To: Test Report; +Cc: dpdk-test-reports

[-- Attachment #1: Type: text/plain, Size: 796 bytes --]

Test-Label: iol-intel-Functional
Test-Status: SUCCESS
http://dpdk.org/patch/86436

_Functional Testing PASS_

Submitter: Tyler Retzlaff <roretzla@linux.microsoft.com>
Date: Tuesday, January 12 2021 22:41:51 
DPDK git baseline: Repo:dpdk
  Branch: master
  CommitID:9b27a37b847237bc7b4f8369e1dad2dce3cdbb44

86436 --> functional testing pass

Test environment and result as below:

Ubuntu 18.04
Kernel: 4.15.0-generic
Compiler: gcc 7.4
NIC: Intel Corporation Ethernet Converged Network Adapter XL710-QDA2 40000 Mbps
Target: x86_64-native-linuxapp-gcc
Fail/Total: 0/3


To view detailed results, visit:
https://lab.dpdk.org/results/dashboard/patchsets/15132/

UNH-IOL DPDK Community Lab

To manage your email subscriptions, visit: 
https://lab.dpdk.org/results/dashboard/preferences/subscriptions/

^ permalink raw reply	[flat|nested] 11+ messages in thread

* [dpdk-test-report] |SUCCESS| pw86436 [PATCH] [v2] bus/pci/windows: guard against sdk/dpdk guid collision
@ 2021-01-14 15:24 dpdklab
  0 siblings, 0 replies; 11+ messages in thread
From: dpdklab @ 2021-01-14 15:24 UTC (permalink / raw)
  To: Test Report; +Cc: dpdk-test-reports

[-- Attachment #1: Type: text/plain, Size: 928 bytes --]

Test-Label: iol-abi-testing
Test-Status: SUCCESS
http://dpdk.org/patch/86436

_Testing PASS_

Submitter: Tyler Retzlaff <roretzla@linux.microsoft.com>
Date: Tuesday, January 12 2021 22:41:51 
DPDK git baseline: Repo:dpdk
  Branch: master
  CommitID:9b27a37b847237bc7b4f8369e1dad2dce3cdbb44

86436 --> testing pass

Test environment and result as below:

+------------------+----------+
|   Environment    | abi_test |
+==================+==========+
| Ubuntu 18.04     | PASS     |
+------------------+----------+
| Ubuntu 18.04 ARM | PASS     |
+------------------+----------+


Ubuntu 18.04
	Kernel: 4.15.0-generic
	Compiler: gcc 7.5

Ubuntu 18.04 ARM
	Kernel: 5.4.0-53-generic
	Compiler: gcc 9.3

To view detailed results, visit:
https://lab.dpdk.org/results/dashboard/patchsets/15132/

UNH-IOL DPDK Community Lab

To manage your email subscriptions, visit: 
https://lab.dpdk.org/results/dashboard/preferences/subscriptions/

^ permalink raw reply	[flat|nested] 11+ messages in thread

* [dpdk-test-report] |SUCCESS| pw86436 [PATCH] [v2] bus/pci/windows: guard against sdk/dpdk guid collision
@ 2021-01-14 13:54 dpdklab
  0 siblings, 0 replies; 11+ messages in thread
From: dpdklab @ 2021-01-14 13:54 UTC (permalink / raw)
  To: Test Report; +Cc: dpdk-test-reports

[-- Attachment #1: Type: text/plain, Size: 928 bytes --]

Test-Label: iol-abi-testing
Test-Status: SUCCESS
http://dpdk.org/patch/86436

_Testing PASS_

Submitter: Tyler Retzlaff <roretzla@linux.microsoft.com>
Date: Tuesday, January 12 2021 22:41:51 
DPDK git baseline: Repo:dpdk
  Branch: master
  CommitID:9b27a37b847237bc7b4f8369e1dad2dce3cdbb44

86436 --> testing pass

Test environment and result as below:

+------------------+----------+
|   Environment    | abi_test |
+==================+==========+
| Ubuntu 18.04     | PASS     |
+------------------+----------+
| Ubuntu 18.04 ARM | PASS     |
+------------------+----------+


Ubuntu 18.04
	Kernel: 4.15.0-generic
	Compiler: gcc 7.5

Ubuntu 18.04 ARM
	Kernel: 5.4.0-53-generic
	Compiler: gcc 9.3

To view detailed results, visit:
https://lab.dpdk.org/results/dashboard/patchsets/15132/

UNH-IOL DPDK Community Lab

To manage your email subscriptions, visit: 
https://lab.dpdk.org/results/dashboard/preferences/subscriptions/

^ permalink raw reply	[flat|nested] 11+ messages in thread

* [dpdk-test-report] |SUCCESS| pw86436 [PATCH] [v2] bus/pci/windows: guard against sdk/dpdk guid collision
@ 2021-01-13  2:34 dpdklab
  0 siblings, 0 replies; 11+ messages in thread
From: dpdklab @ 2021-01-13  2:34 UTC (permalink / raw)
  To: Test Report; +Cc: dpdk-test-reports

[-- Attachment #1: Type: text/plain, Size: 1923 bytes --]

Test-Label: iol-intel-Performance
Test-Status: SUCCESS
http://dpdk.org/patch/86436

_Performance Testing PASS_

Submitter: Tyler Retzlaff <roretzla@linux.microsoft.com>
Date: Tuesday, January 12 2021 22:41:51 
DPDK git baseline: Repo:dpdk
  Branch: master
  CommitID:9b27a37b847237bc7b4f8369e1dad2dce3cdbb44

86436 --> performance testing pass

Test environment and result as below:

Ubuntu 18.04
Kernel: 4.15.0-generic
Compiler: gcc 7.4
NIC: Intel Corporation Ethernet Converged Network Adapter 82599ES 10000 Mbps
Target: x86_64-native-linuxapp-gcc
Fail/Total: 0/2

Detail performance results: 
+------------+---------+-------------------------------------+
| frame_size | txd/rxd | throughput difference from expected |
+============+=========+=====================================+
| 64         | 512     | 1.936                               |
+------------+---------+-------------------------------------+
| 64         | 2048    | 0.882                               |
+------------+---------+-------------------------------------+

Ubuntu 18.04
Kernel: 4.15.0-generic
Compiler: gcc 7.4
NIC: Intel Corporation Ethernet Converged Network Adapter XL710-QDA2 40000 Mbps
Target: x86_64-native-linuxapp-gcc
Fail/Total: 0/2

Detail performance results: 
+------------+---------+-------------------------------------+
| frame_size | txd/rxd | throughput difference from expected |
+============+=========+=====================================+
| 64         | 512     | 2.704                               |
+------------+---------+-------------------------------------+
| 64         | 2048    | 2.095                               |
+------------+---------+-------------------------------------+

To view detailed results, visit:
https://lab.dpdk.org/results/dashboard/patchsets/15132/

UNH-IOL DPDK Community Lab

To manage your email subscriptions, visit: 
https://lab.dpdk.org/results/dashboard/preferences/subscriptions/

^ permalink raw reply	[flat|nested] 11+ messages in thread

* [dpdk-test-report] |SUCCESS| pw86436 [PATCH] [v2] bus/pci/windows: guard against sdk/dpdk guid collision
@ 2021-01-13  2:20 dpdklab
  0 siblings, 0 replies; 11+ messages in thread
From: dpdklab @ 2021-01-13  2:20 UTC (permalink / raw)
  To: Test Report; +Cc: dpdk-test-reports

[-- Attachment #1: Type: text/plain, Size: 796 bytes --]

Test-Label: iol-intel-Functional
Test-Status: SUCCESS
http://dpdk.org/patch/86436

_Functional Testing PASS_

Submitter: Tyler Retzlaff <roretzla@linux.microsoft.com>
Date: Tuesday, January 12 2021 22:41:51 
DPDK git baseline: Repo:dpdk
  Branch: master
  CommitID:9b27a37b847237bc7b4f8369e1dad2dce3cdbb44

86436 --> functional testing pass

Test environment and result as below:

Ubuntu 18.04
Kernel: 4.15.0-generic
Compiler: gcc 7.4
NIC: Intel Corporation Ethernet Converged Network Adapter XL710-QDA2 40000 Mbps
Target: x86_64-native-linuxapp-gcc
Fail/Total: 0/3


To view detailed results, visit:
https://lab.dpdk.org/results/dashboard/patchsets/15132/

UNH-IOL DPDK Community Lab

To manage your email subscriptions, visit: 
https://lab.dpdk.org/results/dashboard/preferences/subscriptions/

^ permalink raw reply	[flat|nested] 11+ messages in thread

* [dpdk-test-report] |SUCCESS| pw86436 [PATCH] [v2] bus/pci/windows: guard against sdk/dpdk guid collision
@ 2021-01-13  2:10 dpdklab
  0 siblings, 0 replies; 11+ messages in thread
From: dpdklab @ 2021-01-13  2:10 UTC (permalink / raw)
  To: Test Report; +Cc: dpdk-test-reports

[-- Attachment #1: Type: text/plain, Size: 1923 bytes --]

Test-Label: iol-intel-Performance
Test-Status: SUCCESS
http://dpdk.org/patch/86436

_Performance Testing PASS_

Submitter: Tyler Retzlaff <roretzla@linux.microsoft.com>
Date: Tuesday, January 12 2021 22:41:51 
DPDK git baseline: Repo:dpdk
  Branch: master
  CommitID:9b27a37b847237bc7b4f8369e1dad2dce3cdbb44

86436 --> performance testing pass

Test environment and result as below:

Ubuntu 18.04
Kernel: 4.15.0-generic
Compiler: gcc 7.4
NIC: Intel Corporation Ethernet Converged Network Adapter 82599ES 10000 Mbps
Target: x86_64-native-linuxapp-gcc
Fail/Total: 0/2

Detail performance results: 
+------------+---------+-------------------------------------+
| frame_size | txd/rxd | throughput difference from expected |
+============+=========+=====================================+
| 64         | 512     | 2.054                               |
+------------+---------+-------------------------------------+
| 64         | 2048    | 1.326                               |
+------------+---------+-------------------------------------+

Ubuntu 18.04
Kernel: 4.15.0-generic
Compiler: gcc 7.4
NIC: Intel Corporation Ethernet Converged Network Adapter XL710-QDA2 40000 Mbps
Target: x86_64-native-linuxapp-gcc
Fail/Total: 0/2

Detail performance results: 
+------------+---------+-------------------------------------+
| frame_size | txd/rxd | throughput difference from expected |
+============+=========+=====================================+
| 64         | 512     | 2.725                               |
+------------+---------+-------------------------------------+
| 64         | 2048    | 2.167                               |
+------------+---------+-------------------------------------+

To view detailed results, visit:
https://lab.dpdk.org/results/dashboard/patchsets/15132/

UNH-IOL DPDK Community Lab

To manage your email subscriptions, visit: 
https://lab.dpdk.org/results/dashboard/preferences/subscriptions/

^ permalink raw reply	[flat|nested] 11+ messages in thread

* [dpdk-test-report] |SUCCESS| pw86436 [PATCH] [v2] bus/pci/windows: guard against sdk/dpdk guid collision
@ 2021-01-13  0:10 dpdklab
  0 siblings, 0 replies; 11+ messages in thread
From: dpdklab @ 2021-01-13  0:10 UTC (permalink / raw)
  To: Ajit Khaparde, Test Report; +Cc: dpdk-test-reports

[-- Attachment #1: Type: text/plain, Size: 801 bytes --]

Test-Label: iol-broadcom-Functional
Test-Status: SUCCESS
http://dpdk.org/patch/86436

_Functional Testing PASS_

Submitter: Tyler Retzlaff <roretzla@linux.microsoft.com>
Date: Tuesday, January 12 2021 22:41:51 
DPDK git baseline: Repo:dpdk
  Branch: master
  CommitID:9b27a37b847237bc7b4f8369e1dad2dce3cdbb44

86436 --> functional testing pass

Test environment and result as below:

Ubuntu 18.04
Kernel: 4.15.0-65-generic
Compiler: gcc gcc (Ubuntu 7.4.0-1ubuntu1~18.04.1) 7.4.0
NIC: Broadcom Inc. brcm_57414 25000 Mbps
Target: x86_64-native-linuxapp-gcc
Fail/Total: 0/3


To view detailed results, visit:
https://lab.dpdk.org/results/dashboard/patchsets/15132/

UNH-IOL DPDK Community Lab

To manage your email subscriptions, visit: 
https://lab.dpdk.org/results/dashboard/preferences/subscriptions/

^ permalink raw reply	[flat|nested] 11+ messages in thread

* [dpdk-test-report] |SUCCESS| pw86436 [PATCH] [v2] bus/pci/windows: guard against sdk/dpdk guid collision
@ 2021-01-13  0:01 dpdklab
  0 siblings, 0 replies; 11+ messages in thread
From: dpdklab @ 2021-01-13  0:01 UTC (permalink / raw)
  To: Ajit Khaparde, Test Report; +Cc: dpdk-test-reports

[-- Attachment #1: Type: text/plain, Size: 1274 bytes --]

Test-Label: iol-broadcom-Performance
Test-Status: SUCCESS
http://dpdk.org/patch/86436

_Performance Testing PASS_

Submitter: Tyler Retzlaff <roretzla@linux.microsoft.com>
Date: Tuesday, January 12 2021 22:41:51 
DPDK git baseline: Repo:dpdk
  Branch: master
  CommitID:9b27a37b847237bc7b4f8369e1dad2dce3cdbb44

86436 --> performance testing pass

Test environment and result as below:

Ubuntu 18.04
Kernel: 4.15.0-65-generic
Compiler: gcc gcc (Ubuntu 7.4.0-1ubuntu1~18.04.1) 7.4.0
NIC: Broadcom Inc. brcm_57414 25000 Mbps
Target: x86_64-native-linuxapp-gcc
Fail/Total: 0/2

Detail performance results: 
+------------+---------+-------------------------------------+
| frame_size | txd/rxd | throughput difference from expected |
+============+=========+=====================================+
| 64         | 512     | -0.010                              |
+------------+---------+-------------------------------------+
| 64         | 2048    | 0.029                               |
+------------+---------+-------------------------------------+

To view detailed results, visit:
https://lab.dpdk.org/results/dashboard/patchsets/15132/

UNH-IOL DPDK Community Lab

To manage your email subscriptions, visit: 
https://lab.dpdk.org/results/dashboard/preferences/subscriptions/

^ permalink raw reply	[flat|nested] 11+ messages in thread

* [dpdk-test-report] |SUCCESS| pw86436 [PATCH] [v2] bus/pci/windows: guard against sdk/dpdk guid collision
@ 2021-01-12 23:55 dpdklab
  0 siblings, 0 replies; 11+ messages in thread
From: dpdklab @ 2021-01-12 23:55 UTC (permalink / raw)
  To: Ajit Khaparde, Test Report; +Cc: dpdk-test-reports

[-- Attachment #1: Type: text/plain, Size: 801 bytes --]

Test-Label: iol-broadcom-Functional
Test-Status: SUCCESS
http://dpdk.org/patch/86436

_Functional Testing PASS_

Submitter: Tyler Retzlaff <roretzla@linux.microsoft.com>
Date: Tuesday, January 12 2021 22:41:51 
DPDK git baseline: Repo:dpdk
  Branch: master
  CommitID:9b27a37b847237bc7b4f8369e1dad2dce3cdbb44

86436 --> functional testing pass

Test environment and result as below:

Ubuntu 18.04
Kernel: 4.15.0-65-generic
Compiler: gcc gcc (Ubuntu 7.4.0-1ubuntu1~18.04.1) 7.4.0
NIC: Broadcom Inc. brcm_57414 25000 Mbps
Target: x86_64-native-linuxapp-gcc
Fail/Total: 0/3


To view detailed results, visit:
https://lab.dpdk.org/results/dashboard/patchsets/15132/

UNH-IOL DPDK Community Lab

To manage your email subscriptions, visit: 
https://lab.dpdk.org/results/dashboard/preferences/subscriptions/

^ permalink raw reply	[flat|nested] 11+ messages in thread

* [dpdk-test-report] |SUCCESS| pw86436 [PATCH] [v2] bus/pci/windows: guard against sdk/dpdk guid collision
@ 2021-01-12 23:47 dpdklab
  0 siblings, 0 replies; 11+ messages in thread
From: dpdklab @ 2021-01-12 23:47 UTC (permalink / raw)
  To: Ajit Khaparde, Test Report; +Cc: dpdk-test-reports

[-- Attachment #1: Type: text/plain, Size: 1274 bytes --]

Test-Label: iol-broadcom-Performance
Test-Status: SUCCESS
http://dpdk.org/patch/86436

_Performance Testing PASS_

Submitter: Tyler Retzlaff <roretzla@linux.microsoft.com>
Date: Tuesday, January 12 2021 22:41:51 
DPDK git baseline: Repo:dpdk
  Branch: master
  CommitID:9b27a37b847237bc7b4f8369e1dad2dce3cdbb44

86436 --> performance testing pass

Test environment and result as below:

Ubuntu 18.04
Kernel: 4.15.0-65-generic
Compiler: gcc gcc (Ubuntu 7.4.0-1ubuntu1~18.04.1) 7.4.0
NIC: Broadcom Inc. brcm_57414 25000 Mbps
Target: x86_64-native-linuxapp-gcc
Fail/Total: 0/2

Detail performance results: 
+------------+---------+-------------------------------------+
| frame_size | txd/rxd | throughput difference from expected |
+============+=========+=====================================+
| 64         | 512     | -0.023                              |
+------------+---------+-------------------------------------+
| 64         | 2048    | -0.015                              |
+------------+---------+-------------------------------------+

To view detailed results, visit:
https://lab.dpdk.org/results/dashboard/patchsets/15132/

UNH-IOL DPDK Community Lab

To manage your email subscriptions, visit: 
https://lab.dpdk.org/results/dashboard/preferences/subscriptions/

^ permalink raw reply	[flat|nested] 11+ messages in thread

* [dpdk-test-report] |SUCCESS| pw86436 [PATCH v2] bus/pci/windows: guard against sdk/dpdk guid collision
       [not found] <1610491311-4079-1-git-send-email-roretzla@linux.microsoft.com>
@ 2021-01-12 22:42 ` checkpatch
  0 siblings, 0 replies; 11+ messages in thread
From: checkpatch @ 2021-01-12 22:42 UTC (permalink / raw)
  To: test-report

Test-Label: checkpatch
Test-Status: SUCCESS
http://dpdk.org/patch/86436

_coding style OK_



^ permalink raw reply	[flat|nested] 11+ messages in thread

end of thread, other threads:[~2021-01-14 15:24 UTC | newest]

Thread overview: 11+ messages (download: mbox.gz / follow: Atom feed)
-- links below jump to the message on this page --
2021-01-13  1:57 [dpdk-test-report] |SUCCESS| pw86436 [PATCH] [v2] bus/pci/windows: guard against sdk/dpdk guid collision dpdklab
  -- strict thread matches above, loose matches on Subject: below --
2021-01-14 15:24 dpdklab
2021-01-14 13:54 dpdklab
2021-01-13  2:34 dpdklab
2021-01-13  2:20 dpdklab
2021-01-13  2:10 dpdklab
2021-01-13  0:10 dpdklab
2021-01-13  0:01 dpdklab
2021-01-12 23:55 dpdklab
2021-01-12 23:47 dpdklab
     [not found] <1610491311-4079-1-git-send-email-roretzla@linux.microsoft.com>
2021-01-12 22:42 ` [dpdk-test-report] |SUCCESS| pw86436 [PATCH v2] " checkpatch

automatic DPDK test reports

This inbox may be cloned and mirrored by anyone:

	git clone --mirror http://inbox.dpdk.org/test-report/0 test-report/git/0.git

	# If you have public-inbox 1.1+ installed, you may
	# initialize and index your mirror using the following commands:
	public-inbox-init -V2 test-report test-report/ http://inbox.dpdk.org/test-report \
		test-report@dpdk.org
	public-inbox-index test-report

Example config snippet for mirrors.
Newsgroup available over NNTP:
	nntp://inbox.dpdk.org/inbox.dpdk.test-report


AGPL code for this site: git clone https://public-inbox.org/public-inbox.git