automatic DPDK test reports
 help / color / mirror / Atom feed
* [dpdk-test-report] |SUCCESS| pw86458 [PATCH v4] mbuf: fix reset on mbuf free
       [not found] <20210113132734.1636-1-olivier.matz@6wind.com>
@ 2021-01-13 13:28 ` checkpatch
  0 siblings, 0 replies; 6+ messages in thread
From: checkpatch @ 2021-01-13 13:28 UTC (permalink / raw)
  To: test-report

Test-Label: checkpatch
Test-Status: SUCCESS
http://dpdk.org/patch/86458

_coding style OK_



^ permalink raw reply	[flat|nested] 6+ messages in thread

* [dpdk-test-report] |SUCCESS| pw86458 [PATCH] [v4] mbuf: fix reset on mbuf free
@ 2021-01-15  2:14 dpdklab
  0 siblings, 0 replies; 6+ messages in thread
From: dpdklab @ 2021-01-15  2:14 UTC (permalink / raw)
  To: Test Report; +Cc: dpdk-test-reports

[-- Attachment #1: Type: text/plain, Size: 2999 bytes --]

Test-Label: iol-testing
Test-Status: SUCCESS
http://dpdk.org/patch/86458

_Testing PASS_

Submitter: Olivier Matz <olivier.matz@6wind.com>
Date: Wednesday, January 13 2021 13:27:34 
DPDK git baseline: Repo:dpdk
  Branch: master
  CommitID:9b27a37b847237bc7b4f8369e1dad2dce3cdbb44

86458 --> testing pass

Test environment and result as below:

+---------------------+----------------------+--------------------+----------------+-------------------+
|     Environment     | dpdk_mingw64_compile | dpdk_meson_compile | dpdk_unit_test | dpdk_compile_spdk |
+=====================+======================+====================+================+===================+
| Windows Server 2019 | PASS                 | PASS               | SKIPPED        | SKIPPED           |
+---------------------+----------------------+--------------------+----------------+-------------------+
| FreeBSD 11.2        | SKIPPED              | PASS               | SKIPPED        | SKIPPED           |
+---------------------+----------------------+--------------------+----------------+-------------------+
| CentOS 8            | SKIPPED              | PASS               | SKIPPED        | SKIPPED           |
+---------------------+----------------------+--------------------+----------------+-------------------+
| Fedora 31           | SKIPPED              | PASS               | SKIPPED        | SKIPPED           |
+---------------------+----------------------+--------------------+----------------+-------------------+
| openSUSE Leap 15    | SKIPPED              | PASS               | SKIPPED        | SKIPPED           |
+---------------------+----------------------+--------------------+----------------+-------------------+
| Arch Linux          | SKIPPED              | PASS               | SKIPPED        | SKIPPED           |
+---------------------+----------------------+--------------------+----------------+-------------------+
| Ubuntu 18.04 ARM    | SKIPPED              | PASS               | PASS           | SKIPPED           |
+---------------------+----------------------+--------------------+----------------+-------------------+
| Ubuntu 18.04        | SKIPPED              | SKIPPED            | PASS           | PASS              |
+---------------------+----------------------+--------------------+----------------+-------------------+


Windows Server 2019
	Kernel: 10.0
	Compiler: clang 9.0

FreeBSD 11.2
	Kernel: 11.2
	Compiler: gcc 8.3

CentOS 8
	Kernel: 4.18.0.el8_0
	Compiler: gcc 8.3.1

Fedora 31
	Kernel: 5.3.16
	Compiler: gcc 9.2.1

openSUSE Leap 15
	Kernel: 4.12.14
	Compiler: gcc 7.4.1

Arch Linux
	Kernel: latest
	Compiler: gcc latest

Ubuntu 18.04 ARM
	Kernel: 5.4.0-53-generic
	Compiler: gcc 9.3

Ubuntu 18.04
	Kernel: 4.15.0-generic
	Compiler: gcc 7.5

To view detailed results, visit:
https://lab.dpdk.org/results/dashboard/patchsets/15142/

UNH-IOL DPDK Community Lab

To manage your email subscriptions, visit: 
https://lab.dpdk.org/results/dashboard/preferences/subscriptions/

^ permalink raw reply	[flat|nested] 6+ messages in thread

* [dpdk-test-report] |SUCCESS| pw86458 [PATCH] [v4] mbuf: fix reset on mbuf free
@ 2021-01-13 14:25 dpdklab
  0 siblings, 0 replies; 6+ messages in thread
From: dpdklab @ 2021-01-13 14:25 UTC (permalink / raw)
  To: Test Report; +Cc: dpdk-test-reports

[-- Attachment #1: Type: text/plain, Size: 1917 bytes --]

Test-Label: iol-intel-Performance
Test-Status: SUCCESS
http://dpdk.org/patch/86458

_Performance Testing PASS_

Submitter: Olivier Matz <olivier.matz@6wind.com>
Date: Wednesday, January 13 2021 13:27:34 
DPDK git baseline: Repo:dpdk
  Branch: master
  CommitID:9b27a37b847237bc7b4f8369e1dad2dce3cdbb44

86458 --> performance testing pass

Test environment and result as below:

Ubuntu 18.04
Kernel: 4.15.0-generic
Compiler: gcc 7.4
NIC: Intel Corporation Ethernet Converged Network Adapter 82599ES 10000 Mbps
Target: x86_64-native-linuxapp-gcc
Fail/Total: 0/2

Detail performance results: 
+------------+---------+-------------------------------------+
| frame_size | txd/rxd | throughput difference from expected |
+============+=========+=====================================+
| 64         | 512     | 0.815                               |
+------------+---------+-------------------------------------+
| 64         | 2048    | 1.011                               |
+------------+---------+-------------------------------------+

Ubuntu 18.04
Kernel: 4.15.0-generic
Compiler: gcc 7.4
NIC: Intel Corporation Ethernet Converged Network Adapter XL710-QDA2 40000 Mbps
Target: x86_64-native-linuxapp-gcc
Fail/Total: 0/2

Detail performance results: 
+------------+---------+-------------------------------------+
| frame_size | txd/rxd | throughput difference from expected |
+============+=========+=====================================+
| 64         | 512     | 1.571                               |
+------------+---------+-------------------------------------+
| 64         | 2048    | 1.875                               |
+------------+---------+-------------------------------------+

To view detailed results, visit:
https://lab.dpdk.org/results/dashboard/patchsets/15142/

UNH-IOL DPDK Community Lab

To manage your email subscriptions, visit: 
https://lab.dpdk.org/results/dashboard/preferences/subscriptions/

^ permalink raw reply	[flat|nested] 6+ messages in thread

* [dpdk-test-report] |SUCCESS| pw86458 [PATCH] [v4] mbuf: fix reset on mbuf free
@ 2021-01-13 14:12 dpdklab
  0 siblings, 0 replies; 6+ messages in thread
From: dpdklab @ 2021-01-13 14:12 UTC (permalink / raw)
  To: Test Report; +Cc: dpdk-test-reports

[-- Attachment #1: Type: text/plain, Size: 790 bytes --]

Test-Label: iol-intel-Functional
Test-Status: SUCCESS
http://dpdk.org/patch/86458

_Functional Testing PASS_

Submitter: Olivier Matz <olivier.matz@6wind.com>
Date: Wednesday, January 13 2021 13:27:34 
DPDK git baseline: Repo:dpdk
  Branch: master
  CommitID:9b27a37b847237bc7b4f8369e1dad2dce3cdbb44

86458 --> functional testing pass

Test environment and result as below:

Ubuntu 18.04
Kernel: 4.15.0-generic
Compiler: gcc 7.4
NIC: Intel Corporation Ethernet Converged Network Adapter XL710-QDA2 40000 Mbps
Target: x86_64-native-linuxapp-gcc
Fail/Total: 0/3


To view detailed results, visit:
https://lab.dpdk.org/results/dashboard/patchsets/15142/

UNH-IOL DPDK Community Lab

To manage your email subscriptions, visit: 
https://lab.dpdk.org/results/dashboard/preferences/subscriptions/

^ permalink raw reply	[flat|nested] 6+ messages in thread

* [dpdk-test-report] |SUCCESS| pw86458 [PATCH] [v4] mbuf: fix reset on mbuf free
@ 2021-01-13 14:05 dpdklab
  0 siblings, 0 replies; 6+ messages in thread
From: dpdklab @ 2021-01-13 14:05 UTC (permalink / raw)
  To: Ajit Khaparde, Test Report; +Cc: dpdk-test-reports

[-- Attachment #1: Type: text/plain, Size: 795 bytes --]

Test-Label: iol-broadcom-Functional
Test-Status: SUCCESS
http://dpdk.org/patch/86458

_Functional Testing PASS_

Submitter: Olivier Matz <olivier.matz@6wind.com>
Date: Wednesday, January 13 2021 13:27:34 
DPDK git baseline: Repo:dpdk
  Branch: master
  CommitID:9b27a37b847237bc7b4f8369e1dad2dce3cdbb44

86458 --> functional testing pass

Test environment and result as below:

Ubuntu 18.04
Kernel: 4.15.0-65-generic
Compiler: gcc gcc (Ubuntu 7.4.0-1ubuntu1~18.04.1) 7.4.0
NIC: Broadcom Inc. brcm_57414 25000 Mbps
Target: x86_64-native-linuxapp-gcc
Fail/Total: 0/3


To view detailed results, visit:
https://lab.dpdk.org/results/dashboard/patchsets/15142/

UNH-IOL DPDK Community Lab

To manage your email subscriptions, visit: 
https://lab.dpdk.org/results/dashboard/preferences/subscriptions/

^ permalink raw reply	[flat|nested] 6+ messages in thread

* [dpdk-test-report] |SUCCESS| pw86458 [PATCH] [v4] mbuf: fix reset on mbuf free
@ 2021-01-13 13:57 dpdklab
  0 siblings, 0 replies; 6+ messages in thread
From: dpdklab @ 2021-01-13 13:57 UTC (permalink / raw)
  To: Ajit Khaparde, Test Report; +Cc: dpdk-test-reports

[-- Attachment #1: Type: text/plain, Size: 1268 bytes --]

Test-Label: iol-broadcom-Performance
Test-Status: SUCCESS
http://dpdk.org/patch/86458

_Performance Testing PASS_

Submitter: Olivier Matz <olivier.matz@6wind.com>
Date: Wednesday, January 13 2021 13:27:34 
DPDK git baseline: Repo:dpdk
  Branch: master
  CommitID:9b27a37b847237bc7b4f8369e1dad2dce3cdbb44

86458 --> performance testing pass

Test environment and result as below:

Ubuntu 18.04
Kernel: 4.15.0-65-generic
Compiler: gcc gcc (Ubuntu 7.4.0-1ubuntu1~18.04.1) 7.4.0
NIC: Broadcom Inc. brcm_57414 25000 Mbps
Target: x86_64-native-linuxapp-gcc
Fail/Total: 0/2

Detail performance results: 
+------------+---------+-------------------------------------+
| frame_size | txd/rxd | throughput difference from expected |
+============+=========+=====================================+
| 64         | 512     | -0.001                              |
+------------+---------+-------------------------------------+
| 64         | 2048    | -0.062                              |
+------------+---------+-------------------------------------+

To view detailed results, visit:
https://lab.dpdk.org/results/dashboard/patchsets/15142/

UNH-IOL DPDK Community Lab

To manage your email subscriptions, visit: 
https://lab.dpdk.org/results/dashboard/preferences/subscriptions/

^ permalink raw reply	[flat|nested] 6+ messages in thread

end of thread, other threads:[~2021-01-15  2:14 UTC | newest]

Thread overview: 6+ messages (download: mbox.gz / follow: Atom feed)
-- links below jump to the message on this page --
     [not found] <20210113132734.1636-1-olivier.matz@6wind.com>
2021-01-13 13:28 ` [dpdk-test-report] |SUCCESS| pw86458 [PATCH v4] mbuf: fix reset on mbuf free checkpatch
2021-01-13 13:57 [dpdk-test-report] |SUCCESS| pw86458 [PATCH] [v4] " dpdklab
2021-01-13 14:05 dpdklab
2021-01-13 14:12 dpdklab
2021-01-13 14:25 dpdklab
2021-01-15  2:14 dpdklab

automatic DPDK test reports

This inbox may be cloned and mirrored by anyone:

	git clone --mirror http://inbox.dpdk.org/test-report/0 test-report/git/0.git

	# If you have public-inbox 1.1+ installed, you may
	# initialize and index your mirror using the following commands:
	public-inbox-init -V2 test-report test-report/ http://inbox.dpdk.org/test-report \
		test-report@dpdk.org
	public-inbox-index test-report

Example config snippet for mirrors.
Newsgroup available over NNTP:
	nntp://inbox.dpdk.org/inbox.dpdk.test-report


AGPL code for this site: git clone https://public-inbox.org/public-inbox.git