* [dpdk-test-report] |SUCCESS| pw86467 [PATCH] [v3, 7/9] ethdev: capability of new representor syntax
@ 2021-01-13 16:54 dpdklab
0 siblings, 0 replies; 7+ messages in thread
From: dpdklab @ 2021-01-13 16:54 UTC (permalink / raw)
To: Test Report; +Cc: dpdk-test-reports
[-- Attachment #1: Type: text/plain, Size: 785 bytes --]
Test-Label: iol-intel-Functional
Test-Status: SUCCESS
http://dpdk.org/patch/86467
_Functional Testing PASS_
Submitter: Xueming Li <xuemingl@nvidia.com>
Date: Wednesday, January 13 2021 13:44:20
DPDK git baseline: Repo:dpdk
Branch: master
CommitID:9b27a37b847237bc7b4f8369e1dad2dce3cdbb44
86467 --> functional testing pass
Test environment and result as below:
Ubuntu 18.04
Kernel: 4.15.0-generic
Compiler: gcc 7.4
NIC: Intel Corporation Ethernet Converged Network Adapter XL710-QDA2 40000 Mbps
Target: x86_64-native-linuxapp-gcc
Fail/Total: 0/3
To view detailed results, visit:
https://lab.dpdk.org/results/dashboard/patchsets/15150/
UNH-IOL DPDK Community Lab
To manage your email subscriptions, visit:
https://lab.dpdk.org/results/dashboard/preferences/subscriptions/
^ permalink raw reply [flat|nested] 7+ messages in thread
* [dpdk-test-report] |SUCCESS| pw86467 [PATCH] [v3, 7/9] ethdev: capability of new representor syntax
@ 2021-01-15 9:13 dpdklab
0 siblings, 0 replies; 7+ messages in thread
From: dpdklab @ 2021-01-15 9:13 UTC (permalink / raw)
To: Test Report; +Cc: dpdk-test-reports
[-- Attachment #1: Type: text/plain, Size: 2994 bytes --]
Test-Label: iol-testing
Test-Status: SUCCESS
http://dpdk.org/patch/86467
_Testing PASS_
Submitter: Xueming Li <xuemingl@nvidia.com>
Date: Wednesday, January 13 2021 13:44:20
DPDK git baseline: Repo:dpdk
Branch: master
CommitID:9b27a37b847237bc7b4f8369e1dad2dce3cdbb44
86467 --> testing pass
Test environment and result as below:
+---------------------+----------------------+--------------------+-------------------+----------------+
| Environment | dpdk_mingw64_compile | dpdk_meson_compile | dpdk_compile_spdk | dpdk_unit_test |
+=====================+======================+====================+===================+================+
| Windows Server 2019 | PASS | PASS | SKIPPED | SKIPPED |
+---------------------+----------------------+--------------------+-------------------+----------------+
| FreeBSD 11.2 | SKIPPED | PASS | SKIPPED | SKIPPED |
+---------------------+----------------------+--------------------+-------------------+----------------+
| Fedora 31 | SKIPPED | PASS | PASS | SKIPPED |
+---------------------+----------------------+--------------------+-------------------+----------------+
| CentOS 8 | SKIPPED | PASS | SKIPPED | SKIPPED |
+---------------------+----------------------+--------------------+-------------------+----------------+
| openSUSE Leap 15 | SKIPPED | PASS | SKIPPED | SKIPPED |
+---------------------+----------------------+--------------------+-------------------+----------------+
| Arch Linux | SKIPPED | PASS | SKIPPED | SKIPPED |
+---------------------+----------------------+--------------------+-------------------+----------------+
| Ubuntu 18.04 | SKIPPED | PASS | PASS | PASS |
+---------------------+----------------------+--------------------+-------------------+----------------+
| Ubuntu 18.04 ARM | SKIPPED | PASS | SKIPPED | PASS |
+---------------------+----------------------+--------------------+-------------------+----------------+
Windows Server 2019
Kernel: 10.0
Compiler: clang 9.0
FreeBSD 11.2
Kernel: 11.2
Compiler: gcc 8.3
Fedora 31
Kernel: 5.3.16
Compiler: gcc 9.2.1
CentOS 8
Kernel: 4.18.0.el8_0
Compiler: gcc 8.3.1
openSUSE Leap 15
Kernel: 4.12.14
Compiler: gcc 7.4.1
Arch Linux
Kernel: latest
Compiler: gcc latest
Ubuntu 18.04
Kernel: 4.15.0-generic
Compiler: gcc 7.5
Ubuntu 18.04 ARM
Kernel: 5.4.0-53-generic
Compiler: gcc 9.3
To view detailed results, visit:
https://lab.dpdk.org/results/dashboard/patchsets/15150/
UNH-IOL DPDK Community Lab
To manage your email subscriptions, visit:
https://lab.dpdk.org/results/dashboard/preferences/subscriptions/
^ permalink raw reply [flat|nested] 7+ messages in thread
* [dpdk-test-report] |SUCCESS| pw86467 [PATCH] [v3, 7/9] ethdev: capability of new representor syntax
@ 2021-01-15 9:12 dpdklab
0 siblings, 0 replies; 7+ messages in thread
From: dpdklab @ 2021-01-15 9:12 UTC (permalink / raw)
To: Test Report; +Cc: dpdk-test-reports
[-- Attachment #1: Type: text/plain, Size: 917 bytes --]
Test-Label: iol-abi-testing
Test-Status: SUCCESS
http://dpdk.org/patch/86467
_Testing PASS_
Submitter: Xueming Li <xuemingl@nvidia.com>
Date: Wednesday, January 13 2021 13:44:20
DPDK git baseline: Repo:dpdk
Branch: master
CommitID:9b27a37b847237bc7b4f8369e1dad2dce3cdbb44
86467 --> testing pass
Test environment and result as below:
+------------------+----------+
| Environment | abi_test |
+==================+==========+
| Ubuntu 18.04 | PASS |
+------------------+----------+
| Ubuntu 18.04 ARM | PASS |
+------------------+----------+
Ubuntu 18.04
Kernel: 4.15.0-generic
Compiler: gcc 7.5
Ubuntu 18.04 ARM
Kernel: 5.4.0-53-generic
Compiler: gcc 9.3
To view detailed results, visit:
https://lab.dpdk.org/results/dashboard/patchsets/15150/
UNH-IOL DPDK Community Lab
To manage your email subscriptions, visit:
https://lab.dpdk.org/results/dashboard/preferences/subscriptions/
^ permalink raw reply [flat|nested] 7+ messages in thread
* [dpdk-test-report] |SUCCESS| pw86467 [PATCH] [v3, 7/9] ethdev: capability of new representor syntax
@ 2021-01-13 17:08 dpdklab
0 siblings, 0 replies; 7+ messages in thread
From: dpdklab @ 2021-01-13 17:08 UTC (permalink / raw)
To: Test Report; +Cc: dpdk-test-reports
[-- Attachment #1: Type: text/plain, Size: 1912 bytes --]
Test-Label: iol-intel-Performance
Test-Status: SUCCESS
http://dpdk.org/patch/86467
_Performance Testing PASS_
Submitter: Xueming Li <xuemingl@nvidia.com>
Date: Wednesday, January 13 2021 13:44:20
DPDK git baseline: Repo:dpdk
Branch: master
CommitID:9b27a37b847237bc7b4f8369e1dad2dce3cdbb44
86467 --> performance testing pass
Test environment and result as below:
Ubuntu 18.04
Kernel: 4.15.0-generic
Compiler: gcc 7.4
NIC: Intel Corporation Ethernet Converged Network Adapter 82599ES 10000 Mbps
Target: x86_64-native-linuxapp-gcc
Fail/Total: 0/2
Detail performance results:
+------------+---------+-------------------------------------+
| frame_size | txd/rxd | throughput difference from expected |
+============+=========+=====================================+
| 64 | 512 | 1.906 |
+------------+---------+-------------------------------------+
| 64 | 2048 | 1.243 |
+------------+---------+-------------------------------------+
Ubuntu 18.04
Kernel: 4.15.0-generic
Compiler: gcc 7.4
NIC: Intel Corporation Ethernet Converged Network Adapter XL710-QDA2 40000 Mbps
Target: x86_64-native-linuxapp-gcc
Fail/Total: 0/2
Detail performance results:
+------------+---------+-------------------------------------+
| frame_size | txd/rxd | throughput difference from expected |
+============+=========+=====================================+
| 64 | 512 | 2.894 |
+------------+---------+-------------------------------------+
| 64 | 2048 | 2.107 |
+------------+---------+-------------------------------------+
To view detailed results, visit:
https://lab.dpdk.org/results/dashboard/patchsets/15150/
UNH-IOL DPDK Community Lab
To manage your email subscriptions, visit:
https://lab.dpdk.org/results/dashboard/preferences/subscriptions/
^ permalink raw reply [flat|nested] 7+ messages in thread
* [dpdk-test-report] |SUCCESS| pw86467 [PATCH] [v3, 7/9] ethdev: capability of new representor syntax
@ 2021-01-13 16:18 dpdklab
0 siblings, 0 replies; 7+ messages in thread
From: dpdklab @ 2021-01-13 16:18 UTC (permalink / raw)
To: Ajit Khaparde, Test Report; +Cc: dpdk-test-reports
[-- Attachment #1: Type: text/plain, Size: 1263 bytes --]
Test-Label: iol-broadcom-Performance
Test-Status: SUCCESS
http://dpdk.org/patch/86467
_Performance Testing PASS_
Submitter: Xueming Li <xuemingl@nvidia.com>
Date: Wednesday, January 13 2021 13:44:20
DPDK git baseline: Repo:dpdk
Branch: master
CommitID:9b27a37b847237bc7b4f8369e1dad2dce3cdbb44
86467 --> performance testing pass
Test environment and result as below:
Ubuntu 18.04
Kernel: 4.15.0-65-generic
Compiler: gcc gcc (Ubuntu 7.4.0-1ubuntu1~18.04.1) 7.4.0
NIC: Broadcom Inc. brcm_57414 25000 Mbps
Target: x86_64-native-linuxapp-gcc
Fail/Total: 0/2
Detail performance results:
+------------+---------+-------------------------------------+
| frame_size | txd/rxd | throughput difference from expected |
+============+=========+=====================================+
| 64 | 512 | 0.003 |
+------------+---------+-------------------------------------+
| 64 | 2048 | 0.032 |
+------------+---------+-------------------------------------+
To view detailed results, visit:
https://lab.dpdk.org/results/dashboard/patchsets/15150/
UNH-IOL DPDK Community Lab
To manage your email subscriptions, visit:
https://lab.dpdk.org/results/dashboard/preferences/subscriptions/
^ permalink raw reply [flat|nested] 7+ messages in thread
* [dpdk-test-report] |SUCCESS| pw86467 [PATCH] [v3, 7/9] ethdev: capability of new representor syntax
@ 2021-01-13 16:12 dpdklab
0 siblings, 0 replies; 7+ messages in thread
From: dpdklab @ 2021-01-13 16:12 UTC (permalink / raw)
To: Ajit Khaparde, Test Report; +Cc: dpdk-test-reports
[-- Attachment #1: Type: text/plain, Size: 790 bytes --]
Test-Label: iol-broadcom-Functional
Test-Status: SUCCESS
http://dpdk.org/patch/86467
_Functional Testing PASS_
Submitter: Xueming Li <xuemingl@nvidia.com>
Date: Wednesday, January 13 2021 13:44:20
DPDK git baseline: Repo:dpdk
Branch: master
CommitID:9b27a37b847237bc7b4f8369e1dad2dce3cdbb44
86467 --> functional testing pass
Test environment and result as below:
Ubuntu 18.04
Kernel: 4.15.0-65-generic
Compiler: gcc gcc (Ubuntu 7.4.0-1ubuntu1~18.04.1) 7.4.0
NIC: Broadcom Inc. brcm_57414 25000 Mbps
Target: x86_64-native-linuxapp-gcc
Fail/Total: 0/3
To view detailed results, visit:
https://lab.dpdk.org/results/dashboard/patchsets/15150/
UNH-IOL DPDK Community Lab
To manage your email subscriptions, visit:
https://lab.dpdk.org/results/dashboard/preferences/subscriptions/
^ permalink raw reply [flat|nested] 7+ messages in thread
* [dpdk-test-report] |SUCCESS| pw86467 [PATCH v3 7/9] ethdev: capability of new representor syntax
[not found] <20210113134422.15723-8-xuemingl@nvidia.com>
@ 2021-01-13 13:47 ` checkpatch
0 siblings, 0 replies; 7+ messages in thread
From: checkpatch @ 2021-01-13 13:47 UTC (permalink / raw)
To: test-report
Test-Label: checkpatch
Test-Status: SUCCESS
http://dpdk.org/patch/86467
_coding style OK_
^ permalink raw reply [flat|nested] 7+ messages in thread
end of thread, other threads:[~2021-01-15 9:13 UTC | newest]
Thread overview: 7+ messages (download: mbox.gz / follow: Atom feed)
-- links below jump to the message on this page --
2021-01-13 16:54 [dpdk-test-report] |SUCCESS| pw86467 [PATCH] [v3, 7/9] ethdev: capability of new representor syntax dpdklab
-- strict thread matches above, loose matches on Subject: below --
2021-01-15 9:13 dpdklab
2021-01-15 9:12 dpdklab
2021-01-13 17:08 dpdklab
2021-01-13 16:18 dpdklab
2021-01-13 16:12 dpdklab
[not found] <20210113134422.15723-8-xuemingl@nvidia.com>
2021-01-13 13:47 ` [dpdk-test-report] |SUCCESS| pw86467 [PATCH v3 " checkpatch
automatic DPDK test reports
This inbox may be cloned and mirrored by anyone:
git clone --mirror http://inbox.dpdk.org/test-report/0 test-report/git/0.git
# If you have public-inbox 1.1+ installed, you may
# initialize and index your mirror using the following commands:
public-inbox-init -V2 test-report test-report/ http://inbox.dpdk.org/test-report \
test-report@dpdk.org
public-inbox-index test-report
Example config snippet for mirrors.
Newsgroup available over NNTP:
nntp://inbox.dpdk.org/inbox.dpdk.test-report
AGPL code for this site: git clone https://public-inbox.org/public-inbox.git