[-- Attachment #1: Type: text/plain, Size: 789 bytes --] Test-Label: iol-broadcom-Functional Test-Status: SUCCESS http://dpdk.org/patch/86653 _Functional Testing PASS_ Submitter: Jeff Guo <jia.guo@intel.com> Date: Friday, January 15 2021 05:15:42 DPDK git baseline: Repo:dpdk Branch: master CommitID:8e266978e4e75d3c444b443c1fdab485b2990ad4 86652-86653 --> functional testing pass Test environment and result as below: Ubuntu 18.04 Kernel: 4.15.0-65-generic Compiler: gcc gcc (Ubuntu 7.4.0-1ubuntu1~18.04.1) 7.4.0 NIC: Broadcom Inc. brcm_57414 25000 Mbps Target: x86_64-native-linuxapp-gcc Fail/Total: 0/3 To view detailed results, visit: https://lab.dpdk.org/results/dashboard/patchsets/15212/ UNH-IOL DPDK Community Lab To manage your email subscriptions, visit: https://lab.dpdk.org/results/dashboard/preferences/subscriptions/
[-- Attachment #1: Type: text/plain, Size: 789 bytes --] Test-Label: iol-broadcom-Functional Test-Status: SUCCESS http://dpdk.org/patch/86653 _Functional Testing PASS_ Submitter: Jeff Guo <jia.guo@intel.com> Date: Friday, January 15 2021 05:15:42 DPDK git baseline: Repo:dpdk Branch: master CommitID:8e266978e4e75d3c444b443c1fdab485b2990ad4 86652-86653 --> functional testing pass Test environment and result as below: Ubuntu 18.04 Kernel: 4.15.0-65-generic Compiler: gcc gcc (Ubuntu 7.4.0-1ubuntu1~18.04.1) 7.4.0 NIC: Broadcom Inc. brcm_57414 25000 Mbps Target: x86_64-native-linuxapp-gcc Fail/Total: 0/3 To view detailed results, visit: https://lab.dpdk.org/results/dashboard/patchsets/15212/ UNH-IOL DPDK Community Lab To manage your email subscriptions, visit: https://lab.dpdk.org/results/dashboard/preferences/subscriptions/
[-- Attachment #1: Type: text/plain, Size: 1257 bytes --] Test-Label: iol-intel-Performance Test-Status: SUCCESS http://dpdk.org/patch/86653 _Performance Testing PASS_ Submitter: Guo, Jia <jia.guo@intel.com> Date: Friday, January 15 2021 05:15:42 DPDK git baseline: Repo:dpdk Branch: master CommitID:8e266978e4e75d3c444b443c1fdab485b2990ad4 86652-86653 --> performance testing pass Test environment and result as below: Ubuntu 18.04 Kernel: 4.15.0-generic Compiler: gcc 7.4 NIC: Intel Corporation Ethernet Converged Network Adapter XL710-QDA2 40000 Mbps Target: x86_64-native-linuxapp-gcc Fail/Total: 0/2 Detail performance results: +------------+---------+-------------------------------------+ | frame_size | txd/rxd | throughput difference from expected | +============+=========+=====================================+ | 64 | 512 | 2.663 | +------------+---------+-------------------------------------+ | 64 | 2048 | 2.135 | +------------+---------+-------------------------------------+ To view detailed results, visit: https://lab.dpdk.org/results/dashboard/patchsets/15212/ UNH-IOL DPDK Community Lab To manage your email subscriptions, visit: https://lab.dpdk.org/results/dashboard/preferences/subscriptions/
[-- Attachment #1: Type: text/plain, Size: 1257 bytes --] Test-Label: iol-intel-Performance Test-Status: SUCCESS http://dpdk.org/patch/86653 _Performance Testing PASS_ Submitter: Guo, Jia <jia.guo@intel.com> Date: Friday, January 15 2021 05:15:42 DPDK git baseline: Repo:dpdk Branch: master CommitID:8e266978e4e75d3c444b443c1fdab485b2990ad4 86652-86653 --> performance testing pass Test environment and result as below: Ubuntu 18.04 Kernel: 4.15.0-generic Compiler: gcc 7.4 NIC: Intel Corporation Ethernet Converged Network Adapter XL710-QDA2 40000 Mbps Target: x86_64-native-linuxapp-gcc Fail/Total: 0/2 Detail performance results: +------------+---------+-------------------------------------+ | frame_size | txd/rxd | throughput difference from expected | +============+=========+=====================================+ | 64 | 512 | 2.695 | +------------+---------+-------------------------------------+ | 64 | 2048 | 1.923 | +------------+---------+-------------------------------------+ To view detailed results, visit: https://lab.dpdk.org/results/dashboard/patchsets/15212/ UNH-IOL DPDK Community Lab To manage your email subscriptions, visit: https://lab.dpdk.org/results/dashboard/preferences/subscriptions/
[-- Attachment #1: Type: text/plain, Size: 784 bytes --] Test-Label: iol-intel-Functional Test-Status: SUCCESS http://dpdk.org/patch/86653 _Functional Testing PASS_ Submitter: Guo, Jia <jia.guo@intel.com> Date: Friday, January 15 2021 05:15:42 DPDK git baseline: Repo:dpdk Branch: master CommitID:8e266978e4e75d3c444b443c1fdab485b2990ad4 86652-86653 --> functional testing pass Test environment and result as below: Ubuntu 18.04 Kernel: 4.15.0-generic Compiler: gcc 7.4 NIC: Intel Corporation Ethernet Converged Network Adapter XL710-QDA2 40000 Mbps Target: x86_64-native-linuxapp-gcc Fail/Total: 0/3 To view detailed results, visit: https://lab.dpdk.org/results/dashboard/patchsets/15212/ UNH-IOL DPDK Community Lab To manage your email subscriptions, visit: https://lab.dpdk.org/results/dashboard/preferences/subscriptions/
[-- Attachment #1: Type: text/plain, Size: 784 bytes --] Test-Label: iol-intel-Functional Test-Status: SUCCESS http://dpdk.org/patch/86653 _Functional Testing PASS_ Submitter: Guo, Jia <jia.guo@intel.com> Date: Friday, January 15 2021 05:15:42 DPDK git baseline: Repo:dpdk Branch: master CommitID:8e266978e4e75d3c444b443c1fdab485b2990ad4 86652-86653 --> functional testing pass Test environment and result as below: Ubuntu 18.04 Kernel: 4.15.0-generic Compiler: gcc 7.4 NIC: Intel Corporation Ethernet Converged Network Adapter XL710-QDA2 40000 Mbps Target: x86_64-native-linuxapp-gcc Fail/Total: 0/3 To view detailed results, visit: https://lab.dpdk.org/results/dashboard/patchsets/15212/ UNH-IOL DPDK Community Lab To manage your email subscriptions, visit: https://lab.dpdk.org/results/dashboard/preferences/subscriptions/
[-- Attachment #1: Type: text/plain, Size: 892 bytes --] Test-Label: iol-mellanox-Functional Test-Status: SUCCESS http://dpdk.org/patch/86653 _Functional Testing PASS_ Submitter: Guo, Jia <jia.guo@intel.com> Date: Friday, January 15 2021 05:15:42 DPDK git baseline: Repo:dpdk Branch: master CommitID:8e266978e4e75d3c444b443c1fdab485b2990ad4 86652-86653 --> functional testing pass Test environment and result as below: Ubuntu 18.04 Kernel: 4.15.0-generic Compiler: gcc 7.4 NIC: Mellanox ConnectX-4 Lx 25000 Mbps Target: x86_64-native-linuxapp-gcc Fail/Total: 0/5 Ubuntu 18.04 Kernel: 4.15.0-generic Compiler: gcc 7.4 NIC: Mellanox ConnectX-4 Lx 40000 Mbps Target: x86_64-native-linuxapp-gcc Fail/Total: 0/5 To view detailed results, visit: https://lab.dpdk.org/results/dashboard/patchsets/15212/ UNH-IOL DPDK Community Lab To manage your email subscriptions, visit: https://lab.dpdk.org/results/dashboard/preferences/subscriptions/
[-- Attachment #1: Type: text/plain, Size: 892 bytes --] Test-Label: iol-mellanox-Functional Test-Status: SUCCESS http://dpdk.org/patch/86653 _Functional Testing PASS_ Submitter: Guo, Jia <jia.guo@intel.com> Date: Friday, January 15 2021 05:15:42 DPDK git baseline: Repo:dpdk Branch: master CommitID:8e266978e4e75d3c444b443c1fdab485b2990ad4 86652-86653 --> functional testing pass Test environment and result as below: Ubuntu 18.04 Kernel: 4.15.0-generic Compiler: gcc 7.4 NIC: Mellanox ConnectX-4 Lx 25000 Mbps Target: x86_64-native-linuxapp-gcc Fail/Total: 0/5 Ubuntu 18.04 Kernel: 4.15.0-generic Compiler: gcc 7.4 NIC: Mellanox ConnectX-4 Lx 40000 Mbps Target: x86_64-native-linuxapp-gcc Fail/Total: 0/5 To view detailed results, visit: https://lab.dpdk.org/results/dashboard/patchsets/15212/ UNH-IOL DPDK Community Lab To manage your email subscriptions, visit: https://lab.dpdk.org/results/dashboard/preferences/subscriptions/
[-- Attachment #1: Type: text/plain, Size: 3961 bytes --] Test-Label: iol-mellanox-Performance Test-Status: SUCCESS http://dpdk.org/patch/86653 _Performance Testing PASS_ Submitter: Guo, Jia <jia.guo@intel.com> Date: Friday, January 15 2021 05:15:42 DPDK git baseline: Repo:dpdk Branch: master CommitID:8e266978e4e75d3c444b443c1fdab485b2990ad4 86652-86653 --> performance testing pass Test environment and result as below: Ubuntu 18.04 Kernel: 4.15.0-generic Compiler: gcc 7.4 NIC: Mellanox ConnectX-5 100000 Mbps Target: x86_64-native-linuxapp-gcc Fail/Total: 0/6 Detail performance results: +------------+---------+-------------------------------------+ | frame_size | txd/rxd | throughput difference from expected | +============+=========+=====================================+ | 64 | 256 | 0.205 | +------------+---------+-------------------------------------+ | 128 | 256 | 0.004 | +------------+---------+-------------------------------------+ | 256 | 256 | 0.010 | +------------+---------+-------------------------------------+ | 512 | 256 | 0.182 | +------------+---------+-------------------------------------+ | 1024 | 256 | -0.111 | +------------+---------+-------------------------------------+ | 1518 | 256 | 0.021 | +------------+---------+-------------------------------------+ Ubuntu 18.04 Kernel: 4.15.0-generic Compiler: gcc 7.4 NIC: Mellanox ConnectX-4 Lx 25000 Mbps Target: x86_64-native-linuxapp-gcc Fail/Total: 0/6 Detail performance results: +------------+---------+-------------------------------------+ | frame_size | txd/rxd | throughput difference from expected | +============+=========+=====================================+ | 64 | 256 | 0.037 | +------------+---------+-------------------------------------+ | 128 | 256 | -0.344 | +------------+---------+-------------------------------------+ | 256 | 256 | 0.258 | +------------+---------+-------------------------------------+ | 512 | 256 | 0.054 | +------------+---------+-------------------------------------+ | 1024 | 256 | 0 | +------------+---------+-------------------------------------+ | 1518 | 256 | -0.010 | +------------+---------+-------------------------------------+ Ubuntu 18.04 Kernel: 4.15.0-generic Compiler: gcc 7.4 NIC: Mellanox ConnectX-4 Lx 40000 Mbps Target: x86_64-native-linuxapp-gcc Fail/Total: 0/6 Detail performance results: +------------+---------+-------------------------------------+ | frame_size | txd/rxd | throughput difference from expected | +============+=========+=====================================+ | 64 | 256 | 0.023 | +------------+---------+-------------------------------------+ | 128 | 256 | 0.022 | +------------+---------+-------------------------------------+ | 256 | 256 | -0.107 | +------------+---------+-------------------------------------+ | 512 | 256 | -0.084 | +------------+---------+-------------------------------------+ | 1024 | 256 | -0.010 | +------------+---------+-------------------------------------+ | 1518 | 256 | -0.006 | +------------+---------+-------------------------------------+ To view detailed results, visit: https://lab.dpdk.org/results/dashboard/patchsets/15212/ UNH-IOL DPDK Community Lab To manage your email subscriptions, visit: https://lab.dpdk.org/results/dashboard/preferences/subscriptions/
[-- Attachment #1: Type: text/plain, Size: 3961 bytes --] Test-Label: iol-mellanox-Performance Test-Status: SUCCESS http://dpdk.org/patch/86653 _Performance Testing PASS_ Submitter: Guo, Jia <jia.guo@intel.com> Date: Friday, January 15 2021 05:15:42 DPDK git baseline: Repo:dpdk Branch: master CommitID:8e266978e4e75d3c444b443c1fdab485b2990ad4 86652-86653 --> performance testing pass Test environment and result as below: Ubuntu 18.04 Kernel: 4.15.0-generic Compiler: gcc 7.4 NIC: Mellanox ConnectX-5 100000 Mbps Target: x86_64-native-linuxapp-gcc Fail/Total: 0/6 Detail performance results: +------------+---------+-------------------------------------+ | frame_size | txd/rxd | throughput difference from expected | +============+=========+=====================================+ | 64 | 256 | 0.190 | +------------+---------+-------------------------------------+ | 128 | 256 | -0.011 | +------------+---------+-------------------------------------+ | 256 | 256 | -0.093 | +------------+---------+-------------------------------------+ | 512 | 256 | 0.109 | +------------+---------+-------------------------------------+ | 1024 | 256 | -0.020 | +------------+---------+-------------------------------------+ | 1518 | 256 | 0.029 | +------------+---------+-------------------------------------+ Ubuntu 18.04 Kernel: 4.15.0-generic Compiler: gcc 7.4 NIC: Mellanox ConnectX-4 Lx 25000 Mbps Target: x86_64-native-linuxapp-gcc Fail/Total: 0/6 Detail performance results: +------------+---------+-------------------------------------+ | frame_size | txd/rxd | throughput difference from expected | +============+=========+=====================================+ | 64 | 256 | -0.003 | +------------+---------+-------------------------------------+ | 128 | 256 | -0.240 | +------------+---------+-------------------------------------+ | 256 | 256 | 0.211 | +------------+---------+-------------------------------------+ | 512 | 256 | 0.046 | +------------+---------+-------------------------------------+ | 1024 | 256 | 0.008 | +------------+---------+-------------------------------------+ | 1518 | 256 | 0.001 | +------------+---------+-------------------------------------+ Ubuntu 18.04 Kernel: 4.15.0-generic Compiler: gcc 7.4 NIC: Mellanox ConnectX-4 Lx 40000 Mbps Target: x86_64-native-linuxapp-gcc Fail/Total: 0/6 Detail performance results: +------------+---------+-------------------------------------+ | frame_size | txd/rxd | throughput difference from expected | +============+=========+=====================================+ | 64 | 256 | 0.046 | +------------+---------+-------------------------------------+ | 128 | 256 | 0.171 | +------------+---------+-------------------------------------+ | 256 | 256 | -0.191 | +------------+---------+-------------------------------------+ | 512 | 256 | -0.076 | +------------+---------+-------------------------------------+ | 1024 | 256 | -0.027 | +------------+---------+-------------------------------------+ | 1518 | 256 | 0.008 | +------------+---------+-------------------------------------+ To view detailed results, visit: https://lab.dpdk.org/results/dashboard/patchsets/15212/ UNH-IOL DPDK Community Lab To manage your email subscriptions, visit: https://lab.dpdk.org/results/dashboard/preferences/subscriptions/
[-- Attachment #1: Type: text/plain, Size: 916 bytes --] Test-Label: iol-abi-testing Test-Status: SUCCESS http://dpdk.org/patch/86653 _Testing PASS_ Submitter: Guo, Jia <jia.guo@intel.com> Date: Friday, January 15 2021 05:15:42 DPDK git baseline: Repo:dpdk Branch: master CommitID:8e266978e4e75d3c444b443c1fdab485b2990ad4 86652-86653 --> testing pass Test environment and result as below: +------------------+----------+ | Environment | abi_test | +==================+==========+ | Ubuntu 18.04 | PASS | +------------------+----------+ | Ubuntu 18.04 ARM | PASS | +------------------+----------+ Ubuntu 18.04 Kernel: 4.15.0-generic Compiler: gcc 7.5 Ubuntu 18.04 ARM Kernel: 5.4.0-53-generic Compiler: gcc 9.3 To view detailed results, visit: https://lab.dpdk.org/results/dashboard/patchsets/15212/ UNH-IOL DPDK Community Lab To manage your email subscriptions, visit: https://lab.dpdk.org/results/dashboard/preferences/subscriptions/
[-- Attachment #1: Type: text/plain, Size: 916 bytes --] Test-Label: iol-abi-testing Test-Status: SUCCESS http://dpdk.org/patch/86653 _Testing PASS_ Submitter: Jeff Guo <jia.guo@intel.com> Date: Friday, January 15 2021 05:15:42 DPDK git baseline: Repo:dpdk Branch: master CommitID:8e266978e4e75d3c444b443c1fdab485b2990ad4 86652-86653 --> testing pass Test environment and result as below: +------------------+----------+ | Environment | abi_test | +==================+==========+ | Ubuntu 18.04 | PASS | +------------------+----------+ | Ubuntu 18.04 ARM | PASS | +------------------+----------+ Ubuntu 18.04 Kernel: 4.15.0-generic Compiler: gcc 7.5 Ubuntu 18.04 ARM Kernel: 5.4.0-53-generic Compiler: gcc 9.3 To view detailed results, visit: https://lab.dpdk.org/results/dashboard/patchsets/15212/ UNH-IOL DPDK Community Lab To manage your email subscriptions, visit: https://lab.dpdk.org/results/dashboard/preferences/subscriptions/