* [dpdk-test-report] |SUCCESS| pw86490 [PATCH] [v2, 1/1] devtools: avoid installing static binaries
@ 2021-01-15 19:23 dpdklab
  0 siblings, 0 replies; 5+ messages in thread
From: dpdklab @ 2021-01-15 19:23 UTC (permalink / raw)
  To: Test Report; +Cc: dpdk-test-reports
[-- Attachment #1: Type: text/plain, Size: 2999 bytes --]
Test-Label: iol-testing
Test-Status: SUCCESS
http://dpdk.org/patch/86490
_Testing PASS_
Submitter: Thomas Monjalon <thomas@monjalon.net>
Date: Wednesday, January 13 2021 19:05:42 
DPDK git baseline: Repo:dpdk
  Branch: master
  CommitID:9b27a37b847237bc7b4f8369e1dad2dce3cdbb44
86490 --> testing pass
Test environment and result as below:
+---------------------+----------------------+--------------------+-------------------+----------------+
|     Environment     | dpdk_mingw64_compile | dpdk_meson_compile | dpdk_compile_spdk | dpdk_unit_test |
+=====================+======================+====================+===================+================+
| Windows Server 2019 | PASS                 | PASS               | SKIPPED           | SKIPPED        |
+---------------------+----------------------+--------------------+-------------------+----------------+
| FreeBSD 11.2        | SKIPPED              | PASS               | SKIPPED           | SKIPPED        |
+---------------------+----------------------+--------------------+-------------------+----------------+
| Fedora 31           | SKIPPED              | PASS               | PASS              | SKIPPED        |
+---------------------+----------------------+--------------------+-------------------+----------------+
| CentOS 8            | SKIPPED              | PASS               | SKIPPED           | SKIPPED        |
+---------------------+----------------------+--------------------+-------------------+----------------+
| openSUSE Leap 15    | SKIPPED              | PASS               | SKIPPED           | SKIPPED        |
+---------------------+----------------------+--------------------+-------------------+----------------+
| Arch Linux          | SKIPPED              | PASS               | SKIPPED           | SKIPPED        |
+---------------------+----------------------+--------------------+-------------------+----------------+
| Ubuntu 18.04        | SKIPPED              | PASS               | PASS              | PASS           |
+---------------------+----------------------+--------------------+-------------------+----------------+
| Ubuntu 18.04 ARM    | SKIPPED              | PASS               | SKIPPED           | PASS           |
+---------------------+----------------------+--------------------+-------------------+----------------+
Windows Server 2019
	Kernel: 10.0
	Compiler: clang 9.0
FreeBSD 11.2
	Kernel: 11.2
	Compiler: gcc 8.3
Fedora 31
	Kernel: 5.3.16
	Compiler: gcc 9.2.1
CentOS 8
	Kernel: 4.18.0.el8_0
	Compiler: gcc 8.3.1
openSUSE Leap 15
	Kernel: 4.12.14
	Compiler: gcc 7.4.1
Arch Linux
	Kernel: latest
	Compiler: gcc latest
Ubuntu 18.04
	Kernel: 4.15.0-generic
	Compiler: gcc 7.5
Ubuntu 18.04 ARM
	Kernel: 5.4.0-53-generic
	Compiler: gcc 9.3
To view detailed results, visit:
https://lab.dpdk.org/results/dashboard/patchsets/15156/
UNH-IOL DPDK Community Lab
To manage your email subscriptions, visit: 
https://lab.dpdk.org/results/dashboard/preferences/subscriptions/
^ permalink raw reply	[flat|nested] 5+ messages in thread
* [dpdk-test-report] |SUCCESS| pw86490 [PATCH] [v2, 1/1] devtools: avoid installing static binaries
@ 2021-01-15 19:22 dpdklab
  0 siblings, 0 replies; 5+ messages in thread
From: dpdklab @ 2021-01-15 19:22 UTC (permalink / raw)
  To: Test Report; +Cc: dpdk-test-reports
[-- Attachment #1: Type: text/plain, Size: 922 bytes --]
Test-Label: iol-abi-testing
Test-Status: SUCCESS
http://dpdk.org/patch/86490
_Testing PASS_
Submitter: Thomas Monjalon <thomas@monjalon.net>
Date: Wednesday, January 13 2021 19:05:42 
DPDK git baseline: Repo:dpdk
  Branch: master
  CommitID:9b27a37b847237bc7b4f8369e1dad2dce3cdbb44
86490 --> testing pass
Test environment and result as below:
+------------------+----------+
|   Environment    | abi_test |
+==================+==========+
| Ubuntu 18.04     | PASS     |
+------------------+----------+
| Ubuntu 18.04 ARM | PASS     |
+------------------+----------+
Ubuntu 18.04
	Kernel: 4.15.0-generic
	Compiler: gcc 7.5
Ubuntu 18.04 ARM
	Kernel: 5.4.0-53-generic
	Compiler: gcc 9.3
To view detailed results, visit:
https://lab.dpdk.org/results/dashboard/patchsets/15156/
UNH-IOL DPDK Community Lab
To manage your email subscriptions, visit: 
https://lab.dpdk.org/results/dashboard/preferences/subscriptions/
^ permalink raw reply	[flat|nested] 5+ messages in thread
* [dpdk-test-report] |SUCCESS| pw86490 [PATCH] [v2, 1/1] devtools: avoid installing static binaries
@ 2021-01-13 22:04 dpdklab
  0 siblings, 0 replies; 5+ messages in thread
From: dpdklab @ 2021-01-13 22:04 UTC (permalink / raw)
  To: Test Report; +Cc: dpdk-test-reports
[-- Attachment #1: Type: text/plain, Size: 1917 bytes --]
Test-Label: iol-intel-Performance
Test-Status: SUCCESS
http://dpdk.org/patch/86490
_Performance Testing PASS_
Submitter: Thomas Monjalon <thomas@monjalon.net>
Date: Wednesday, January 13 2021 19:05:42 
DPDK git baseline: Repo:dpdk
  Branch: master
  CommitID:9b27a37b847237bc7b4f8369e1dad2dce3cdbb44
86490 --> performance testing pass
Test environment and result as below:
Ubuntu 18.04
Kernel: 4.15.0-generic
Compiler: gcc 7.4
NIC: Intel Corporation Ethernet Converged Network Adapter XL710-QDA2 40000 Mbps
Target: x86_64-native-linuxapp-gcc
Fail/Total: 0/2
Detail performance results: 
+------------+---------+-------------------------------------+
| frame_size | txd/rxd | throughput difference from expected |
+============+=========+=====================================+
| 64         | 512     | 2.938                               |
+------------+---------+-------------------------------------+
| 64         | 2048    | 2.136                               |
+------------+---------+-------------------------------------+
Ubuntu 18.04
Kernel: 4.15.0-generic
Compiler: gcc 7.4
NIC: Intel Corporation Ethernet Converged Network Adapter 82599ES 10000 Mbps
Target: x86_64-native-linuxapp-gcc
Fail/Total: 0/2
Detail performance results: 
+------------+---------+-------------------------------------+
| frame_size | txd/rxd | throughput difference from expected |
+============+=========+=====================================+
| 64         | 512     | 2.001                               |
+------------+---------+-------------------------------------+
| 64         | 2048    | 1.111                               |
+------------+---------+-------------------------------------+
To view detailed results, visit:
https://lab.dpdk.org/results/dashboard/patchsets/15156/
UNH-IOL DPDK Community Lab
To manage your email subscriptions, visit: 
https://lab.dpdk.org/results/dashboard/preferences/subscriptions/
^ permalink raw reply	[flat|nested] 5+ messages in thread
* [dpdk-test-report] |SUCCESS| pw86490 [PATCH] [v2, 1/1] devtools: avoid installing static binaries
@ 2021-01-13 20:36 dpdklab
  0 siblings, 0 replies; 5+ messages in thread
From: dpdklab @ 2021-01-13 20:36 UTC (permalink / raw)
  To: Test Report; +Cc: dpdk-test-reports
[-- Attachment #1: Type: text/plain, Size: 974 bytes --]
Test-Label: iol-intel-Functional
Test-Status: SUCCESS
http://dpdk.org/patch/86490
_Functional Testing PASS_
Submitter: Thomas Monjalon <thomas@monjalon.net>
Date: Wednesday, January 13 2021 19:05:42 
DPDK git baseline: Repo:dpdk
  Branch: master
  CommitID:9b27a37b847237bc7b4f8369e1dad2dce3cdbb44
86490 --> functional testing pass
Test environment and result as below:
Ubuntu 18.04
Kernel: 4.15.0-generic
Compiler: gcc 7.4
NIC: Intel Corporation Ethernet Converged Network Adapter XL710-QDA2 40000 Mbps
Target: x86_64-native-linuxapp-gcc
Fail/Total: 0/3
Ubuntu 18.04
Kernel: 4.15.0-generic
Compiler: gcc 7.4
NIC: Intel Corporation Ethernet Converged Network Adapter 82599ES 10000 Mbps
Target: x86_64-native-linuxapp-gcc
Fail/Total: 0/5
To view detailed results, visit:
https://lab.dpdk.org/results/dashboard/patchsets/15156/
UNH-IOL DPDK Community Lab
To manage your email subscriptions, visit: 
https://lab.dpdk.org/results/dashboard/preferences/subscriptions/
^ permalink raw reply	[flat|nested] 5+ messages in thread
* [dpdk-test-report] |SUCCESS| pw86490 [PATCH] [v2, 1/1] devtools: avoid installing static binaries
@ 2021-01-13 19:47 dpdklab
  0 siblings, 0 replies; 5+ messages in thread
From: dpdklab @ 2021-01-13 19:47 UTC (permalink / raw)
  To: Ajit Khaparde, Test Report; +Cc: dpdk-test-reports
[-- Attachment #1: Type: text/plain, Size: 795 bytes --]
Test-Label: iol-broadcom-Functional
Test-Status: SUCCESS
http://dpdk.org/patch/86490
_Functional Testing PASS_
Submitter: Thomas Monjalon <thomas@monjalon.net>
Date: Wednesday, January 13 2021 19:05:42 
DPDK git baseline: Repo:dpdk
  Branch: master
  CommitID:9b27a37b847237bc7b4f8369e1dad2dce3cdbb44
86490 --> functional testing pass
Test environment and result as below:
Ubuntu 18.04
Kernel: 4.15.0-65-generic
Compiler: gcc gcc (Ubuntu 7.4.0-1ubuntu1~18.04.1) 7.4.0
NIC: Broadcom Inc. brcm_57414 25000 Mbps
Target: x86_64-native-linuxapp-gcc
Fail/Total: 0/3
To view detailed results, visit:
https://lab.dpdk.org/results/dashboard/patchsets/15156/
UNH-IOL DPDK Community Lab
To manage your email subscriptions, visit: 
https://lab.dpdk.org/results/dashboard/preferences/subscriptions/
^ permalink raw reply	[flat|nested] 5+ messages in thread
end of thread, other threads:[~2021-01-15 19:23 UTC | newest]
Thread overview: 5+ messages (download: mbox.gz / follow: Atom feed)
-- links below jump to the message on this page --
2021-01-15 19:23 [dpdk-test-report] |SUCCESS| pw86490 [PATCH] [v2, 1/1] devtools: avoid installing static binaries dpdklab
  -- strict thread matches above, loose matches on Subject: below --
2021-01-15 19:22 dpdklab
2021-01-13 22:04 dpdklab
2021-01-13 20:36 dpdklab
2021-01-13 19:47 dpdklab
This is a public inbox, see mirroring instructions
for how to clone and mirror all data and code used for this inbox;
as well as URLs for NNTP newsgroup(s).