* [dpdk-test-report] |SUCCESS| pw86655 [PATCH] [v2] net/ice: enable QinQ filter for switch
@ 2021-01-15 20:06 dpdklab
0 siblings, 0 replies; 13+ messages in thread
From: dpdklab @ 2021-01-15 20:06 UTC (permalink / raw)
To: Test Report; +Cc: dpdk-test-reports
[-- Attachment #1: Type: text/plain, Size: 785 bytes --]
Test-Label: iol-intel-Functional
Test-Status: SUCCESS
http://dpdk.org/patch/86655
_Functional Testing PASS_
Submitter: Junfeng Guo <junfeng.guo@intel.com>
Date: Friday, January 15 2021 14:36:42
DPDK git baseline: Repo:dpdk
Branch: master
CommitID:8e266978e4e75d3c444b443c1fdab485b2990ad4
86655 --> functional testing pass
Test environment and result as below:
Ubuntu 18.04
Kernel: 4.15.0-generic
Compiler: gcc 7.4
NIC: Intel Corporation Ethernet Converged Network Adapter XL710-QDA2 40000 Mbps
Target: x86_64-native-linuxapp-gcc
Fail/Total: 0/3
To view detailed results, visit:
https://lab.dpdk.org/results/dashboard/patchsets/15214/
UNH-IOL DPDK Community Lab
To manage your email subscriptions, visit:
https://lab.dpdk.org/results/dashboard/preferences/subscriptions/
^ permalink raw reply [flat|nested] 13+ messages in thread
* [dpdk-test-report] |SUCCESS| pw86655 [PATCH] [v2] net/ice: enable QinQ filter for switch
@ 2021-01-19 14:10 dpdklab
0 siblings, 0 replies; 13+ messages in thread
From: dpdklab @ 2021-01-19 14:10 UTC (permalink / raw)
To: Test Report; +Cc: dpdk-test-reports
[-- Attachment #1: Type: text/plain, Size: 917 bytes --]
Test-Label: iol-abi-testing
Test-Status: SUCCESS
http://dpdk.org/patch/86655
_Testing PASS_
Submitter: Junfeng Guo <junfeng.guo@intel.com>
Date: Friday, January 15 2021 14:36:42
DPDK git baseline: Repo:dpdk
Branch: master
CommitID:8e266978e4e75d3c444b443c1fdab485b2990ad4
86655 --> testing pass
Test environment and result as below:
+------------------+----------+
| Environment | abi_test |
+==================+==========+
| Ubuntu 18.04 | PASS |
+------------------+----------+
| Ubuntu 18.04 ARM | PASS |
+------------------+----------+
Ubuntu 18.04
Kernel: 4.15.0-generic
Compiler: gcc 7.5
Ubuntu 18.04 ARM
Kernel: 5.4.0-53-generic
Compiler: gcc 9.3
To view detailed results, visit:
https://lab.dpdk.org/results/dashboard/patchsets/15214/
UNH-IOL DPDK Community Lab
To manage your email subscriptions, visit:
https://lab.dpdk.org/results/dashboard/preferences/subscriptions/
^ permalink raw reply [flat|nested] 13+ messages in thread
* [dpdk-test-report] |SUCCESS| pw86655 [PATCH] [v2] net/ice: enable QinQ filter for switch
@ 2021-01-19 12:46 dpdklab
0 siblings, 0 replies; 13+ messages in thread
From: dpdklab @ 2021-01-19 12:46 UTC (permalink / raw)
To: Test Report; +Cc: dpdk-test-reports
[-- Attachment #1: Type: text/plain, Size: 917 bytes --]
Test-Label: iol-abi-testing
Test-Status: SUCCESS
http://dpdk.org/patch/86655
_Testing PASS_
Submitter: Junfeng Guo <junfeng.guo@intel.com>
Date: Friday, January 15 2021 14:36:42
DPDK git baseline: Repo:dpdk
Branch: master
CommitID:8e266978e4e75d3c444b443c1fdab485b2990ad4
86655 --> testing pass
Test environment and result as below:
+------------------+----------+
| Environment | abi_test |
+==================+==========+
| Ubuntu 18.04 | PASS |
+------------------+----------+
| Ubuntu 18.04 ARM | PASS |
+------------------+----------+
Ubuntu 18.04
Kernel: 4.15.0-generic
Compiler: gcc 7.5
Ubuntu 18.04 ARM
Kernel: 5.4.0-53-generic
Compiler: gcc 9.3
To view detailed results, visit:
https://lab.dpdk.org/results/dashboard/patchsets/15214/
UNH-IOL DPDK Community Lab
To manage your email subscriptions, visit:
https://lab.dpdk.org/results/dashboard/preferences/subscriptions/
^ permalink raw reply [flat|nested] 13+ messages in thread
* [dpdk-test-report] |SUCCESS| pw86655 [PATCH] [v2] net/ice: enable QinQ filter for switch
@ 2021-01-18 11:20 dpdklab
0 siblings, 0 replies; 13+ messages in thread
From: dpdklab @ 2021-01-18 11:20 UTC (permalink / raw)
To: Ali Alnubani, Test Report; +Cc: dpdk-test-reports
[-- Attachment #1: Type: text/plain, Size: 3962 bytes --]
Test-Label: iol-mellanox-Performance
Test-Status: SUCCESS
http://dpdk.org/patch/86655
_Performance Testing PASS_
Submitter: Junfeng Guo <junfeng.guo@intel.com>
Date: Friday, January 15 2021 14:36:42
DPDK git baseline: Repo:dpdk
Branch: master
CommitID:8e266978e4e75d3c444b443c1fdab485b2990ad4
86655 --> performance testing pass
Test environment and result as below:
Ubuntu 18.04
Kernel: 4.15.0-generic
Compiler: gcc 7.4
NIC: Mellanox ConnectX-5 100000 Mbps
Target: x86_64-native-linuxapp-gcc
Fail/Total: 0/6
Detail performance results:
+------------+---------+-------------------------------------+
| frame_size | txd/rxd | throughput difference from expected |
+============+=========+=====================================+
| 64 | 256 | -0.084 |
+------------+---------+-------------------------------------+
| 128 | 256 | -0.070 |
+------------+---------+-------------------------------------+
| 256 | 256 | -0.016 |
+------------+---------+-------------------------------------+
| 512 | 256 | 0.267 |
+------------+---------+-------------------------------------+
| 1024 | 256 | -0.061 |
+------------+---------+-------------------------------------+
| 1518 | 256 | 0.033 |
+------------+---------+-------------------------------------+
Ubuntu 18.04
Kernel: 4.15.0-generic
Compiler: gcc 7.4
NIC: Mellanox ConnectX-4 Lx 25000 Mbps
Target: x86_64-native-linuxapp-gcc
Fail/Total: 0/6
Detail performance results:
+------------+---------+-------------------------------------+
| frame_size | txd/rxd | throughput difference from expected |
+============+=========+=====================================+
| 64 | 256 | 0.295 |
+------------+---------+-------------------------------------+
| 128 | 256 | -0.321 |
+------------+---------+-------------------------------------+
| 256 | 256 | 0.032 |
+------------+---------+-------------------------------------+
| 512 | 256 | 0.029 |
+------------+---------+-------------------------------------+
| 1024 | 256 | 0.012 |
+------------+---------+-------------------------------------+
| 1518 | 256 | -0.005 |
+------------+---------+-------------------------------------+
Ubuntu 18.04
Kernel: 4.15.0-generic
Compiler: gcc 7.4
NIC: Mellanox ConnectX-4 Lx 40000 Mbps
Target: x86_64-native-linuxapp-gcc
Fail/Total: 0/6
Detail performance results:
+------------+---------+-------------------------------------+
| frame_size | txd/rxd | throughput difference from expected |
+============+=========+=====================================+
| 64 | 256 | -0.007 |
+------------+---------+-------------------------------------+
| 128 | 256 | -0.077 |
+------------+---------+-------------------------------------+
| 256 | 256 | 0.035 |
+------------+---------+-------------------------------------+
| 512 | 256 | -0.085 |
+------------+---------+-------------------------------------+
| 1024 | 256 | -0.004 |
+------------+---------+-------------------------------------+
| 1518 | 256 | -0.003 |
+------------+---------+-------------------------------------+
To view detailed results, visit:
https://lab.dpdk.org/results/dashboard/patchsets/15214/
UNH-IOL DPDK Community Lab
To manage your email subscriptions, visit:
https://lab.dpdk.org/results/dashboard/preferences/subscriptions/
^ permalink raw reply [flat|nested] 13+ messages in thread
* [dpdk-test-report] |SUCCESS| pw86655 [PATCH] [v2] net/ice: enable QinQ filter for switch
@ 2021-01-18 10:32 dpdklab
0 siblings, 0 replies; 13+ messages in thread
From: dpdklab @ 2021-01-18 10:32 UTC (permalink / raw)
To: Ali Alnubani, Test Report; +Cc: dpdk-test-reports
[-- Attachment #1: Type: text/plain, Size: 3962 bytes --]
Test-Label: iol-mellanox-Performance
Test-Status: SUCCESS
http://dpdk.org/patch/86655
_Performance Testing PASS_
Submitter: Junfeng Guo <junfeng.guo@intel.com>
Date: Friday, January 15 2021 14:36:42
DPDK git baseline: Repo:dpdk
Branch: master
CommitID:8e266978e4e75d3c444b443c1fdab485b2990ad4
86655 --> performance testing pass
Test environment and result as below:
Ubuntu 18.04
Kernel: 4.15.0-generic
Compiler: gcc 7.4
NIC: Mellanox ConnectX-5 100000 Mbps
Target: x86_64-native-linuxapp-gcc
Fail/Total: 0/6
Detail performance results:
+------------+---------+-------------------------------------+
| frame_size | txd/rxd | throughput difference from expected |
+============+=========+=====================================+
| 64 | 256 | 0.085 |
+------------+---------+-------------------------------------+
| 128 | 256 | -0.142 |
+------------+---------+-------------------------------------+
| 256 | 256 | -0.001 |
+------------+---------+-------------------------------------+
| 512 | 256 | 0.210 |
+------------+---------+-------------------------------------+
| 1024 | 256 | -0.093 |
+------------+---------+-------------------------------------+
| 1518 | 256 | -0.004 |
+------------+---------+-------------------------------------+
Ubuntu 18.04
Kernel: 4.15.0-generic
Compiler: gcc 7.4
NIC: Mellanox ConnectX-4 Lx 25000 Mbps
Target: x86_64-native-linuxapp-gcc
Fail/Total: 0/6
Detail performance results:
+------------+---------+-------------------------------------+
| frame_size | txd/rxd | throughput difference from expected |
+============+=========+=====================================+
| 64 | 256 | 0.114 |
+------------+---------+-------------------------------------+
| 128 | 256 | -0.246 |
+------------+---------+-------------------------------------+
| 256 | 256 | 0.044 |
+------------+---------+-------------------------------------+
| 512 | 256 | 0.053 |
+------------+---------+-------------------------------------+
| 1024 | 256 | -0.006 |
+------------+---------+-------------------------------------+
| 1518 | 256 | -0.006 |
+------------+---------+-------------------------------------+
Ubuntu 18.04
Kernel: 4.15.0-generic
Compiler: gcc 7.4
NIC: Mellanox ConnectX-4 Lx 40000 Mbps
Target: x86_64-native-linuxapp-gcc
Fail/Total: 0/6
Detail performance results:
+------------+---------+-------------------------------------+
| frame_size | txd/rxd | throughput difference from expected |
+============+=========+=====================================+
| 64 | 256 | -0.120 |
+------------+---------+-------------------------------------+
| 128 | 256 | 0.114 |
+------------+---------+-------------------------------------+
| 256 | 256 | 0.024 |
+------------+---------+-------------------------------------+
| 512 | 256 | -0.040 |
+------------+---------+-------------------------------------+
| 1024 | 256 | -0.016 |
+------------+---------+-------------------------------------+
| 1518 | 256 | -0.004 |
+------------+---------+-------------------------------------+
To view detailed results, visit:
https://lab.dpdk.org/results/dashboard/patchsets/15214/
UNH-IOL DPDK Community Lab
To manage your email subscriptions, visit:
https://lab.dpdk.org/results/dashboard/preferences/subscriptions/
^ permalink raw reply [flat|nested] 13+ messages in thread
* [dpdk-test-report] |SUCCESS| pw86655 [PATCH] [v2] net/ice: enable QinQ filter for switch
@ 2021-01-17 3:42 dpdklab
0 siblings, 0 replies; 13+ messages in thread
From: dpdklab @ 2021-01-17 3:42 UTC (permalink / raw)
To: Ali Alnubani, Test Report; +Cc: dpdk-test-reports
[-- Attachment #1: Type: text/plain, Size: 893 bytes --]
Test-Label: iol-mellanox-Functional
Test-Status: SUCCESS
http://dpdk.org/patch/86655
_Functional Testing PASS_
Submitter: Junfeng Guo <junfeng.guo@intel.com>
Date: Friday, January 15 2021 14:36:42
DPDK git baseline: Repo:dpdk
Branch: master
CommitID:8e266978e4e75d3c444b443c1fdab485b2990ad4
86655 --> functional testing pass
Test environment and result as below:
Ubuntu 18.04
Kernel: 4.15.0-generic
Compiler: gcc 7.4
NIC: Mellanox ConnectX-4 Lx 25000 Mbps
Target: x86_64-native-linuxapp-gcc
Fail/Total: 0/5
Ubuntu 18.04
Kernel: 4.15.0-generic
Compiler: gcc 7.4
NIC: Mellanox ConnectX-4 Lx 40000 Mbps
Target: x86_64-native-linuxapp-gcc
Fail/Total: 0/5
To view detailed results, visit:
https://lab.dpdk.org/results/dashboard/patchsets/15214/
UNH-IOL DPDK Community Lab
To manage your email subscriptions, visit:
https://lab.dpdk.org/results/dashboard/preferences/subscriptions/
^ permalink raw reply [flat|nested] 13+ messages in thread
* [dpdk-test-report] |SUCCESS| pw86655 [PATCH] [v2] net/ice: enable QinQ filter for switch
@ 2021-01-17 2:50 dpdklab
0 siblings, 0 replies; 13+ messages in thread
From: dpdklab @ 2021-01-17 2:50 UTC (permalink / raw)
To: Ali Alnubani, Test Report; +Cc: dpdk-test-reports
[-- Attachment #1: Type: text/plain, Size: 893 bytes --]
Test-Label: iol-mellanox-Functional
Test-Status: SUCCESS
http://dpdk.org/patch/86655
_Functional Testing PASS_
Submitter: Junfeng Guo <junfeng.guo@intel.com>
Date: Friday, January 15 2021 14:36:42
DPDK git baseline: Repo:dpdk
Branch: master
CommitID:8e266978e4e75d3c444b443c1fdab485b2990ad4
86655 --> functional testing pass
Test environment and result as below:
Ubuntu 18.04
Kernel: 4.15.0-generic
Compiler: gcc 7.4
NIC: Mellanox ConnectX-4 Lx 25000 Mbps
Target: x86_64-native-linuxapp-gcc
Fail/Total: 0/5
Ubuntu 18.04
Kernel: 4.15.0-generic
Compiler: gcc 7.4
NIC: Mellanox ConnectX-4 Lx 40000 Mbps
Target: x86_64-native-linuxapp-gcc
Fail/Total: 0/5
To view detailed results, visit:
https://lab.dpdk.org/results/dashboard/patchsets/15214/
UNH-IOL DPDK Community Lab
To manage your email subscriptions, visit:
https://lab.dpdk.org/results/dashboard/preferences/subscriptions/
^ permalink raw reply [flat|nested] 13+ messages in thread
* [dpdk-test-report] |SUCCESS| pw86655 [PATCH] [v2] net/ice: enable QinQ filter for switch
@ 2021-01-15 20:54 dpdklab
0 siblings, 0 replies; 13+ messages in thread
From: dpdklab @ 2021-01-15 20:54 UTC (permalink / raw)
To: Test Report; +Cc: dpdk-test-reports
[-- Attachment #1: Type: text/plain, Size: 1258 bytes --]
Test-Label: iol-intel-Performance
Test-Status: SUCCESS
http://dpdk.org/patch/86655
_Performance Testing PASS_
Submitter: Junfeng Guo <junfeng.guo@intel.com>
Date: Friday, January 15 2021 14:36:42
DPDK git baseline: Repo:dpdk
Branch: master
CommitID:8e266978e4e75d3c444b443c1fdab485b2990ad4
86655 --> performance testing pass
Test environment and result as below:
Ubuntu 18.04
Kernel: 4.15.0-generic
Compiler: gcc 7.4
NIC: Intel Corporation Ethernet Converged Network Adapter XL710-QDA2 40000 Mbps
Target: x86_64-native-linuxapp-gcc
Fail/Total: 0/2
Detail performance results:
+------------+---------+-------------------------------------+
| frame_size | txd/rxd | throughput difference from expected |
+============+=========+=====================================+
| 64 | 512 | 2.617 |
+------------+---------+-------------------------------------+
| 64 | 2048 | 2.071 |
+------------+---------+-------------------------------------+
To view detailed results, visit:
https://lab.dpdk.org/results/dashboard/patchsets/15214/
UNH-IOL DPDK Community Lab
To manage your email subscriptions, visit:
https://lab.dpdk.org/results/dashboard/preferences/subscriptions/
^ permalink raw reply [flat|nested] 13+ messages in thread
* [dpdk-test-report] |SUCCESS| pw86655 [PATCH] [v2] net/ice: enable QinQ filter for switch
@ 2021-01-15 20:41 dpdklab
0 siblings, 0 replies; 13+ messages in thread
From: dpdklab @ 2021-01-15 20:41 UTC (permalink / raw)
To: Test Report; +Cc: dpdk-test-reports
[-- Attachment #1: Type: text/plain, Size: 785 bytes --]
Test-Label: iol-intel-Functional
Test-Status: SUCCESS
http://dpdk.org/patch/86655
_Functional Testing PASS_
Submitter: Junfeng Guo <junfeng.guo@intel.com>
Date: Friday, January 15 2021 14:36:42
DPDK git baseline: Repo:dpdk
Branch: master
CommitID:8e266978e4e75d3c444b443c1fdab485b2990ad4
86655 --> functional testing pass
Test environment and result as below:
Ubuntu 18.04
Kernel: 4.15.0-generic
Compiler: gcc 7.4
NIC: Intel Corporation Ethernet Converged Network Adapter XL710-QDA2 40000 Mbps
Target: x86_64-native-linuxapp-gcc
Fail/Total: 0/3
To view detailed results, visit:
https://lab.dpdk.org/results/dashboard/patchsets/15214/
UNH-IOL DPDK Community Lab
To manage your email subscriptions, visit:
https://lab.dpdk.org/results/dashboard/preferences/subscriptions/
^ permalink raw reply [flat|nested] 13+ messages in thread
* [dpdk-test-report] |SUCCESS| pw86655 [PATCH] [v2] net/ice: enable QinQ filter for switch
@ 2021-01-15 20:38 dpdklab
0 siblings, 0 replies; 13+ messages in thread
From: dpdklab @ 2021-01-15 20:38 UTC (permalink / raw)
To: Ajit Khaparde, Test Report; +Cc: dpdk-test-reports
[-- Attachment #1: Type: text/plain, Size: 790 bytes --]
Test-Label: iol-broadcom-Functional
Test-Status: SUCCESS
http://dpdk.org/patch/86655
_Functional Testing PASS_
Submitter: Junfeng Guo <junfeng.guo@intel.com>
Date: Friday, January 15 2021 14:36:42
DPDK git baseline: Repo:dpdk
Branch: master
CommitID:8e266978e4e75d3c444b443c1fdab485b2990ad4
86655 --> functional testing pass
Test environment and result as below:
Ubuntu 18.04
Kernel: 4.15.0-65-generic
Compiler: gcc gcc (Ubuntu 7.4.0-1ubuntu1~18.04.1) 7.4.0
NIC: Broadcom Inc. brcm_57414 25000 Mbps
Target: x86_64-native-linuxapp-gcc
Fail/Total: 0/3
To view detailed results, visit:
https://lab.dpdk.org/results/dashboard/patchsets/15214/
UNH-IOL DPDK Community Lab
To manage your email subscriptions, visit:
https://lab.dpdk.org/results/dashboard/preferences/subscriptions/
^ permalink raw reply [flat|nested] 13+ messages in thread
* [dpdk-test-report] |SUCCESS| pw86655 [PATCH] [v2] net/ice: enable QinQ filter for switch
@ 2021-01-15 20:18 dpdklab
0 siblings, 0 replies; 13+ messages in thread
From: dpdklab @ 2021-01-15 20:18 UTC (permalink / raw)
To: Test Report; +Cc: dpdk-test-reports
[-- Attachment #1: Type: text/plain, Size: 1258 bytes --]
Test-Label: iol-intel-Performance
Test-Status: SUCCESS
http://dpdk.org/patch/86655
_Performance Testing PASS_
Submitter: Junfeng Guo <junfeng.guo@intel.com>
Date: Friday, January 15 2021 14:36:42
DPDK git baseline: Repo:dpdk
Branch: master
CommitID:8e266978e4e75d3c444b443c1fdab485b2990ad4
86655 --> performance testing pass
Test environment and result as below:
Ubuntu 18.04
Kernel: 4.15.0-generic
Compiler: gcc 7.4
NIC: Intel Corporation Ethernet Converged Network Adapter XL710-QDA2 40000 Mbps
Target: x86_64-native-linuxapp-gcc
Fail/Total: 0/2
Detail performance results:
+------------+---------+-------------------------------------+
| frame_size | txd/rxd | throughput difference from expected |
+============+=========+=====================================+
| 64 | 512 | 2.706 |
+------------+---------+-------------------------------------+
| 64 | 2048 | 1.896 |
+------------+---------+-------------------------------------+
To view detailed results, visit:
https://lab.dpdk.org/results/dashboard/patchsets/15214/
UNH-IOL DPDK Community Lab
To manage your email subscriptions, visit:
https://lab.dpdk.org/results/dashboard/preferences/subscriptions/
^ permalink raw reply [flat|nested] 13+ messages in thread
* [dpdk-test-report] |SUCCESS| pw86655 [PATCH] [v2] net/ice: enable QinQ filter for switch
@ 2021-01-15 20:03 dpdklab
0 siblings, 0 replies; 13+ messages in thread
From: dpdklab @ 2021-01-15 20:03 UTC (permalink / raw)
To: Ajit Khaparde, Test Report; +Cc: dpdk-test-reports
[-- Attachment #1: Type: text/plain, Size: 790 bytes --]
Test-Label: iol-broadcom-Functional
Test-Status: SUCCESS
http://dpdk.org/patch/86655
_Functional Testing PASS_
Submitter: Junfeng Guo <junfeng.guo@intel.com>
Date: Friday, January 15 2021 14:36:42
DPDK git baseline: Repo:dpdk
Branch: master
CommitID:8e266978e4e75d3c444b443c1fdab485b2990ad4
86655 --> functional testing pass
Test environment and result as below:
Ubuntu 18.04
Kernel: 4.15.0-65-generic
Compiler: gcc gcc (Ubuntu 7.4.0-1ubuntu1~18.04.1) 7.4.0
NIC: Broadcom Inc. brcm_57414 25000 Mbps
Target: x86_64-native-linuxapp-gcc
Fail/Total: 0/3
To view detailed results, visit:
https://lab.dpdk.org/results/dashboard/patchsets/15214/
UNH-IOL DPDK Community Lab
To manage your email subscriptions, visit:
https://lab.dpdk.org/results/dashboard/preferences/subscriptions/
^ permalink raw reply [flat|nested] 13+ messages in thread
[parent not found: <20210115143642.814290-1-junfeng.guo@intel.com>]
end of thread, other threads:[~2021-01-19 14:10 UTC | newest]
Thread overview: 13+ messages (download: mbox.gz / follow: Atom feed)
-- links below jump to the message on this page --
2021-01-15 20:06 [dpdk-test-report] |SUCCESS| pw86655 [PATCH] [v2] net/ice: enable QinQ filter for switch dpdklab
-- strict thread matches above, loose matches on Subject: below --
2021-01-19 14:10 dpdklab
2021-01-19 12:46 dpdklab
2021-01-18 11:20 dpdklab
2021-01-18 10:32 dpdklab
2021-01-17 3:42 dpdklab
2021-01-17 2:50 dpdklab
2021-01-15 20:54 dpdklab
2021-01-15 20:41 dpdklab
2021-01-15 20:38 dpdklab
2021-01-15 20:18 dpdklab
2021-01-15 20:03 dpdklab
[not found] <20210115143642.814290-1-junfeng.guo@intel.com>
2021-01-15 6:43 ` [dpdk-test-report] |SUCCESS| pw86655 [PATCH v2] " checkpatch
This is a public inbox, see mirroring instructions
for how to clone and mirror all data and code used for this inbox;
as well as URLs for NNTP newsgroup(s).