* [dpdk-test-report] |SUCCESS| pw86643 [PATCH] net/mlx5: fix wrong Flow Tag decompression
@ 2021-01-16 11:26 dpdklab
0 siblings, 0 replies; 8+ messages in thread
From: dpdklab @ 2021-01-16 11:26 UTC (permalink / raw)
To: Ali Alnubani, Test Report; +Cc: dpdk-test-reports
[-- Attachment #1: Type: text/plain, Size: 899 bytes --]
Test-Label: iol-mellanox-Functional
Test-Status: SUCCESS
http://dpdk.org/patch/86643
_Functional Testing PASS_
Submitter: Alexander Kozyrev <akozyrev@nvidia.com>
Date: Thursday, January 14 2021 21:32:19
DPDK git baseline: Repo:dpdk
Branch: master
CommitID:6e4d4a6381c47cfe6d75225945b3f6a5f8453214
86643 --> functional testing pass
Test environment and result as below:
Ubuntu 18.04
Kernel: 4.15.0-generic
Compiler: gcc 7.4
NIC: Mellanox ConnectX-4 Lx 25000 Mbps
Target: x86_64-native-linuxapp-gcc
Fail/Total: 0/5
Ubuntu 18.04
Kernel: 4.15.0-generic
Compiler: gcc 7.4
NIC: Mellanox ConnectX-4 Lx 40000 Mbps
Target: x86_64-native-linuxapp-gcc
Fail/Total: 0/5
To view detailed results, visit:
https://lab.dpdk.org/results/dashboard/patchsets/15208/
UNH-IOL DPDK Community Lab
To manage your email subscriptions, visit:
https://lab.dpdk.org/results/dashboard/preferences/subscriptions/
^ permalink raw reply [flat|nested] 8+ messages in thread
* [dpdk-test-report] |SUCCESS| pw86643 [PATCH] net/mlx5: fix wrong Flow Tag decompression
@ 2021-01-18 11:48 dpdklab
0 siblings, 0 replies; 8+ messages in thread
From: dpdklab @ 2021-01-18 11:48 UTC (permalink / raw)
To: Test Report; +Cc: dpdk-test-reports
[-- Attachment #1: Type: text/plain, Size: 3000 bytes --]
Test-Label: iol-testing
Test-Status: SUCCESS
http://dpdk.org/patch/86643
_Testing PASS_
Submitter: Alexander Kozyrev <akozyrev@nvidia.com>
Date: Thursday, January 14 2021 21:32:19
DPDK git baseline: Repo:dpdk
Branch: master
CommitID:6e4d4a6381c47cfe6d75225945b3f6a5f8453214
86643 --> testing pass
Test environment and result as below:
+---------------------+----------------------+--------------------+-------------------+----------------+
| Environment | dpdk_mingw64_compile | dpdk_meson_compile | dpdk_compile_spdk | dpdk_unit_test |
+=====================+======================+====================+===================+================+
| Windows Server 2019 | PASS | PASS | SKIPPED | SKIPPED |
+---------------------+----------------------+--------------------+-------------------+----------------+
| FreeBSD 11.2 | SKIPPED | PASS | SKIPPED | SKIPPED |
+---------------------+----------------------+--------------------+-------------------+----------------+
| Fedora 31 | SKIPPED | PASS | PASS | SKIPPED |
+---------------------+----------------------+--------------------+-------------------+----------------+
| CentOS 8 | SKIPPED | PASS | SKIPPED | SKIPPED |
+---------------------+----------------------+--------------------+-------------------+----------------+
| openSUSE Leap 15 | SKIPPED | PASS | SKIPPED | SKIPPED |
+---------------------+----------------------+--------------------+-------------------+----------------+
| Arch Linux | SKIPPED | PASS | SKIPPED | SKIPPED |
+---------------------+----------------------+--------------------+-------------------+----------------+
| Ubuntu 18.04 | SKIPPED | PASS | PASS | PASS |
+---------------------+----------------------+--------------------+-------------------+----------------+
| Ubuntu 18.04 ARM | SKIPPED | PASS | SKIPPED | SKIPPED |
+---------------------+----------------------+--------------------+-------------------+----------------+
Windows Server 2019
Kernel: 10.0
Compiler: clang 9.0
FreeBSD 11.2
Kernel: 11.2
Compiler: gcc 8.3
Fedora 31
Kernel: 5.3.16
Compiler: gcc 9.2.1
CentOS 8
Kernel: 4.18.0.el8_0
Compiler: gcc 8.3.1
openSUSE Leap 15
Kernel: 4.12.14
Compiler: gcc 7.4.1
Arch Linux
Kernel: latest
Compiler: gcc latest
Ubuntu 18.04
Kernel: 4.15.0-generic
Compiler: gcc 7.5
Ubuntu 18.04 ARM
Kernel: 5.4.0-53-generic
Compiler: gcc 9.3
To view detailed results, visit:
https://lab.dpdk.org/results/dashboard/patchsets/15208/
UNH-IOL DPDK Community Lab
To manage your email subscriptions, visit:
https://lab.dpdk.org/results/dashboard/preferences/subscriptions/
^ permalink raw reply [flat|nested] 8+ messages in thread
* [dpdk-test-report] |SUCCESS| pw86643 [PATCH] net/mlx5: fix wrong Flow Tag decompression
@ 2021-01-18 11:48 dpdklab
0 siblings, 0 replies; 8+ messages in thread
From: dpdklab @ 2021-01-18 11:48 UTC (permalink / raw)
To: Test Report; +Cc: dpdk-test-reports
[-- Attachment #1: Type: text/plain, Size: 923 bytes --]
Test-Label: iol-abi-testing
Test-Status: SUCCESS
http://dpdk.org/patch/86643
_Testing PASS_
Submitter: Alexander Kozyrev <akozyrev@nvidia.com>
Date: Thursday, January 14 2021 21:32:19
DPDK git baseline: Repo:dpdk
Branch: master
CommitID:6e4d4a6381c47cfe6d75225945b3f6a5f8453214
86643 --> testing pass
Test environment and result as below:
+------------------+----------+
| Environment | abi_test |
+==================+==========+
| Ubuntu 18.04 | PASS |
+------------------+----------+
| Ubuntu 18.04 ARM | PASS |
+------------------+----------+
Ubuntu 18.04
Kernel: 4.15.0-generic
Compiler: gcc 7.5
Ubuntu 18.04 ARM
Kernel: 5.4.0-53-generic
Compiler: gcc 9.3
To view detailed results, visit:
https://lab.dpdk.org/results/dashboard/patchsets/15208/
UNH-IOL DPDK Community Lab
To manage your email subscriptions, visit:
https://lab.dpdk.org/results/dashboard/preferences/subscriptions/
^ permalink raw reply [flat|nested] 8+ messages in thread
* [dpdk-test-report] |SUCCESS| pw86643 [PATCH] net/mlx5: fix wrong Flow Tag decompression
@ 2021-01-17 7:15 dpdklab
0 siblings, 0 replies; 8+ messages in thread
From: dpdklab @ 2021-01-17 7:15 UTC (permalink / raw)
To: Ali Alnubani, Test Report; +Cc: dpdk-test-reports
[-- Attachment #1: Type: text/plain, Size: 3968 bytes --]
Test-Label: iol-mellanox-Performance
Test-Status: SUCCESS
http://dpdk.org/patch/86643
_Performance Testing PASS_
Submitter: Alexander Kozyrev <akozyrev@nvidia.com>
Date: Thursday, January 14 2021 21:32:19
DPDK git baseline: Repo:dpdk
Branch: master
CommitID:6e4d4a6381c47cfe6d75225945b3f6a5f8453214
86643 --> performance testing pass
Test environment and result as below:
Ubuntu 18.04
Kernel: 4.15.0-generic
Compiler: gcc 7.4
NIC: Mellanox ConnectX-5 100000 Mbps
Target: x86_64-native-linuxapp-gcc
Fail/Total: 0/6
Detail performance results:
+------------+---------+-------------------------------------+
| frame_size | txd/rxd | throughput difference from expected |
+============+=========+=====================================+
| 64 | 256 | 0.264 |
+------------+---------+-------------------------------------+
| 128 | 256 | 0.060 |
+------------+---------+-------------------------------------+
| 256 | 256 | -0.023 |
+------------+---------+-------------------------------------+
| 512 | 256 | -0.058 |
+------------+---------+-------------------------------------+
| 1024 | 256 | -0.035 |
+------------+---------+-------------------------------------+
| 1518 | 256 | -0.010 |
+------------+---------+-------------------------------------+
Ubuntu 18.04
Kernel: 4.15.0-generic
Compiler: gcc 7.4
NIC: Mellanox ConnectX-4 Lx 25000 Mbps
Target: x86_64-native-linuxapp-gcc
Fail/Total: 0/6
Detail performance results:
+------------+---------+-------------------------------------+
| frame_size | txd/rxd | throughput difference from expected |
+============+=========+=====================================+
| 64 | 256 | -0.127 |
+------------+---------+-------------------------------------+
| 128 | 256 | 0.015 |
+------------+---------+-------------------------------------+
| 256 | 256 | -0.118 |
+------------+---------+-------------------------------------+
| 512 | 256 | 0.023 |
+------------+---------+-------------------------------------+
| 1024 | 256 | 0.005 |
+------------+---------+-------------------------------------+
| 1518 | 256 | -0.005 |
+------------+---------+-------------------------------------+
Ubuntu 18.04
Kernel: 4.15.0-generic
Compiler: gcc 7.4
NIC: Mellanox ConnectX-4 Lx 40000 Mbps
Target: x86_64-native-linuxapp-gcc
Fail/Total: 0/6
Detail performance results:
+------------+---------+-------------------------------------+
| frame_size | txd/rxd | throughput difference from expected |
+============+=========+=====================================+
| 64 | 256 | 0.036 |
+------------+---------+-------------------------------------+
| 128 | 256 | -0.098 |
+------------+---------+-------------------------------------+
| 256 | 256 | 0.259 |
+------------+---------+-------------------------------------+
| 512 | 256 | -0.044 |
+------------+---------+-------------------------------------+
| 1024 | 256 | 0.017 |
+------------+---------+-------------------------------------+
| 1518 | 256 | 0.012 |
+------------+---------+-------------------------------------+
To view detailed results, visit:
https://lab.dpdk.org/results/dashboard/patchsets/15208/
UNH-IOL DPDK Community Lab
To manage your email subscriptions, visit:
https://lab.dpdk.org/results/dashboard/preferences/subscriptions/
^ permalink raw reply [flat|nested] 8+ messages in thread
* [dpdk-test-report] |SUCCESS| pw86643 [PATCH] net/mlx5: fix wrong Flow Tag decompression
@ 2021-01-15 12:09 dpdklab
0 siblings, 0 replies; 8+ messages in thread
From: dpdklab @ 2021-01-15 12:09 UTC (permalink / raw)
To: Test Report; +Cc: dpdk-test-reports
[-- Attachment #1: Type: text/plain, Size: 791 bytes --]
Test-Label: iol-intel-Functional
Test-Status: SUCCESS
http://dpdk.org/patch/86643
_Functional Testing PASS_
Submitter: Alexander Kozyrev <akozyrev@nvidia.com>
Date: Thursday, January 14 2021 21:32:19
DPDK git baseline: Repo:dpdk
Branch: master
CommitID:6e4d4a6381c47cfe6d75225945b3f6a5f8453214
86643 --> functional testing pass
Test environment and result as below:
Ubuntu 18.04
Kernel: 4.15.0-generic
Compiler: gcc 7.4
NIC: Intel Corporation Ethernet Converged Network Adapter XL710-QDA2 40000 Mbps
Target: x86_64-native-linuxapp-gcc
Fail/Total: 0/3
To view detailed results, visit:
https://lab.dpdk.org/results/dashboard/patchsets/15208/
UNH-IOL DPDK Community Lab
To manage your email subscriptions, visit:
https://lab.dpdk.org/results/dashboard/preferences/subscriptions/
^ permalink raw reply [flat|nested] 8+ messages in thread
* [dpdk-test-report] |SUCCESS| pw86643 [PATCH] net/mlx5: fix wrong Flow Tag decompression
@ 2021-01-15 8:43 dpdklab
0 siblings, 0 replies; 8+ messages in thread
From: dpdklab @ 2021-01-15 8:43 UTC (permalink / raw)
To: Test Report; +Cc: dpdk-test-reports
[-- Attachment #1: Type: text/plain, Size: 1264 bytes --]
Test-Label: iol-intel-Performance
Test-Status: SUCCESS
http://dpdk.org/patch/86643
_Performance Testing PASS_
Submitter: Alexander Kozyrev <akozyrev@nvidia.com>
Date: Thursday, January 14 2021 21:32:19
DPDK git baseline: Repo:dpdk
Branch: master
CommitID:6e4d4a6381c47cfe6d75225945b3f6a5f8453214
86643 --> performance testing pass
Test environment and result as below:
Ubuntu 18.04
Kernel: 4.15.0-generic
Compiler: gcc 7.4
NIC: Intel Corporation Ethernet Converged Network Adapter XL710-QDA2 40000 Mbps
Target: x86_64-native-linuxapp-gcc
Fail/Total: 0/2
Detail performance results:
+------------+---------+-------------------------------------+
| frame_size | txd/rxd | throughput difference from expected |
+============+=========+=====================================+
| 64 | 512 | 2.603 |
+------------+---------+-------------------------------------+
| 64 | 2048 | 2.038 |
+------------+---------+-------------------------------------+
To view detailed results, visit:
https://lab.dpdk.org/results/dashboard/patchsets/15208/
UNH-IOL DPDK Community Lab
To manage your email subscriptions, visit:
https://lab.dpdk.org/results/dashboard/preferences/subscriptions/
^ permalink raw reply [flat|nested] 8+ messages in thread
* [dpdk-test-report] |SUCCESS| pw86643 [PATCH] net/mlx5: fix wrong Flow Tag decompression
@ 2021-01-14 22:42 dpdklab
0 siblings, 0 replies; 8+ messages in thread
From: dpdklab @ 2021-01-14 22:42 UTC (permalink / raw)
To: Ajit Khaparde, Test Report; +Cc: dpdk-test-reports
[-- Attachment #1: Type: text/plain, Size: 796 bytes --]
Test-Label: iol-broadcom-Functional
Test-Status: SUCCESS
http://dpdk.org/patch/86643
_Functional Testing PASS_
Submitter: Alexander Kozyrev <akozyrev@nvidia.com>
Date: Thursday, January 14 2021 21:32:19
DPDK git baseline: Repo:dpdk
Branch: master
CommitID:6e4d4a6381c47cfe6d75225945b3f6a5f8453214
86643 --> functional testing pass
Test environment and result as below:
Ubuntu 18.04
Kernel: 4.15.0-65-generic
Compiler: gcc gcc (Ubuntu 7.4.0-1ubuntu1~18.04.1) 7.4.0
NIC: Broadcom Inc. brcm_57414 25000 Mbps
Target: x86_64-native-linuxapp-gcc
Fail/Total: 0/3
To view detailed results, visit:
https://lab.dpdk.org/results/dashboard/patchsets/15208/
UNH-IOL DPDK Community Lab
To manage your email subscriptions, visit:
https://lab.dpdk.org/results/dashboard/preferences/subscriptions/
^ permalink raw reply [flat|nested] 8+ messages in thread
* [dpdk-test-report] |SUCCESS| pw86643 [PATCH] net/mlx5: fix wrong Flow Tag decompression
[not found] <20210114213219.30593-1-akozyrev@nvidia.com>
@ 2021-01-14 21:32 ` checkpatch
0 siblings, 0 replies; 8+ messages in thread
From: checkpatch @ 2021-01-14 21:32 UTC (permalink / raw)
To: test-report
Test-Label: checkpatch
Test-Status: SUCCESS
http://dpdk.org/patch/86643
_coding style OK_
^ permalink raw reply [flat|nested] 8+ messages in thread
end of thread, other threads:[~2021-01-18 11:48 UTC | newest]
Thread overview: 8+ messages (download: mbox.gz / follow: Atom feed)
-- links below jump to the message on this page --
2021-01-16 11:26 [dpdk-test-report] |SUCCESS| pw86643 [PATCH] net/mlx5: fix wrong Flow Tag decompression dpdklab
-- strict thread matches above, loose matches on Subject: below --
2021-01-18 11:48 dpdklab
2021-01-18 11:48 dpdklab
2021-01-17 7:15 dpdklab
2021-01-15 12:09 dpdklab
2021-01-15 8:43 dpdklab
2021-01-14 22:42 dpdklab
[not found] <20210114213219.30593-1-akozyrev@nvidia.com>
2021-01-14 21:32 ` checkpatch
This is a public inbox, see mirroring instructions
for how to clone and mirror all data and code used for this inbox;
as well as URLs for NNTP newsgroup(s).