Test-Label: checkpatch Test-Status: SUCCESS http://dpdk.org/patch/86721 _coding style OK_
[-- Attachment #1: Type: text/plain, Size: 786 bytes --] Test-Label: iol-broadcom-Functional Test-Status: SUCCESS http://dpdk.org/patch/86721 _Functional Testing PASS_ Submitter: Dekel Peled <dekelp@nvidia.com> Date: Sunday, January 17 2021 09:40:46 DPDK git baseline: Repo:dpdk Branch: master CommitID:6a426d733ec0d0d0d8edd6fb46da70a763a81194 86721 --> functional testing pass Test environment and result as below: Ubuntu 18.04 Kernel: 4.15.0-65-generic Compiler: gcc gcc (Ubuntu 7.4.0-1ubuntu1~18.04.1) 7.4.0 NIC: Broadcom Inc. brcm_57414 25000 Mbps Target: x86_64-native-linuxapp-gcc Fail/Total: 0/3 To view detailed results, visit: https://lab.dpdk.org/results/dashboard/patchsets/15235/ UNH-IOL DPDK Community Lab To manage your email subscriptions, visit: https://lab.dpdk.org/results/dashboard/preferences/subscriptions/
[-- Attachment #1: Type: text/plain, Size: 781 bytes --] Test-Label: iol-intel-Functional Test-Status: SUCCESS http://dpdk.org/patch/86721 _Functional Testing PASS_ Submitter: Dekel Peled <dekelp@nvidia.com> Date: Sunday, January 17 2021 09:40:46 DPDK git baseline: Repo:dpdk Branch: master CommitID:6a426d733ec0d0d0d8edd6fb46da70a763a81194 86721 --> functional testing pass Test environment and result as below: Ubuntu 18.04 Kernel: 4.15.0-generic Compiler: gcc 7.4 NIC: Intel Corporation Ethernet Converged Network Adapter XL710-QDA2 40000 Mbps Target: x86_64-native-linuxapp-gcc Fail/Total: 0/3 To view detailed results, visit: https://lab.dpdk.org/results/dashboard/patchsets/15235/ UNH-IOL DPDK Community Lab To manage your email subscriptions, visit: https://lab.dpdk.org/results/dashboard/preferences/subscriptions/
[-- Attachment #1: Type: text/plain, Size: 786 bytes --] Test-Label: iol-broadcom-Functional Test-Status: SUCCESS http://dpdk.org/patch/86721 _Functional Testing PASS_ Submitter: Dekel Peled <dekelp@nvidia.com> Date: Sunday, January 17 2021 09:40:46 DPDK git baseline: Repo:dpdk Branch: master CommitID:6a426d733ec0d0d0d8edd6fb46da70a763a81194 86721 --> functional testing pass Test environment and result as below: Ubuntu 18.04 Kernel: 4.15.0-65-generic Compiler: gcc gcc (Ubuntu 7.4.0-1ubuntu1~18.04.1) 7.4.0 NIC: Broadcom Inc. brcm_57414 25000 Mbps Target: x86_64-native-linuxapp-gcc Fail/Total: 0/3 To view detailed results, visit: https://lab.dpdk.org/results/dashboard/patchsets/15235/ UNH-IOL DPDK Community Lab To manage your email subscriptions, visit: https://lab.dpdk.org/results/dashboard/preferences/subscriptions/
[-- Attachment #1: Type: text/plain, Size: 1254 bytes --] Test-Label: iol-intel-Performance Test-Status: SUCCESS http://dpdk.org/patch/86721 _Performance Testing PASS_ Submitter: Dekel Peled <dekelp@nvidia.com> Date: Sunday, January 17 2021 09:40:46 DPDK git baseline: Repo:dpdk Branch: master CommitID:6a426d733ec0d0d0d8edd6fb46da70a763a81194 86721 --> performance testing pass Test environment and result as below: Ubuntu 18.04 Kernel: 4.15.0-generic Compiler: gcc 7.4 NIC: Intel Corporation Ethernet Converged Network Adapter XL710-QDA2 40000 Mbps Target: x86_64-native-linuxapp-gcc Fail/Total: 0/2 Detail performance results: +------------+---------+-------------------------------------+ | frame_size | txd/rxd | throughput difference from expected | +============+=========+=====================================+ | 64 | 512 | 2.674 | +------------+---------+-------------------------------------+ | 64 | 2048 | 1.877 | +------------+---------+-------------------------------------+ To view detailed results, visit: https://lab.dpdk.org/results/dashboard/patchsets/15235/ UNH-IOL DPDK Community Lab To manage your email subscriptions, visit: https://lab.dpdk.org/results/dashboard/preferences/subscriptions/
[-- Attachment #1: Type: text/plain, Size: 781 bytes --] Test-Label: iol-intel-Functional Test-Status: SUCCESS http://dpdk.org/patch/86721 _Functional Testing PASS_ Submitter: Dekel Peled <dekelp@nvidia.com> Date: Sunday, January 17 2021 09:40:46 DPDK git baseline: Repo:dpdk Branch: master CommitID:6a426d733ec0d0d0d8edd6fb46da70a763a81194 86721 --> functional testing pass Test environment and result as below: Ubuntu 18.04 Kernel: 4.15.0-generic Compiler: gcc 7.4 NIC: Intel Corporation Ethernet Converged Network Adapter XL710-QDA2 40000 Mbps Target: x86_64-native-linuxapp-gcc Fail/Total: 0/3 To view detailed results, visit: https://lab.dpdk.org/results/dashboard/patchsets/15235/ UNH-IOL DPDK Community Lab To manage your email subscriptions, visit: https://lab.dpdk.org/results/dashboard/preferences/subscriptions/
[-- Attachment #1: Type: text/plain, Size: 1254 bytes --] Test-Label: iol-intel-Performance Test-Status: SUCCESS http://dpdk.org/patch/86721 _Performance Testing PASS_ Submitter: Dekel Peled <dekelp@nvidia.com> Date: Sunday, January 17 2021 09:40:46 DPDK git baseline: Repo:dpdk Branch: master CommitID:6a426d733ec0d0d0d8edd6fb46da70a763a81194 86721 --> performance testing pass Test environment and result as below: Ubuntu 18.04 Kernel: 4.15.0-generic Compiler: gcc 7.4 NIC: Intel Corporation Ethernet Converged Network Adapter XL710-QDA2 40000 Mbps Target: x86_64-native-linuxapp-gcc Fail/Total: 0/2 Detail performance results: +------------+---------+-------------------------------------+ | frame_size | txd/rxd | throughput difference from expected | +============+=========+=====================================+ | 64 | 512 | 2.290 | +------------+---------+-------------------------------------+ | 64 | 2048 | 2.051 | +------------+---------+-------------------------------------+ To view detailed results, visit: https://lab.dpdk.org/results/dashboard/patchsets/15235/ UNH-IOL DPDK Community Lab To manage your email subscriptions, visit: https://lab.dpdk.org/results/dashboard/preferences/subscriptions/
[-- Attachment #1: Type: text/plain, Size: 889 bytes --] Test-Label: iol-mellanox-Functional Test-Status: SUCCESS http://dpdk.org/patch/86721 _Functional Testing PASS_ Submitter: Dekel Peled <dekelp@nvidia.com> Date: Sunday, January 17 2021 09:40:46 DPDK git baseline: Repo:dpdk Branch: master CommitID:6a426d733ec0d0d0d8edd6fb46da70a763a81194 86721 --> functional testing pass Test environment and result as below: Ubuntu 18.04 Kernel: 4.15.0-generic Compiler: gcc 7.4 NIC: Mellanox ConnectX-4 Lx 25000 Mbps Target: x86_64-native-linuxapp-gcc Fail/Total: 0/5 Ubuntu 18.04 Kernel: 4.15.0-generic Compiler: gcc 7.4 NIC: Mellanox ConnectX-4 Lx 40000 Mbps Target: x86_64-native-linuxapp-gcc Fail/Total: 0/5 To view detailed results, visit: https://lab.dpdk.org/results/dashboard/patchsets/15235/ UNH-IOL DPDK Community Lab To manage your email subscriptions, visit: https://lab.dpdk.org/results/dashboard/preferences/subscriptions/
[-- Attachment #1: Type: text/plain, Size: 889 bytes --] Test-Label: iol-mellanox-Functional Test-Status: SUCCESS http://dpdk.org/patch/86721 _Functional Testing PASS_ Submitter: Dekel Peled <dekelp@nvidia.com> Date: Sunday, January 17 2021 09:40:46 DPDK git baseline: Repo:dpdk Branch: master CommitID:6a426d733ec0d0d0d8edd6fb46da70a763a81194 86721 --> functional testing pass Test environment and result as below: Ubuntu 18.04 Kernel: 4.15.0-generic Compiler: gcc 7.4 NIC: Mellanox ConnectX-4 Lx 25000 Mbps Target: x86_64-native-linuxapp-gcc Fail/Total: 0/5 Ubuntu 18.04 Kernel: 4.15.0-generic Compiler: gcc 7.4 NIC: Mellanox ConnectX-4 Lx 40000 Mbps Target: x86_64-native-linuxapp-gcc Fail/Total: 0/5 To view detailed results, visit: https://lab.dpdk.org/results/dashboard/patchsets/15235/ UNH-IOL DPDK Community Lab To manage your email subscriptions, visit: https://lab.dpdk.org/results/dashboard/preferences/subscriptions/
[-- Attachment #1: Type: text/plain, Size: 3958 bytes --] Test-Label: iol-mellanox-Performance Test-Status: SUCCESS http://dpdk.org/patch/86721 _Performance Testing PASS_ Submitter: Dekel Peled <dekelp@nvidia.com> Date: Sunday, January 17 2021 09:40:46 DPDK git baseline: Repo:dpdk Branch: master CommitID:6a426d733ec0d0d0d8edd6fb46da70a763a81194 86721 --> performance testing pass Test environment and result as below: Ubuntu 18.04 Kernel: 4.15.0-generic Compiler: gcc 7.4 NIC: Mellanox ConnectX-5 100000 Mbps Target: x86_64-native-linuxapp-gcc Fail/Total: 0/6 Detail performance results: +------------+---------+-------------------------------------+ | frame_size | txd/rxd | throughput difference from expected | +============+=========+=====================================+ | 64 | 256 | 0.303 | +------------+---------+-------------------------------------+ | 128 | 256 | 0.028 | +------------+---------+-------------------------------------+ | 256 | 256 | 0.038 | +------------+---------+-------------------------------------+ | 512 | 256 | 0.297 | +------------+---------+-------------------------------------+ | 1024 | 256 | -0.002 | +------------+---------+-------------------------------------+ | 1518 | 256 | -0.016 | +------------+---------+-------------------------------------+ Ubuntu 18.04 Kernel: 4.15.0-generic Compiler: gcc 7.4 NIC: Mellanox ConnectX-4 Lx 25000 Mbps Target: x86_64-native-linuxapp-gcc Fail/Total: 0/6 Detail performance results: +------------+---------+-------------------------------------+ | frame_size | txd/rxd | throughput difference from expected | +============+=========+=====================================+ | 64 | 256 | 0.173 | +------------+---------+-------------------------------------+ | 128 | 256 | -0.068 | +------------+---------+-------------------------------------+ | 256 | 256 | -0.122 | +------------+---------+-------------------------------------+ | 512 | 256 | 0.017 | +------------+---------+-------------------------------------+ | 1024 | 256 | -0.001 | +------------+---------+-------------------------------------+ | 1518 | 256 | 0.008 | +------------+---------+-------------------------------------+ Ubuntu 18.04 Kernel: 4.15.0-generic Compiler: gcc 7.4 NIC: Mellanox ConnectX-4 Lx 40000 Mbps Target: x86_64-native-linuxapp-gcc Fail/Total: 0/6 Detail performance results: +------------+---------+-------------------------------------+ | frame_size | txd/rxd | throughput difference from expected | +============+=========+=====================================+ | 64 | 256 | 0.114 | +------------+---------+-------------------------------------+ | 128 | 256 | -0.498 | +------------+---------+-------------------------------------+ | 256 | 256 | -0.599 | +------------+---------+-------------------------------------+ | 512 | 256 | -0.003 | +------------+---------+-------------------------------------+ | 1024 | 256 | 0.016 | +------------+---------+-------------------------------------+ | 1518 | 256 | 0.010 | +------------+---------+-------------------------------------+ To view detailed results, visit: https://lab.dpdk.org/results/dashboard/patchsets/15235/ UNH-IOL DPDK Community Lab To manage your email subscriptions, visit: https://lab.dpdk.org/results/dashboard/preferences/subscriptions/
[-- Attachment #1: Type: text/plain, Size: 3958 bytes --] Test-Label: iol-mellanox-Performance Test-Status: SUCCESS http://dpdk.org/patch/86721 _Performance Testing PASS_ Submitter: Dekel Peled <dekelp@nvidia.com> Date: Sunday, January 17 2021 09:40:46 DPDK git baseline: Repo:dpdk Branch: master CommitID:6a426d733ec0d0d0d8edd6fb46da70a763a81194 86721 --> performance testing pass Test environment and result as below: Ubuntu 18.04 Kernel: 4.15.0-generic Compiler: gcc 7.4 NIC: Mellanox ConnectX-5 100000 Mbps Target: x86_64-native-linuxapp-gcc Fail/Total: 0/6 Detail performance results: +------------+---------+-------------------------------------+ | frame_size | txd/rxd | throughput difference from expected | +============+=========+=====================================+ | 64 | 256 | 0.364 | +------------+---------+-------------------------------------+ | 128 | 256 | 0.168 | +------------+---------+-------------------------------------+ | 256 | 256 | -0.069 | +------------+---------+-------------------------------------+ | 512 | 256 | 0.249 | +------------+---------+-------------------------------------+ | 1024 | 256 | 0.015 | +------------+---------+-------------------------------------+ | 1518 | 256 | -0.008 | +------------+---------+-------------------------------------+ Ubuntu 18.04 Kernel: 4.15.0-generic Compiler: gcc 7.4 NIC: Mellanox ConnectX-4 Lx 25000 Mbps Target: x86_64-native-linuxapp-gcc Fail/Total: 0/6 Detail performance results: +------------+---------+-------------------------------------+ | frame_size | txd/rxd | throughput difference from expected | +============+=========+=====================================+ | 64 | 256 | -0.077 | +------------+---------+-------------------------------------+ | 128 | 256 | 0.025 | +------------+---------+-------------------------------------+ | 256 | 256 | 0.172 | +------------+---------+-------------------------------------+ | 512 | 256 | -0.036 | +------------+---------+-------------------------------------+ | 1024 | 256 | -0.009 | +------------+---------+-------------------------------------+ | 1518 | 256 | 0 | +------------+---------+-------------------------------------+ Ubuntu 18.04 Kernel: 4.15.0-generic Compiler: gcc 7.4 NIC: Mellanox ConnectX-4 Lx 40000 Mbps Target: x86_64-native-linuxapp-gcc Fail/Total: 0/6 Detail performance results: +------------+---------+-------------------------------------+ | frame_size | txd/rxd | throughput difference from expected | +============+=========+=====================================+ | 64 | 256 | 0.128 | +------------+---------+-------------------------------------+ | 128 | 256 | -0.343 | +------------+---------+-------------------------------------+ | 256 | 256 | -0.624 | +------------+---------+-------------------------------------+ | 512 | 256 | 0.010 | +------------+---------+-------------------------------------+ | 1024 | 256 | 0.018 | +------------+---------+-------------------------------------+ | 1518 | 256 | -0.003 | +------------+---------+-------------------------------------+ To view detailed results, visit: https://lab.dpdk.org/results/dashboard/patchsets/15235/ UNH-IOL DPDK Community Lab To manage your email subscriptions, visit: https://lab.dpdk.org/results/dashboard/preferences/subscriptions/
[-- Attachment #1: Type: text/plain, Size: 913 bytes --] Test-Label: iol-abi-testing Test-Status: SUCCESS http://dpdk.org/patch/86721 _Testing PASS_ Submitter: Dekel Peled <dekelp@nvidia.com> Date: Sunday, January 17 2021 09:40:46 DPDK git baseline: Repo:dpdk Branch: master CommitID:6a426d733ec0d0d0d8edd6fb46da70a763a81194 86721 --> testing pass Test environment and result as below: +------------------+----------+ | Environment | abi_test | +==================+==========+ | Ubuntu 18.04 | PASS | +------------------+----------+ | Ubuntu 18.04 ARM | PASS | +------------------+----------+ Ubuntu 18.04 Kernel: 4.15.0-generic Compiler: gcc 7.5 Ubuntu 18.04 ARM Kernel: 5.4.0-53-generic Compiler: gcc 9.3 To view detailed results, visit: https://lab.dpdk.org/results/dashboard/patchsets/15235/ UNH-IOL DPDK Community Lab To manage your email subscriptions, visit: https://lab.dpdk.org/results/dashboard/preferences/subscriptions/
[-- Attachment #1: Type: text/plain, Size: 766 bytes --] Test-Label: iol-abi-testing Test-Status: SUCCESS http://dpdk.org/patch/86721 _Testing PASS_ Submitter: Dekel Peled <dekelp@nvidia.com> Date: Sunday, January 17 2021 09:40:46 DPDK git baseline: Repo:dpdk Branch: master CommitID:6a426d733ec0d0d0d8edd6fb46da70a763a81194 86721 --> testing pass Test environment and result as below: +--------------+----------+ | Environment | abi_test | +==============+==========+ | Ubuntu 18.04 | PASS | +--------------+----------+ Ubuntu 18.04 Kernel: 4.15.0-generic Compiler: gcc 7.5 To view detailed results, visit: https://lab.dpdk.org/results/dashboard/patchsets/15235/ UNH-IOL DPDK Community Lab To manage your email subscriptions, visit: https://lab.dpdk.org/results/dashboard/preferences/subscriptions/