* [dpdk-test-report] |SUCCESS| pw86957 [PATCH] net/ixgbe: disable NFS filtering
@ 2021-01-20 10:36 dpdklab
0 siblings, 0 replies; 13+ messages in thread
From: dpdklab @ 2021-01-20 10:36 UTC (permalink / raw)
To: Ajit Khaparde, Test Report; +Cc: dpdk-test-reports
[-- Attachment #1: Type: text/plain, Size: 792 bytes --]
Test-Label: iol-broadcom-Functional
Test-Status: SUCCESS
http://dpdk.org/patch/86957
_Functional Testing PASS_
Submitter: Yu, DapengX <dapengx.yu@intel.com>
Date: Wednesday, January 20 2021 09:27:00
DPDK git baseline: Repo:dpdk
Branch: master
CommitID:7d3046ed73fdcf705d7c571f1b8e7ca9e9b53e33
86957 --> functional testing pass
Test environment and result as below:
Ubuntu 18.04
Kernel: 4.15.0-65-generic
Compiler: gcc gcc (Ubuntu 7.4.0-1ubuntu1~18.04.1) 7.4.0
NIC: Broadcom Inc. brcm_57414 25000 Mbps
Target: x86_64-native-linuxapp-gcc
Fail/Total: 0/3
To view detailed results, visit:
https://lab.dpdk.org/results/dashboard/patchsets/15298/
UNH-IOL DPDK Community Lab
To manage your email subscriptions, visit:
https://lab.dpdk.org/results/dashboard/preferences/subscriptions/
^ permalink raw reply [flat|nested] 13+ messages in thread
* [dpdk-test-report] |SUCCESS| pw86957 [PATCH] net/ixgbe: disable NFS filtering
@ 2021-01-27 5:33 dpdklab
0 siblings, 0 replies; 13+ messages in thread
From: dpdklab @ 2021-01-27 5:33 UTC (permalink / raw)
To: Test Report; +Cc: dpdk-test-reports
[-- Attachment #1: Type: text/plain, Size: 919 bytes --]
Test-Label: iol-abi-testing
Test-Status: SUCCESS
http://dpdk.org/patch/86957
_Testing PASS_
Submitter: Yu, DapengX <dapengx.yu@intel.com>
Date: Wednesday, January 20 2021 09:27:00
DPDK git baseline: Repo:dpdk
Branch: master
CommitID:7d3046ed73fdcf705d7c571f1b8e7ca9e9b53e33
86957 --> testing pass
Test environment and result as below:
+------------------+----------+
| Environment | abi_test |
+==================+==========+
| Ubuntu 18.04 | PASS |
+------------------+----------+
| Ubuntu 18.04 ARM | PASS |
+------------------+----------+
Ubuntu 18.04
Kernel: 4.15.0-generic
Compiler: gcc 7.5
Ubuntu 18.04 ARM
Kernel: 5.4.0-53-generic
Compiler: gcc 9.3
To view detailed results, visit:
https://lab.dpdk.org/results/dashboard/patchsets/15298/
UNH-IOL DPDK Community Lab
To manage your email subscriptions, visit:
https://lab.dpdk.org/results/dashboard/preferences/subscriptions/
^ permalink raw reply [flat|nested] 13+ messages in thread
* [dpdk-test-report] |SUCCESS| pw86957 [PATCH] net/ixgbe: disable NFS filtering
@ 2021-01-27 3:56 dpdklab
0 siblings, 0 replies; 13+ messages in thread
From: dpdklab @ 2021-01-27 3:56 UTC (permalink / raw)
To: Test Report; +Cc: dpdk-test-reports
[-- Attachment #1: Type: text/plain, Size: 919 bytes --]
Test-Label: iol-abi-testing
Test-Status: SUCCESS
http://dpdk.org/patch/86957
_Testing PASS_
Submitter: Yu, DapengX <dapengx.yu@intel.com>
Date: Wednesday, January 20 2021 09:27:00
DPDK git baseline: Repo:dpdk
Branch: master
CommitID:7d3046ed73fdcf705d7c571f1b8e7ca9e9b53e33
86957 --> testing pass
Test environment and result as below:
+------------------+----------+
| Environment | abi_test |
+==================+==========+
| Ubuntu 18.04 | PASS |
+------------------+----------+
| Ubuntu 18.04 ARM | PASS |
+------------------+----------+
Ubuntu 18.04
Kernel: 4.15.0-generic
Compiler: gcc 7.5
Ubuntu 18.04 ARM
Kernel: 5.4.0-53-generic
Compiler: gcc 9.3
To view detailed results, visit:
https://lab.dpdk.org/results/dashboard/patchsets/15298/
UNH-IOL DPDK Community Lab
To manage your email subscriptions, visit:
https://lab.dpdk.org/results/dashboard/preferences/subscriptions/
^ permalink raw reply [flat|nested] 13+ messages in thread
* [dpdk-test-report] |SUCCESS| pw86957 [PATCH] net/ixgbe: disable NFS filtering
@ 2021-01-21 8:43 dpdklab
0 siblings, 0 replies; 13+ messages in thread
From: dpdklab @ 2021-01-21 8:43 UTC (permalink / raw)
To: Ali Alnubani, Test Report; +Cc: dpdk-test-reports
[-- Attachment #1: Type: text/plain, Size: 895 bytes --]
Test-Label: iol-mellanox-Functional
Test-Status: SUCCESS
http://dpdk.org/patch/86957
_Functional Testing PASS_
Submitter: Yu, DapengX <dapengx.yu@intel.com>
Date: Wednesday, January 20 2021 09:27:00
DPDK git baseline: Repo:dpdk
Branch: master
CommitID:7d3046ed73fdcf705d7c571f1b8e7ca9e9b53e33
86957 --> functional testing pass
Test environment and result as below:
Ubuntu 18.04
Kernel: 4.15.0-generic
Compiler: gcc 7.4
NIC: Mellanox ConnectX-4 Lx 25000 Mbps
Target: x86_64-native-linuxapp-gcc
Fail/Total: 0/5
Ubuntu 18.04
Kernel: 4.15.0-generic
Compiler: gcc 7.4
NIC: Mellanox ConnectX-4 Lx 40000 Mbps
Target: x86_64-native-linuxapp-gcc
Fail/Total: 0/5
To view detailed results, visit:
https://lab.dpdk.org/results/dashboard/patchsets/15298/
UNH-IOL DPDK Community Lab
To manage your email subscriptions, visit:
https://lab.dpdk.org/results/dashboard/preferences/subscriptions/
^ permalink raw reply [flat|nested] 13+ messages in thread
* [dpdk-test-report] |SUCCESS| pw86957 [PATCH] net/ixgbe: disable NFS filtering
@ 2021-01-21 7:54 dpdklab
0 siblings, 0 replies; 13+ messages in thread
From: dpdklab @ 2021-01-21 7:54 UTC (permalink / raw)
To: Ali Alnubani, Test Report; +Cc: dpdk-test-reports
[-- Attachment #1: Type: text/plain, Size: 895 bytes --]
Test-Label: iol-mellanox-Functional
Test-Status: SUCCESS
http://dpdk.org/patch/86957
_Functional Testing PASS_
Submitter: Yu, DapengX <dapengx.yu@intel.com>
Date: Wednesday, January 20 2021 09:27:00
DPDK git baseline: Repo:dpdk
Branch: master
CommitID:7d3046ed73fdcf705d7c571f1b8e7ca9e9b53e33
86957 --> functional testing pass
Test environment and result as below:
Ubuntu 18.04
Kernel: 4.15.0-generic
Compiler: gcc 7.4
NIC: Mellanox ConnectX-4 Lx 25000 Mbps
Target: x86_64-native-linuxapp-gcc
Fail/Total: 0/5
Ubuntu 18.04
Kernel: 4.15.0-generic
Compiler: gcc 7.4
NIC: Mellanox ConnectX-4 Lx 40000 Mbps
Target: x86_64-native-linuxapp-gcc
Fail/Total: 0/5
To view detailed results, visit:
https://lab.dpdk.org/results/dashboard/patchsets/15298/
UNH-IOL DPDK Community Lab
To manage your email subscriptions, visit:
https://lab.dpdk.org/results/dashboard/preferences/subscriptions/
^ permalink raw reply [flat|nested] 13+ messages in thread
* [dpdk-test-report] |SUCCESS| pw86957 [PATCH] net/ixgbe: disable NFS filtering
@ 2021-01-20 11:17 dpdklab
0 siblings, 0 replies; 13+ messages in thread
From: dpdklab @ 2021-01-20 11:17 UTC (permalink / raw)
To: Test Report; +Cc: dpdk-test-reports
[-- Attachment #1: Type: text/plain, Size: 971 bytes --]
Test-Label: iol-intel-Functional
Test-Status: SUCCESS
http://dpdk.org/patch/86957
_Functional Testing PASS_
Submitter: Yu, DapengX <dapengx.yu@intel.com>
Date: Wednesday, January 20 2021 09:27:00
DPDK git baseline: Repo:dpdk
Branch: master
CommitID:7d3046ed73fdcf705d7c571f1b8e7ca9e9b53e33
86957 --> functional testing pass
Test environment and result as below:
Ubuntu 18.04
Kernel: 4.15.0-generic
Compiler: gcc 7.4
NIC: Intel Corporation Ethernet Converged Network Adapter XL710-QDA2 40000 Mbps
Target: x86_64-native-linuxapp-gcc
Fail/Total: 0/3
Ubuntu 18.04
Kernel: 4.15.0-generic
Compiler: gcc 7.4
NIC: Intel Corporation Ethernet Converged Network Adapter 82599ES 10000 Mbps
Target: x86_64-native-linuxapp-gcc
Fail/Total: 0/5
To view detailed results, visit:
https://lab.dpdk.org/results/dashboard/patchsets/15298/
UNH-IOL DPDK Community Lab
To manage your email subscriptions, visit:
https://lab.dpdk.org/results/dashboard/preferences/subscriptions/
^ permalink raw reply [flat|nested] 13+ messages in thread
* [dpdk-test-report] |SUCCESS| pw86957 [PATCH] net/ixgbe: disable NFS filtering
@ 2021-01-20 11:08 dpdklab
0 siblings, 0 replies; 13+ messages in thread
From: dpdklab @ 2021-01-20 11:08 UTC (permalink / raw)
To: Test Report; +Cc: dpdk-test-reports
[-- Attachment #1: Type: text/plain, Size: 1914 bytes --]
Test-Label: iol-intel-Performance
Test-Status: SUCCESS
http://dpdk.org/patch/86957
_Performance Testing PASS_
Submitter: Yu, DapengX <dapengx.yu@intel.com>
Date: Wednesday, January 20 2021 09:27:00
DPDK git baseline: Repo:dpdk
Branch: master
CommitID:7d3046ed73fdcf705d7c571f1b8e7ca9e9b53e33
86957 --> performance testing pass
Test environment and result as below:
Ubuntu 18.04
Kernel: 4.15.0-generic
Compiler: gcc 7.4
NIC: Intel Corporation Ethernet Converged Network Adapter 82599ES 10000 Mbps
Target: x86_64-native-linuxapp-gcc
Fail/Total: 0/2
Detail performance results:
+------------+---------+-------------------------------------+
| frame_size | txd/rxd | throughput difference from expected |
+============+=========+=====================================+
| 64 | 512 | 1.958 |
+------------+---------+-------------------------------------+
| 64 | 2048 | 1.096 |
+------------+---------+-------------------------------------+
Ubuntu 18.04
Kernel: 4.15.0-generic
Compiler: gcc 7.4
NIC: Intel Corporation Ethernet Converged Network Adapter XL710-QDA2 40000 Mbps
Target: x86_64-native-linuxapp-gcc
Fail/Total: 0/2
Detail performance results:
+------------+---------+-------------------------------------+
| frame_size | txd/rxd | throughput difference from expected |
+============+=========+=====================================+
| 64 | 512 | 2.745 |
+------------+---------+-------------------------------------+
| 64 | 2048 | 1.963 |
+------------+---------+-------------------------------------+
To view detailed results, visit:
https://lab.dpdk.org/results/dashboard/patchsets/15298/
UNH-IOL DPDK Community Lab
To manage your email subscriptions, visit:
https://lab.dpdk.org/results/dashboard/preferences/subscriptions/
^ permalink raw reply [flat|nested] 13+ messages in thread
* [dpdk-test-report] |SUCCESS| pw86957 [PATCH] net/ixgbe: disable NFS filtering
@ 2021-01-20 10:42 dpdklab
0 siblings, 0 replies; 13+ messages in thread
From: dpdklab @ 2021-01-20 10:42 UTC (permalink / raw)
To: Ajit Khaparde, Test Report; +Cc: dpdk-test-reports
[-- Attachment #1: Type: text/plain, Size: 1265 bytes --]
Test-Label: iol-broadcom-Performance
Test-Status: SUCCESS
http://dpdk.org/patch/86957
_Performance Testing PASS_
Submitter: Yu, DapengX <dapengx.yu@intel.com>
Date: Wednesday, January 20 2021 09:27:00
DPDK git baseline: Repo:dpdk
Branch: master
CommitID:7d3046ed73fdcf705d7c571f1b8e7ca9e9b53e33
86957 --> performance testing pass
Test environment and result as below:
Ubuntu 18.04
Kernel: 4.15.0-65-generic
Compiler: gcc gcc (Ubuntu 7.4.0-1ubuntu1~18.04.1) 7.4.0
NIC: Broadcom Inc. brcm_57414 25000 Mbps
Target: x86_64-native-linuxapp-gcc
Fail/Total: 0/2
Detail performance results:
+------------+---------+-------------------------------------+
| frame_size | txd/rxd | throughput difference from expected |
+============+=========+=====================================+
| 64 | 512 | -0.007 |
+------------+---------+-------------------------------------+
| 64 | 2048 | -0.005 |
+------------+---------+-------------------------------------+
To view detailed results, visit:
https://lab.dpdk.org/results/dashboard/patchsets/15298/
UNH-IOL DPDK Community Lab
To manage your email subscriptions, visit:
https://lab.dpdk.org/results/dashboard/preferences/subscriptions/
^ permalink raw reply [flat|nested] 13+ messages in thread
* [dpdk-test-report] |SUCCESS| pw86957 [PATCH] net/ixgbe: disable NFS filtering
@ 2021-01-20 10:41 dpdklab
0 siblings, 0 replies; 13+ messages in thread
From: dpdklab @ 2021-01-20 10:41 UTC (permalink / raw)
To: Test Report; +Cc: dpdk-test-reports
[-- Attachment #1: Type: text/plain, Size: 971 bytes --]
Test-Label: iol-intel-Functional
Test-Status: SUCCESS
http://dpdk.org/patch/86957
_Functional Testing PASS_
Submitter: Yu, DapengX <dapengx.yu@intel.com>
Date: Wednesday, January 20 2021 09:27:00
DPDK git baseline: Repo:dpdk
Branch: master
CommitID:7d3046ed73fdcf705d7c571f1b8e7ca9e9b53e33
86957 --> functional testing pass
Test environment and result as below:
Ubuntu 18.04
Kernel: 4.15.0-generic
Compiler: gcc 7.4
NIC: Intel Corporation Ethernet Converged Network Adapter XL710-QDA2 40000 Mbps
Target: x86_64-native-linuxapp-gcc
Fail/Total: 0/3
Ubuntu 18.04
Kernel: 4.15.0-generic
Compiler: gcc 7.4
NIC: Intel Corporation Ethernet Converged Network Adapter 82599ES 10000 Mbps
Target: x86_64-native-linuxapp-gcc
Fail/Total: 0/5
To view detailed results, visit:
https://lab.dpdk.org/results/dashboard/patchsets/15298/
UNH-IOL DPDK Community Lab
To manage your email subscriptions, visit:
https://lab.dpdk.org/results/dashboard/preferences/subscriptions/
^ permalink raw reply [flat|nested] 13+ messages in thread
* [dpdk-test-report] |SUCCESS| pw86957 [PATCH] net/ixgbe: disable NFS filtering
@ 2021-01-20 10:41 dpdklab
0 siblings, 0 replies; 13+ messages in thread
From: dpdklab @ 2021-01-20 10:41 UTC (permalink / raw)
To: Test Report; +Cc: dpdk-test-reports
[-- Attachment #1: Type: text/plain, Size: 1914 bytes --]
Test-Label: iol-intel-Performance
Test-Status: SUCCESS
http://dpdk.org/patch/86957
_Performance Testing PASS_
Submitter: Yu, DapengX <dapengx.yu@intel.com>
Date: Wednesday, January 20 2021 09:27:00
DPDK git baseline: Repo:dpdk
Branch: master
CommitID:7d3046ed73fdcf705d7c571f1b8e7ca9e9b53e33
86957 --> performance testing pass
Test environment and result as below:
Ubuntu 18.04
Kernel: 4.15.0-generic
Compiler: gcc 7.4
NIC: Intel Corporation Ethernet Converged Network Adapter 82599ES 10000 Mbps
Target: x86_64-native-linuxapp-gcc
Fail/Total: 0/2
Detail performance results:
+------------+---------+-------------------------------------+
| frame_size | txd/rxd | throughput difference from expected |
+============+=========+=====================================+
| 64 | 512 | 1.987 |
+------------+---------+-------------------------------------+
| 64 | 2048 | 1.058 |
+------------+---------+-------------------------------------+
Ubuntu 18.04
Kernel: 4.15.0-generic
Compiler: gcc 7.4
NIC: Intel Corporation Ethernet Converged Network Adapter XL710-QDA2 40000 Mbps
Target: x86_64-native-linuxapp-gcc
Fail/Total: 0/2
Detail performance results:
+------------+---------+-------------------------------------+
| frame_size | txd/rxd | throughput difference from expected |
+============+=========+=====================================+
| 64 | 512 | 2.891 |
+------------+---------+-------------------------------------+
| 64 | 2048 | 1.992 |
+------------+---------+-------------------------------------+
To view detailed results, visit:
https://lab.dpdk.org/results/dashboard/patchsets/15298/
UNH-IOL DPDK Community Lab
To manage your email subscriptions, visit:
https://lab.dpdk.org/results/dashboard/preferences/subscriptions/
^ permalink raw reply [flat|nested] 13+ messages in thread
* [dpdk-test-report] |SUCCESS| pw86957 [PATCH] net/ixgbe: disable NFS filtering
@ 2021-01-20 10:27 dpdklab
0 siblings, 0 replies; 13+ messages in thread
From: dpdklab @ 2021-01-20 10:27 UTC (permalink / raw)
To: Ajit Khaparde, Test Report; +Cc: dpdk-test-reports
[-- Attachment #1: Type: text/plain, Size: 1265 bytes --]
Test-Label: iol-broadcom-Performance
Test-Status: SUCCESS
http://dpdk.org/patch/86957
_Performance Testing PASS_
Submitter: Yu, DapengX <dapengx.yu@intel.com>
Date: Wednesday, January 20 2021 09:27:00
DPDK git baseline: Repo:dpdk
Branch: master
CommitID:7d3046ed73fdcf705d7c571f1b8e7ca9e9b53e33
86957 --> performance testing pass
Test environment and result as below:
Ubuntu 18.04
Kernel: 4.15.0-65-generic
Compiler: gcc gcc (Ubuntu 7.4.0-1ubuntu1~18.04.1) 7.4.0
NIC: Broadcom Inc. brcm_57414 25000 Mbps
Target: x86_64-native-linuxapp-gcc
Fail/Total: 0/2
Detail performance results:
+------------+---------+-------------------------------------+
| frame_size | txd/rxd | throughput difference from expected |
+============+=========+=====================================+
| 64 | 512 | -0.043 |
+------------+---------+-------------------------------------+
| 64 | 2048 | -0.002 |
+------------+---------+-------------------------------------+
To view detailed results, visit:
https://lab.dpdk.org/results/dashboard/patchsets/15298/
UNH-IOL DPDK Community Lab
To manage your email subscriptions, visit:
https://lab.dpdk.org/results/dashboard/preferences/subscriptions/
^ permalink raw reply [flat|nested] 13+ messages in thread
* [dpdk-test-report] |SUCCESS| pw86957 [PATCH] net/ixgbe: disable NFS filtering
@ 2021-01-20 10:21 dpdklab
0 siblings, 0 replies; 13+ messages in thread
From: dpdklab @ 2021-01-20 10:21 UTC (permalink / raw)
To: Ajit Khaparde, Test Report; +Cc: dpdk-test-reports
[-- Attachment #1: Type: text/plain, Size: 792 bytes --]
Test-Label: iol-broadcom-Functional
Test-Status: SUCCESS
http://dpdk.org/patch/86957
_Functional Testing PASS_
Submitter: Yu, DapengX <dapengx.yu@intel.com>
Date: Wednesday, January 20 2021 09:27:00
DPDK git baseline: Repo:dpdk
Branch: master
CommitID:7d3046ed73fdcf705d7c571f1b8e7ca9e9b53e33
86957 --> functional testing pass
Test environment and result as below:
Ubuntu 18.04
Kernel: 4.15.0-65-generic
Compiler: gcc gcc (Ubuntu 7.4.0-1ubuntu1~18.04.1) 7.4.0
NIC: Broadcom Inc. brcm_57414 25000 Mbps
Target: x86_64-native-linuxapp-gcc
Fail/Total: 0/3
To view detailed results, visit:
https://lab.dpdk.org/results/dashboard/patchsets/15298/
UNH-IOL DPDK Community Lab
To manage your email subscriptions, visit:
https://lab.dpdk.org/results/dashboard/preferences/subscriptions/
^ permalink raw reply [flat|nested] 13+ messages in thread
* [dpdk-test-report] |SUCCESS| pw86957 [PATCH] net/ixgbe: disable NFS filtering
[not found] <20210120092700.105207-1-dapengx.yu@intel.com>
@ 2021-01-20 9:27 ` checkpatch
0 siblings, 0 replies; 13+ messages in thread
From: checkpatch @ 2021-01-20 9:27 UTC (permalink / raw)
To: test-report
Test-Label: checkpatch
Test-Status: SUCCESS
http://dpdk.org/patch/86957
_coding style OK_
^ permalink raw reply [flat|nested] 13+ messages in thread
end of thread, other threads:[~2021-01-27 5:33 UTC | newest]
Thread overview: 13+ messages (download: mbox.gz / follow: Atom feed)
-- links below jump to the message on this page --
2021-01-20 10:36 [dpdk-test-report] |SUCCESS| pw86957 [PATCH] net/ixgbe: disable NFS filtering dpdklab
-- strict thread matches above, loose matches on Subject: below --
2021-01-27 5:33 dpdklab
2021-01-27 3:56 dpdklab
2021-01-21 8:43 dpdklab
2021-01-21 7:54 dpdklab
2021-01-20 11:17 dpdklab
2021-01-20 11:08 dpdklab
2021-01-20 10:42 dpdklab
2021-01-20 10:41 dpdklab
2021-01-20 10:41 dpdklab
2021-01-20 10:27 dpdklab
2021-01-20 10:21 dpdklab
[not found] <20210120092700.105207-1-dapengx.yu@intel.com>
2021-01-20 9:27 ` checkpatch
This is a public inbox, see mirroring instructions
for how to clone and mirror all data and code used for this inbox;
as well as URLs for NNTP newsgroup(s).