* [dpdk-test-report] |SUCCESS| pw86819 [PATCH] [v2] test/event_crypto_adapter: set cipher operation in transform
@ 2021-01-21 4:23 dpdklab
0 siblings, 0 replies; 13+ messages in thread
From: dpdklab @ 2021-01-21 4:23 UTC (permalink / raw)
To: Ali Alnubani, Test Report; +Cc: dpdk-test-reports
[-- Attachment #1: Type: text/plain, Size: 3963 bytes --]
Test-Label: iol-mellanox-Performance
Test-Status: SUCCESS
http://dpdk.org/patch/86819
_Performance Testing PASS_
Submitter: Ankur Dwivedi <adwivedi@marvell.com>
Date: Monday, January 18 2021 16:19:40
DPDK git baseline: Repo:dpdk
Branch: master
CommitID:e03d2c3c705e40281bda2f11a947f4d3d5e062e6
86819 --> performance testing pass
Test environment and result as below:
Ubuntu 18.04
Kernel: 4.15.0-generic
Compiler: gcc 7.4
NIC: Mellanox ConnectX-5 100000 Mbps
Target: x86_64-native-linuxapp-gcc
Fail/Total: 0/6
Detail performance results:
+------------+---------+-------------------------------------+
| frame_size | txd/rxd | throughput difference from expected |
+============+=========+=====================================+
| 64 | 256 | -0.018 |
+------------+---------+-------------------------------------+
| 128 | 256 | 0.155 |
+------------+---------+-------------------------------------+
| 256 | 256 | -0.059 |
+------------+---------+-------------------------------------+
| 512 | 256 | -0.035 |
+------------+---------+-------------------------------------+
| 1024 | 256 | -0.220 |
+------------+---------+-------------------------------------+
| 1518 | 256 | 0.005 |
+------------+---------+-------------------------------------+
Ubuntu 18.04
Kernel: 4.15.0-generic
Compiler: gcc 7.4
NIC: Mellanox ConnectX-4 Lx 25000 Mbps
Target: x86_64-native-linuxapp-gcc
Fail/Total: 0/6
Detail performance results:
+------------+---------+-------------------------------------+
| frame_size | txd/rxd | throughput difference from expected |
+============+=========+=====================================+
| 64 | 256 | -0.101 |
+------------+---------+-------------------------------------+
| 128 | 256 | 0.329 |
+------------+---------+-------------------------------------+
| 256 | 256 | -0.020 |
+------------+---------+-------------------------------------+
| 512 | 256 | 0.043 |
+------------+---------+-------------------------------------+
| 1024 | 256 | -0.003 |
+------------+---------+-------------------------------------+
| 1518 | 256 | -0.004 |
+------------+---------+-------------------------------------+
Ubuntu 18.04
Kernel: 4.15.0-generic
Compiler: gcc 7.4
NIC: Mellanox ConnectX-4 Lx 40000 Mbps
Target: x86_64-native-linuxapp-gcc
Fail/Total: 0/6
Detail performance results:
+------------+---------+-------------------------------------+
| frame_size | txd/rxd | throughput difference from expected |
+============+=========+=====================================+
| 64 | 256 | 0.235 |
+------------+---------+-------------------------------------+
| 128 | 256 | 0.159 |
+------------+---------+-------------------------------------+
| 256 | 256 | -0.054 |
+------------+---------+-------------------------------------+
| 512 | 256 | -0.058 |
+------------+---------+-------------------------------------+
| 1024 | 256 | -0.019 |
+------------+---------+-------------------------------------+
| 1518 | 256 | 0.014 |
+------------+---------+-------------------------------------+
To view detailed results, visit:
https://lab.dpdk.org/results/dashboard/patchsets/15261/
UNH-IOL DPDK Community Lab
To manage your email subscriptions, visit:
https://lab.dpdk.org/results/dashboard/preferences/subscriptions/
^ permalink raw reply [flat|nested] 13+ messages in thread
* [dpdk-test-report] |SUCCESS| pw86819 [PATCH] [v2] test/event_crypto_adapter: set cipher operation in transform
@ 2021-01-21 17:07 dpdklab
0 siblings, 0 replies; 13+ messages in thread
From: dpdklab @ 2021-01-21 17:07 UTC (permalink / raw)
To: Test Report; +Cc: dpdk-test-reports
[-- Attachment #1: Type: text/plain, Size: 918 bytes --]
Test-Label: iol-abi-testing
Test-Status: SUCCESS
http://dpdk.org/patch/86819
_Testing PASS_
Submitter: Ankur Dwivedi <adwivedi@marvell.com>
Date: Monday, January 18 2021 16:19:40
DPDK git baseline: Repo:dpdk
Branch: master
CommitID:e03d2c3c705e40281bda2f11a947f4d3d5e062e6
86819 --> testing pass
Test environment and result as below:
+------------------+----------+
| Environment | abi_test |
+==================+==========+
| Ubuntu 18.04 | PASS |
+------------------+----------+
| Ubuntu 18.04 ARM | PASS |
+------------------+----------+
Ubuntu 18.04
Kernel: 4.15.0-generic
Compiler: gcc 7.5
Ubuntu 18.04 ARM
Kernel: 5.4.0-53-generic
Compiler: gcc 9.3
To view detailed results, visit:
https://lab.dpdk.org/results/dashboard/patchsets/15261/
UNH-IOL DPDK Community Lab
To manage your email subscriptions, visit:
https://lab.dpdk.org/results/dashboard/preferences/subscriptions/
^ permalink raw reply [flat|nested] 13+ messages in thread
* [dpdk-test-report] |SUCCESS| pw86819 [PATCH] [v2] test/event_crypto_adapter: set cipher operation in transform
@ 2021-01-21 15:07 dpdklab
0 siblings, 0 replies; 13+ messages in thread
From: dpdklab @ 2021-01-21 15:07 UTC (permalink / raw)
To: Test Report; +Cc: dpdk-test-reports
[-- Attachment #1: Type: text/plain, Size: 918 bytes --]
Test-Label: iol-abi-testing
Test-Status: SUCCESS
http://dpdk.org/patch/86819
_Testing PASS_
Submitter: Ankur Dwivedi <adwivedi@marvell.com>
Date: Monday, January 18 2021 16:19:40
DPDK git baseline: Repo:dpdk
Branch: master
CommitID:e03d2c3c705e40281bda2f11a947f4d3d5e062e6
86819 --> testing pass
Test environment and result as below:
+------------------+----------+
| Environment | abi_test |
+==================+==========+
| Ubuntu 18.04 | PASS |
+------------------+----------+
| Ubuntu 18.04 ARM | PASS |
+------------------+----------+
Ubuntu 18.04
Kernel: 4.15.0-generic
Compiler: gcc 7.5
Ubuntu 18.04 ARM
Kernel: 5.4.0-53-generic
Compiler: gcc 9.3
To view detailed results, visit:
https://lab.dpdk.org/results/dashboard/patchsets/15261/
UNH-IOL DPDK Community Lab
To manage your email subscriptions, visit:
https://lab.dpdk.org/results/dashboard/preferences/subscriptions/
^ permalink raw reply [flat|nested] 13+ messages in thread
* [dpdk-test-report] |SUCCESS| pw86819 [PATCH] [v2] test/event_crypto_adapter: set cipher operation in transform
@ 2021-01-21 3:08 dpdklab
0 siblings, 0 replies; 13+ messages in thread
From: dpdklab @ 2021-01-21 3:08 UTC (permalink / raw)
To: Ali Alnubani, Test Report; +Cc: dpdk-test-reports
[-- Attachment #1: Type: text/plain, Size: 3963 bytes --]
Test-Label: iol-mellanox-Performance
Test-Status: SUCCESS
http://dpdk.org/patch/86819
_Performance Testing PASS_
Submitter: Ankur Dwivedi <adwivedi@marvell.com>
Date: Monday, January 18 2021 16:19:40
DPDK git baseline: Repo:dpdk
Branch: master
CommitID:e03d2c3c705e40281bda2f11a947f4d3d5e062e6
86819 --> performance testing pass
Test environment and result as below:
Ubuntu 18.04
Kernel: 4.15.0-generic
Compiler: gcc 7.4
NIC: Mellanox ConnectX-5 100000 Mbps
Target: x86_64-native-linuxapp-gcc
Fail/Total: 0/6
Detail performance results:
+------------+---------+-------------------------------------+
| frame_size | txd/rxd | throughput difference from expected |
+============+=========+=====================================+
| 64 | 256 | 0.099 |
+------------+---------+-------------------------------------+
| 128 | 256 | 0.015 |
+------------+---------+-------------------------------------+
| 256 | 256 | 0.103 |
+------------+---------+-------------------------------------+
| 512 | 256 | -0.059 |
+------------+---------+-------------------------------------+
| 1024 | 256 | -0.136 |
+------------+---------+-------------------------------------+
| 1518 | 256 | 0.002 |
+------------+---------+-------------------------------------+
Ubuntu 18.04
Kernel: 4.15.0-generic
Compiler: gcc 7.4
NIC: Mellanox ConnectX-4 Lx 25000 Mbps
Target: x86_64-native-linuxapp-gcc
Fail/Total: 0/6
Detail performance results:
+------------+---------+-------------------------------------+
| frame_size | txd/rxd | throughput difference from expected |
+============+=========+=====================================+
| 64 | 256 | 0.178 |
+------------+---------+-------------------------------------+
| 128 | 256 | 0.199 |
+------------+---------+-------------------------------------+
| 256 | 256 | 0.198 |
+------------+---------+-------------------------------------+
| 512 | 256 | 0.009 |
+------------+---------+-------------------------------------+
| 1024 | 256 | -0.003 |
+------------+---------+-------------------------------------+
| 1518 | 256 | -0.005 |
+------------+---------+-------------------------------------+
Ubuntu 18.04
Kernel: 4.15.0-generic
Compiler: gcc 7.4
NIC: Mellanox ConnectX-4 Lx 40000 Mbps
Target: x86_64-native-linuxapp-gcc
Fail/Total: 0/6
Detail performance results:
+------------+---------+-------------------------------------+
| frame_size | txd/rxd | throughput difference from expected |
+============+=========+=====================================+
| 64 | 256 | -0.081 |
+------------+---------+-------------------------------------+
| 128 | 256 | 0.183 |
+------------+---------+-------------------------------------+
| 256 | 256 | 0.114 |
+------------+---------+-------------------------------------+
| 512 | 256 | -0.066 |
+------------+---------+-------------------------------------+
| 1024 | 256 | 0.005 |
+------------+---------+-------------------------------------+
| 1518 | 256 | 0.010 |
+------------+---------+-------------------------------------+
To view detailed results, visit:
https://lab.dpdk.org/results/dashboard/patchsets/15261/
UNH-IOL DPDK Community Lab
To manage your email subscriptions, visit:
https://lab.dpdk.org/results/dashboard/preferences/subscriptions/
^ permalink raw reply [flat|nested] 13+ messages in thread
* [dpdk-test-report] |SUCCESS| pw86819 [PATCH] [v2] test/event_crypto_adapter: set cipher operation in transform
@ 2021-01-19 1:15 dpdklab
0 siblings, 0 replies; 13+ messages in thread
From: dpdklab @ 2021-01-19 1:15 UTC (permalink / raw)
To: Ali Alnubani, Test Report; +Cc: dpdk-test-reports
[-- Attachment #1: Type: text/plain, Size: 894 bytes --]
Test-Label: iol-mellanox-Functional
Test-Status: SUCCESS
http://dpdk.org/patch/86819
_Functional Testing PASS_
Submitter: Ankur Dwivedi <adwivedi@marvell.com>
Date: Monday, January 18 2021 16:19:40
DPDK git baseline: Repo:dpdk
Branch: master
CommitID:e03d2c3c705e40281bda2f11a947f4d3d5e062e6
86819 --> functional testing pass
Test environment and result as below:
Ubuntu 18.04
Kernel: 4.15.0-generic
Compiler: gcc 7.4
NIC: Mellanox ConnectX-4 Lx 25000 Mbps
Target: x86_64-native-linuxapp-gcc
Fail/Total: 0/5
Ubuntu 18.04
Kernel: 4.15.0-generic
Compiler: gcc 7.4
NIC: Mellanox ConnectX-4 Lx 40000 Mbps
Target: x86_64-native-linuxapp-gcc
Fail/Total: 0/5
To view detailed results, visit:
https://lab.dpdk.org/results/dashboard/patchsets/15261/
UNH-IOL DPDK Community Lab
To manage your email subscriptions, visit:
https://lab.dpdk.org/results/dashboard/preferences/subscriptions/
^ permalink raw reply [flat|nested] 13+ messages in thread
* [dpdk-test-report] |SUCCESS| pw86819 [PATCH] [v2] test/event_crypto_adapter: set cipher operation in transform
@ 2021-01-18 23:57 dpdklab
0 siblings, 0 replies; 13+ messages in thread
From: dpdklab @ 2021-01-18 23:57 UTC (permalink / raw)
To: Ali Alnubani, Test Report; +Cc: dpdk-test-reports
[-- Attachment #1: Type: text/plain, Size: 894 bytes --]
Test-Label: iol-mellanox-Functional
Test-Status: SUCCESS
http://dpdk.org/patch/86819
_Functional Testing PASS_
Submitter: Ankur Dwivedi <adwivedi@marvell.com>
Date: Monday, January 18 2021 16:19:40
DPDK git baseline: Repo:dpdk
Branch: master
CommitID:e03d2c3c705e40281bda2f11a947f4d3d5e062e6
86819 --> functional testing pass
Test environment and result as below:
Ubuntu 18.04
Kernel: 4.15.0-generic
Compiler: gcc 7.4
NIC: Mellanox ConnectX-4 Lx 25000 Mbps
Target: x86_64-native-linuxapp-gcc
Fail/Total: 0/5
Ubuntu 18.04
Kernel: 4.15.0-generic
Compiler: gcc 7.4
NIC: Mellanox ConnectX-4 Lx 40000 Mbps
Target: x86_64-native-linuxapp-gcc
Fail/Total: 0/5
To view detailed results, visit:
https://lab.dpdk.org/results/dashboard/patchsets/15261/
UNH-IOL DPDK Community Lab
To manage your email subscriptions, visit:
https://lab.dpdk.org/results/dashboard/preferences/subscriptions/
^ permalink raw reply [flat|nested] 13+ messages in thread
* [dpdk-test-report] |SUCCESS| pw86819 [PATCH] [v2] test/event_crypto_adapter: set cipher operation in transform
@ 2021-01-18 18:25 dpdklab
0 siblings, 0 replies; 13+ messages in thread
From: dpdklab @ 2021-01-18 18:25 UTC (permalink / raw)
To: Test Report; +Cc: dpdk-test-reports
[-- Attachment #1: Type: text/plain, Size: 1259 bytes --]
Test-Label: iol-intel-Performance
Test-Status: SUCCESS
http://dpdk.org/patch/86819
_Performance Testing PASS_
Submitter: Ankur Dwivedi <adwivedi@marvell.com>
Date: Monday, January 18 2021 16:19:40
DPDK git baseline: Repo:dpdk
Branch: master
CommitID:e03d2c3c705e40281bda2f11a947f4d3d5e062e6
86819 --> performance testing pass
Test environment and result as below:
Ubuntu 18.04
Kernel: 4.15.0-generic
Compiler: gcc 7.4
NIC: Intel Corporation Ethernet Converged Network Adapter XL710-QDA2 40000 Mbps
Target: x86_64-native-linuxapp-gcc
Fail/Total: 0/2
Detail performance results:
+------------+---------+-------------------------------------+
| frame_size | txd/rxd | throughput difference from expected |
+============+=========+=====================================+
| 64 | 512 | 2.784 |
+------------+---------+-------------------------------------+
| 64 | 2048 | 2.014 |
+------------+---------+-------------------------------------+
To view detailed results, visit:
https://lab.dpdk.org/results/dashboard/patchsets/15261/
UNH-IOL DPDK Community Lab
To manage your email subscriptions, visit:
https://lab.dpdk.org/results/dashboard/preferences/subscriptions/
^ permalink raw reply [flat|nested] 13+ messages in thread
* [dpdk-test-report] |SUCCESS| pw86819 [PATCH] [v2] test/event_crypto_adapter: set cipher operation in transform
@ 2021-01-18 18:11 dpdklab
0 siblings, 0 replies; 13+ messages in thread
From: dpdklab @ 2021-01-18 18:11 UTC (permalink / raw)
To: Test Report; +Cc: dpdk-test-reports
[-- Attachment #1: Type: text/plain, Size: 786 bytes --]
Test-Label: iol-intel-Functional
Test-Status: SUCCESS
http://dpdk.org/patch/86819
_Functional Testing PASS_
Submitter: Ankur Dwivedi <adwivedi@marvell.com>
Date: Monday, January 18 2021 16:19:40
DPDK git baseline: Repo:dpdk
Branch: master
CommitID:e03d2c3c705e40281bda2f11a947f4d3d5e062e6
86819 --> functional testing pass
Test environment and result as below:
Ubuntu 18.04
Kernel: 4.15.0-generic
Compiler: gcc 7.4
NIC: Intel Corporation Ethernet Converged Network Adapter XL710-QDA2 40000 Mbps
Target: x86_64-native-linuxapp-gcc
Fail/Total: 0/3
To view detailed results, visit:
https://lab.dpdk.org/results/dashboard/patchsets/15261/
UNH-IOL DPDK Community Lab
To manage your email subscriptions, visit:
https://lab.dpdk.org/results/dashboard/preferences/subscriptions/
^ permalink raw reply [flat|nested] 13+ messages in thread
* [dpdk-test-report] |SUCCESS| pw86819 [PATCH] [v2] test/event_crypto_adapter: set cipher operation in transform
@ 2021-01-18 18:01 dpdklab
0 siblings, 0 replies; 13+ messages in thread
From: dpdklab @ 2021-01-18 18:01 UTC (permalink / raw)
To: Test Report; +Cc: dpdk-test-reports
[-- Attachment #1: Type: text/plain, Size: 1259 bytes --]
Test-Label: iol-intel-Performance
Test-Status: SUCCESS
http://dpdk.org/patch/86819
_Performance Testing PASS_
Submitter: Ankur Dwivedi <adwivedi@marvell.com>
Date: Monday, January 18 2021 16:19:40
DPDK git baseline: Repo:dpdk
Branch: master
CommitID:e03d2c3c705e40281bda2f11a947f4d3d5e062e6
86819 --> performance testing pass
Test environment and result as below:
Ubuntu 18.04
Kernel: 4.15.0-generic
Compiler: gcc 7.4
NIC: Intel Corporation Ethernet Converged Network Adapter XL710-QDA2 40000 Mbps
Target: x86_64-native-linuxapp-gcc
Fail/Total: 0/2
Detail performance results:
+------------+---------+-------------------------------------+
| frame_size | txd/rxd | throughput difference from expected |
+============+=========+=====================================+
| 64 | 512 | 2.606 |
+------------+---------+-------------------------------------+
| 64 | 2048 | 1.848 |
+------------+---------+-------------------------------------+
To view detailed results, visit:
https://lab.dpdk.org/results/dashboard/patchsets/15261/
UNH-IOL DPDK Community Lab
To manage your email subscriptions, visit:
https://lab.dpdk.org/results/dashboard/preferences/subscriptions/
^ permalink raw reply [flat|nested] 13+ messages in thread
* [dpdk-test-report] |SUCCESS| pw86819 [PATCH] [v2] test/event_crypto_adapter: set cipher operation in transform
@ 2021-01-18 17:54 dpdklab
0 siblings, 0 replies; 13+ messages in thread
From: dpdklab @ 2021-01-18 17:54 UTC (permalink / raw)
To: Ajit Khaparde, Test Report; +Cc: dpdk-test-reports
[-- Attachment #1: Type: text/plain, Size: 791 bytes --]
Test-Label: iol-broadcom-Functional
Test-Status: SUCCESS
http://dpdk.org/patch/86819
_Functional Testing PASS_
Submitter: Ankur Dwivedi <adwivedi@marvell.com>
Date: Monday, January 18 2021 16:19:40
DPDK git baseline: Repo:dpdk
Branch: master
CommitID:e03d2c3c705e40281bda2f11a947f4d3d5e062e6
86819 --> functional testing pass
Test environment and result as below:
Ubuntu 18.04
Kernel: 4.15.0-65-generic
Compiler: gcc gcc (Ubuntu 7.4.0-1ubuntu1~18.04.1) 7.4.0
NIC: Broadcom Inc. brcm_57414 25000 Mbps
Target: x86_64-native-linuxapp-gcc
Fail/Total: 0/3
To view detailed results, visit:
https://lab.dpdk.org/results/dashboard/patchsets/15261/
UNH-IOL DPDK Community Lab
To manage your email subscriptions, visit:
https://lab.dpdk.org/results/dashboard/preferences/subscriptions/
^ permalink raw reply [flat|nested] 13+ messages in thread
* [dpdk-test-report] |SUCCESS| pw86819 [PATCH] [v2] test/event_crypto_adapter: set cipher operation in transform
@ 2021-01-18 17:47 dpdklab
0 siblings, 0 replies; 13+ messages in thread
From: dpdklab @ 2021-01-18 17:47 UTC (permalink / raw)
To: Test Report; +Cc: dpdk-test-reports
[-- Attachment #1: Type: text/plain, Size: 786 bytes --]
Test-Label: iol-intel-Functional
Test-Status: SUCCESS
http://dpdk.org/patch/86819
_Functional Testing PASS_
Submitter: Ankur Dwivedi <adwivedi@marvell.com>
Date: Monday, January 18 2021 16:19:40
DPDK git baseline: Repo:dpdk
Branch: master
CommitID:e03d2c3c705e40281bda2f11a947f4d3d5e062e6
86819 --> functional testing pass
Test environment and result as below:
Ubuntu 18.04
Kernel: 4.15.0-generic
Compiler: gcc 7.4
NIC: Intel Corporation Ethernet Converged Network Adapter XL710-QDA2 40000 Mbps
Target: x86_64-native-linuxapp-gcc
Fail/Total: 0/3
To view detailed results, visit:
https://lab.dpdk.org/results/dashboard/patchsets/15261/
UNH-IOL DPDK Community Lab
To manage your email subscriptions, visit:
https://lab.dpdk.org/results/dashboard/preferences/subscriptions/
^ permalink raw reply [flat|nested] 13+ messages in thread
* [dpdk-test-report] |SUCCESS| pw86819 [PATCH] [v2] test/event_crypto_adapter: set cipher operation in transform
@ 2021-01-18 17:44 dpdklab
0 siblings, 0 replies; 13+ messages in thread
From: dpdklab @ 2021-01-18 17:44 UTC (permalink / raw)
To: Ajit Khaparde, Test Report; +Cc: dpdk-test-reports
[-- Attachment #1: Type: text/plain, Size: 791 bytes --]
Test-Label: iol-broadcom-Functional
Test-Status: SUCCESS
http://dpdk.org/patch/86819
_Functional Testing PASS_
Submitter: Ankur Dwivedi <adwivedi@marvell.com>
Date: Monday, January 18 2021 16:19:40
DPDK git baseline: Repo:dpdk
Branch: master
CommitID:e03d2c3c705e40281bda2f11a947f4d3d5e062e6
86819 --> functional testing pass
Test environment and result as below:
Ubuntu 18.04
Kernel: 4.15.0-65-generic
Compiler: gcc gcc (Ubuntu 7.4.0-1ubuntu1~18.04.1) 7.4.0
NIC: Broadcom Inc. brcm_57414 25000 Mbps
Target: x86_64-native-linuxapp-gcc
Fail/Total: 0/3
To view detailed results, visit:
https://lab.dpdk.org/results/dashboard/patchsets/15261/
UNH-IOL DPDK Community Lab
To manage your email subscriptions, visit:
https://lab.dpdk.org/results/dashboard/preferences/subscriptions/
^ permalink raw reply [flat|nested] 13+ messages in thread
* [dpdk-test-report] |SUCCESS| pw86819 [PATCH v2] test/event_crypto_adapter: set cipher operation in transform
[not found] <20210118161940.6872-1-adwivedi@marvell.com>
@ 2021-01-18 16:21 ` checkpatch
0 siblings, 0 replies; 13+ messages in thread
From: checkpatch @ 2021-01-18 16:21 UTC (permalink / raw)
To: test-report
Test-Label: checkpatch
Test-Status: SUCCESS
http://dpdk.org/patch/86819
_coding style OK_
^ permalink raw reply [flat|nested] 13+ messages in thread
end of thread, other threads:[~2021-01-21 17:07 UTC | newest]
Thread overview: 13+ messages (download: mbox.gz / follow: Atom feed)
-- links below jump to the message on this page --
2021-01-21 4:23 [dpdk-test-report] |SUCCESS| pw86819 [PATCH] [v2] test/event_crypto_adapter: set cipher operation in transform dpdklab
-- strict thread matches above, loose matches on Subject: below --
2021-01-21 17:07 dpdklab
2021-01-21 15:07 dpdklab
2021-01-21 3:08 dpdklab
2021-01-19 1:15 dpdklab
2021-01-18 23:57 dpdklab
2021-01-18 18:25 dpdklab
2021-01-18 18:11 dpdklab
2021-01-18 18:01 dpdklab
2021-01-18 17:54 dpdklab
2021-01-18 17:47 dpdklab
2021-01-18 17:44 dpdklab
[not found] <20210118161940.6872-1-adwivedi@marvell.com>
2021-01-18 16:21 ` [dpdk-test-report] |SUCCESS| pw86819 [PATCH v2] " checkpatch
This is a public inbox, see mirroring instructions
for how to clone and mirror all data and code used for this inbox;
as well as URLs for NNTP newsgroup(s).