* [dpdk-test-report] |SUCCESS| pw86817-86818 [PATCH] [v8, 2/2] app/testpmd: add support for modify field flow action
@ 2021-01-22 2:47 dpdklab
0 siblings, 0 replies; 12+ messages in thread
From: dpdklab @ 2021-01-22 2:47 UTC (permalink / raw)
To: Test Report; +Cc: dpdk-test-reports
[-- Attachment #1: Type: text/plain, Size: 927 bytes --]
Test-Label: iol-abi-testing
Test-Status: SUCCESS
http://dpdk.org/patch/86818
_Testing PASS_
Submitter: Alexander Kozyrev <akozyrev@nvidia.com>
Date: Monday, January 18 2021 16:18:25
DPDK git baseline: Repo:dpdk
Branch: master
CommitID:e03d2c3c705e40281bda2f11a947f4d3d5e062e6
86817-86818 --> testing pass
Test environment and result as below:
+------------------+----------+
| Environment | abi_test |
+==================+==========+
| Ubuntu 18.04 | PASS |
+------------------+----------+
| Ubuntu 18.04 ARM | PASS |
+------------------+----------+
Ubuntu 18.04
Kernel: 4.15.0-generic
Compiler: gcc 7.5
Ubuntu 18.04 ARM
Kernel: 5.4.0-53-generic
Compiler: gcc 9.3
To view detailed results, visit:
https://lab.dpdk.org/results/dashboard/patchsets/15260/
UNH-IOL DPDK Community Lab
To manage your email subscriptions, visit:
https://lab.dpdk.org/results/dashboard/preferences/subscriptions/
^ permalink raw reply [flat|nested] 12+ messages in thread
* [dpdk-test-report] |SUCCESS| pw86817-86818 [PATCH] [v8, 2/2] app/testpmd: add support for modify field flow action
@ 2021-01-21 20:31 dpdklab
0 siblings, 0 replies; 12+ messages in thread
From: dpdklab @ 2021-01-21 20:31 UTC (permalink / raw)
To: Test Report; +Cc: dpdk-test-reports
[-- Attachment #1: Type: text/plain, Size: 927 bytes --]
Test-Label: iol-abi-testing
Test-Status: SUCCESS
http://dpdk.org/patch/86818
_Testing PASS_
Submitter: Alexander Kozyrev <akozyrev@nvidia.com>
Date: Monday, January 18 2021 16:18:25
DPDK git baseline: Repo:dpdk
Branch: master
CommitID:e03d2c3c705e40281bda2f11a947f4d3d5e062e6
86817-86818 --> testing pass
Test environment and result as below:
+------------------+----------+
| Environment | abi_test |
+==================+==========+
| Ubuntu 18.04 | PASS |
+------------------+----------+
| Ubuntu 18.04 ARM | PASS |
+------------------+----------+
Ubuntu 18.04
Kernel: 4.15.0-generic
Compiler: gcc 7.5
Ubuntu 18.04 ARM
Kernel: 5.4.0-53-generic
Compiler: gcc 9.3
To view detailed results, visit:
https://lab.dpdk.org/results/dashboard/patchsets/15260/
UNH-IOL DPDK Community Lab
To manage your email subscriptions, visit:
https://lab.dpdk.org/results/dashboard/preferences/subscriptions/
^ permalink raw reply [flat|nested] 12+ messages in thread
* [dpdk-test-report] |SUCCESS| pw86817-86818 [PATCH] [v8, 2/2] app/testpmd: add support for modify field flow action
@ 2021-01-21 6:52 dpdklab
0 siblings, 0 replies; 12+ messages in thread
From: dpdklab @ 2021-01-21 6:52 UTC (permalink / raw)
To: Ali Alnubani, Test Report; +Cc: dpdk-test-reports
[-- Attachment #1: Type: text/plain, Size: 3972 bytes --]
Test-Label: iol-mellanox-Performance
Test-Status: SUCCESS
http://dpdk.org/patch/86818
_Performance Testing PASS_
Submitter: Alexander Kozyrev <akozyrev@nvidia.com>
Date: Monday, January 18 2021 16:18:25
DPDK git baseline: Repo:dpdk
Branch: master
CommitID:e03d2c3c705e40281bda2f11a947f4d3d5e062e6
86817-86818 --> performance testing pass
Test environment and result as below:
Ubuntu 18.04
Kernel: 4.15.0-generic
Compiler: gcc 7.4
NIC: Mellanox ConnectX-5 100000 Mbps
Target: x86_64-native-linuxapp-gcc
Fail/Total: 0/6
Detail performance results:
+------------+---------+-------------------------------------+
| frame_size | txd/rxd | throughput difference from expected |
+============+=========+=====================================+
| 64 | 256 | 0.200 |
+------------+---------+-------------------------------------+
| 128 | 256 | 0.013 |
+------------+---------+-------------------------------------+
| 256 | 256 | -0.051 |
+------------+---------+-------------------------------------+
| 512 | 256 | 0.117 |
+------------+---------+-------------------------------------+
| 1024 | 256 | -0.274 |
+------------+---------+-------------------------------------+
| 1518 | 256 | -0.002 |
+------------+---------+-------------------------------------+
Ubuntu 18.04
Kernel: 4.15.0-generic
Compiler: gcc 7.4
NIC: Mellanox ConnectX-4 Lx 25000 Mbps
Target: x86_64-native-linuxapp-gcc
Fail/Total: 0/6
Detail performance results:
+------------+---------+-------------------------------------+
| frame_size | txd/rxd | throughput difference from expected |
+============+=========+=====================================+
| 64 | 256 | -0.027 |
+------------+---------+-------------------------------------+
| 128 | 256 | 0.152 |
+------------+---------+-------------------------------------+
| 256 | 256 | -0.026 |
+------------+---------+-------------------------------------+
| 512 | 256 | 0.068 |
+------------+---------+-------------------------------------+
| 1024 | 256 | -0.010 |
+------------+---------+-------------------------------------+
| 1518 | 256 | -0.008 |
+------------+---------+-------------------------------------+
Ubuntu 18.04
Kernel: 4.15.0-generic
Compiler: gcc 7.4
NIC: Mellanox ConnectX-4 Lx 40000 Mbps
Target: x86_64-native-linuxapp-gcc
Fail/Total: 0/6
Detail performance results:
+------------+---------+-------------------------------------+
| frame_size | txd/rxd | throughput difference from expected |
+============+=========+=====================================+
| 64 | 256 | -0.127 |
+------------+---------+-------------------------------------+
| 128 | 256 | -0.035 |
+------------+---------+-------------------------------------+
| 256 | 256 | 0.816 |
+------------+---------+-------------------------------------+
| 512 | 256 | -0.036 |
+------------+---------+-------------------------------------+
| 1024 | 256 | 0.001 |
+------------+---------+-------------------------------------+
| 1518 | 256 | 0.011 |
+------------+---------+-------------------------------------+
To view detailed results, visit:
https://lab.dpdk.org/results/dashboard/patchsets/15260/
UNH-IOL DPDK Community Lab
To manage your email subscriptions, visit:
https://lab.dpdk.org/results/dashboard/preferences/subscriptions/
^ permalink raw reply [flat|nested] 12+ messages in thread
* [dpdk-test-report] |SUCCESS| pw86817-86818 [PATCH] [v8, 2/2] app/testpmd: add support for modify field flow action
@ 2021-01-21 5:37 dpdklab
0 siblings, 0 replies; 12+ messages in thread
From: dpdklab @ 2021-01-21 5:37 UTC (permalink / raw)
To: Ali Alnubani, Test Report; +Cc: dpdk-test-reports
[-- Attachment #1: Type: text/plain, Size: 3972 bytes --]
Test-Label: iol-mellanox-Performance
Test-Status: SUCCESS
http://dpdk.org/patch/86818
_Performance Testing PASS_
Submitter: Alexander Kozyrev <akozyrev@nvidia.com>
Date: Monday, January 18 2021 16:18:25
DPDK git baseline: Repo:dpdk
Branch: master
CommitID:e03d2c3c705e40281bda2f11a947f4d3d5e062e6
86817-86818 --> performance testing pass
Test environment and result as below:
Ubuntu 18.04
Kernel: 4.15.0-generic
Compiler: gcc 7.4
NIC: Mellanox ConnectX-5 100000 Mbps
Target: x86_64-native-linuxapp-gcc
Fail/Total: 0/6
Detail performance results:
+------------+---------+-------------------------------------+
| frame_size | txd/rxd | throughput difference from expected |
+============+=========+=====================================+
| 64 | 256 | 0.229 |
+------------+---------+-------------------------------------+
| 128 | 256 | -0.007 |
+------------+---------+-------------------------------------+
| 256 | 256 | -0.059 |
+------------+---------+-------------------------------------+
| 512 | 256 | 0.019 |
+------------+---------+-------------------------------------+
| 1024 | 256 | -0.098 |
+------------+---------+-------------------------------------+
| 1518 | 256 | 0.007 |
+------------+---------+-------------------------------------+
Ubuntu 18.04
Kernel: 4.15.0-generic
Compiler: gcc 7.4
NIC: Mellanox ConnectX-4 Lx 25000 Mbps
Target: x86_64-native-linuxapp-gcc
Fail/Total: 0/6
Detail performance results:
+------------+---------+-------------------------------------+
| frame_size | txd/rxd | throughput difference from expected |
+============+=========+=====================================+
| 64 | 256 | 0.030 |
+------------+---------+-------------------------------------+
| 128 | 256 | 0.107 |
+------------+---------+-------------------------------------+
| 256 | 256 | 0.248 |
+------------+---------+-------------------------------------+
| 512 | 256 | 0.042 |
+------------+---------+-------------------------------------+
| 1024 | 256 | 0.006 |
+------------+---------+-------------------------------------+
| 1518 | 256 | 0.002 |
+------------+---------+-------------------------------------+
Ubuntu 18.04
Kernel: 4.15.0-generic
Compiler: gcc 7.4
NIC: Mellanox ConnectX-4 Lx 40000 Mbps
Target: x86_64-native-linuxapp-gcc
Fail/Total: 0/6
Detail performance results:
+------------+---------+-------------------------------------+
| frame_size | txd/rxd | throughput difference from expected |
+============+=========+=====================================+
| 64 | 256 | -0.136 |
+------------+---------+-------------------------------------+
| 128 | 256 | 0.017 |
+------------+---------+-------------------------------------+
| 256 | 256 | -0.017 |
+------------+---------+-------------------------------------+
| 512 | 256 | -0.016 |
+------------+---------+-------------------------------------+
| 1024 | 256 | 0.011 |
+------------+---------+-------------------------------------+
| 1518 | 256 | -0.003 |
+------------+---------+-------------------------------------+
To view detailed results, visit:
https://lab.dpdk.org/results/dashboard/patchsets/15260/
UNH-IOL DPDK Community Lab
To manage your email subscriptions, visit:
https://lab.dpdk.org/results/dashboard/preferences/subscriptions/
^ permalink raw reply [flat|nested] 12+ messages in thread
* [dpdk-test-report] |SUCCESS| pw86817-86818 [PATCH] [v8, 2/2] app/testpmd: add support for modify field flow action
@ 2021-01-19 3:53 dpdklab
0 siblings, 0 replies; 12+ messages in thread
From: dpdklab @ 2021-01-19 3:53 UTC (permalink / raw)
To: Ali Alnubani, Test Report; +Cc: dpdk-test-reports
[-- Attachment #1: Type: text/plain, Size: 903 bytes --]
Test-Label: iol-mellanox-Functional
Test-Status: SUCCESS
http://dpdk.org/patch/86818
_Functional Testing PASS_
Submitter: Alexander Kozyrev <akozyrev@nvidia.com>
Date: Monday, January 18 2021 16:18:25
DPDK git baseline: Repo:dpdk
Branch: master
CommitID:e03d2c3c705e40281bda2f11a947f4d3d5e062e6
86817-86818 --> functional testing pass
Test environment and result as below:
Ubuntu 18.04
Kernel: 4.15.0-generic
Compiler: gcc 7.4
NIC: Mellanox ConnectX-4 Lx 25000 Mbps
Target: x86_64-native-linuxapp-gcc
Fail/Total: 0/5
Ubuntu 18.04
Kernel: 4.15.0-generic
Compiler: gcc 7.4
NIC: Mellanox ConnectX-4 Lx 40000 Mbps
Target: x86_64-native-linuxapp-gcc
Fail/Total: 0/5
To view detailed results, visit:
https://lab.dpdk.org/results/dashboard/patchsets/15260/
UNH-IOL DPDK Community Lab
To manage your email subscriptions, visit:
https://lab.dpdk.org/results/dashboard/preferences/subscriptions/
^ permalink raw reply [flat|nested] 12+ messages in thread
* [dpdk-test-report] |SUCCESS| pw86817-86818 [PATCH] [v8, 2/2] app/testpmd: add support for modify field flow action
@ 2021-01-19 2:33 dpdklab
0 siblings, 0 replies; 12+ messages in thread
From: dpdklab @ 2021-01-19 2:33 UTC (permalink / raw)
To: Ali Alnubani, Test Report; +Cc: dpdk-test-reports
[-- Attachment #1: Type: text/plain, Size: 903 bytes --]
Test-Label: iol-mellanox-Functional
Test-Status: SUCCESS
http://dpdk.org/patch/86818
_Functional Testing PASS_
Submitter: Alexander Kozyrev <akozyrev@nvidia.com>
Date: Monday, January 18 2021 16:18:25
DPDK git baseline: Repo:dpdk
Branch: master
CommitID:e03d2c3c705e40281bda2f11a947f4d3d5e062e6
86817-86818 --> functional testing pass
Test environment and result as below:
Ubuntu 18.04
Kernel: 4.15.0-generic
Compiler: gcc 7.4
NIC: Mellanox ConnectX-4 Lx 25000 Mbps
Target: x86_64-native-linuxapp-gcc
Fail/Total: 0/5
Ubuntu 18.04
Kernel: 4.15.0-generic
Compiler: gcc 7.4
NIC: Mellanox ConnectX-4 Lx 40000 Mbps
Target: x86_64-native-linuxapp-gcc
Fail/Total: 0/5
To view detailed results, visit:
https://lab.dpdk.org/results/dashboard/patchsets/15260/
UNH-IOL DPDK Community Lab
To manage your email subscriptions, visit:
https://lab.dpdk.org/results/dashboard/preferences/subscriptions/
^ permalink raw reply [flat|nested] 12+ messages in thread
* [dpdk-test-report] |SUCCESS| pw86817-86818 [PATCH] [v8, 2/2] app/testpmd: add support for modify field flow action
@ 2021-01-18 19:13 dpdklab
0 siblings, 0 replies; 12+ messages in thread
From: dpdklab @ 2021-01-18 19:13 UTC (permalink / raw)
To: Test Report; +Cc: dpdk-test-reports
[-- Attachment #1: Type: text/plain, Size: 1268 bytes --]
Test-Label: iol-intel-Performance
Test-Status: SUCCESS
http://dpdk.org/patch/86818
_Performance Testing PASS_
Submitter: Alexander Kozyrev <akozyrev@nvidia.com>
Date: Monday, January 18 2021 16:18:25
DPDK git baseline: Repo:dpdk
Branch: master
CommitID:e03d2c3c705e40281bda2f11a947f4d3d5e062e6
86817-86818 --> performance testing pass
Test environment and result as below:
Ubuntu 18.04
Kernel: 4.15.0-generic
Compiler: gcc 7.4
NIC: Intel Corporation Ethernet Converged Network Adapter XL710-QDA2 40000 Mbps
Target: x86_64-native-linuxapp-gcc
Fail/Total: 0/2
Detail performance results:
+------------+---------+-------------------------------------+
| frame_size | txd/rxd | throughput difference from expected |
+============+=========+=====================================+
| 64 | 512 | 2.784 |
+------------+---------+-------------------------------------+
| 64 | 2048 | 1.859 |
+------------+---------+-------------------------------------+
To view detailed results, visit:
https://lab.dpdk.org/results/dashboard/patchsets/15260/
UNH-IOL DPDK Community Lab
To manage your email subscriptions, visit:
https://lab.dpdk.org/results/dashboard/preferences/subscriptions/
^ permalink raw reply [flat|nested] 12+ messages in thread
* [dpdk-test-report] |SUCCESS| pw86817-86818 [PATCH] [v8, 2/2] app/testpmd: add support for modify field flow action
@ 2021-01-18 19:00 dpdklab
0 siblings, 0 replies; 12+ messages in thread
From: dpdklab @ 2021-01-18 19:00 UTC (permalink / raw)
To: Test Report; +Cc: dpdk-test-reports
[-- Attachment #1: Type: text/plain, Size: 795 bytes --]
Test-Label: iol-intel-Functional
Test-Status: SUCCESS
http://dpdk.org/patch/86818
_Functional Testing PASS_
Submitter: Alexander Kozyrev <akozyrev@nvidia.com>
Date: Monday, January 18 2021 16:18:25
DPDK git baseline: Repo:dpdk
Branch: master
CommitID:e03d2c3c705e40281bda2f11a947f4d3d5e062e6
86817-86818 --> functional testing pass
Test environment and result as below:
Ubuntu 18.04
Kernel: 4.15.0-generic
Compiler: gcc 7.4
NIC: Intel Corporation Ethernet Converged Network Adapter XL710-QDA2 40000 Mbps
Target: x86_64-native-linuxapp-gcc
Fail/Total: 0/3
To view detailed results, visit:
https://lab.dpdk.org/results/dashboard/patchsets/15260/
UNH-IOL DPDK Community Lab
To manage your email subscriptions, visit:
https://lab.dpdk.org/results/dashboard/preferences/subscriptions/
^ permalink raw reply [flat|nested] 12+ messages in thread
* [dpdk-test-report] |SUCCESS| pw86817-86818 [PATCH] [v8, 2/2] app/testpmd: add support for modify field flow action
@ 2021-01-18 18:56 dpdklab
0 siblings, 0 replies; 12+ messages in thread
From: dpdklab @ 2021-01-18 18:56 UTC (permalink / raw)
To: Ajit Khaparde, Test Report; +Cc: dpdk-test-reports
[-- Attachment #1: Type: text/plain, Size: 800 bytes --]
Test-Label: iol-broadcom-Functional
Test-Status: SUCCESS
http://dpdk.org/patch/86818
_Functional Testing PASS_
Submitter: Alexander Kozyrev <akozyrev@nvidia.com>
Date: Monday, January 18 2021 16:18:25
DPDK git baseline: Repo:dpdk
Branch: master
CommitID:e03d2c3c705e40281bda2f11a947f4d3d5e062e6
86817-86818 --> functional testing pass
Test environment and result as below:
Ubuntu 18.04
Kernel: 4.15.0-65-generic
Compiler: gcc gcc (Ubuntu 7.4.0-1ubuntu1~18.04.1) 7.4.0
NIC: Broadcom Inc. brcm_57414 25000 Mbps
Target: x86_64-native-linuxapp-gcc
Fail/Total: 0/3
To view detailed results, visit:
https://lab.dpdk.org/results/dashboard/patchsets/15260/
UNH-IOL DPDK Community Lab
To manage your email subscriptions, visit:
https://lab.dpdk.org/results/dashboard/preferences/subscriptions/
^ permalink raw reply [flat|nested] 12+ messages in thread
* [dpdk-test-report] |SUCCESS| pw86817-86818 [PATCH] [v8, 2/2] app/testpmd: add support for modify field flow action
@ 2021-01-18 18:49 dpdklab
0 siblings, 0 replies; 12+ messages in thread
From: dpdklab @ 2021-01-18 18:49 UTC (permalink / raw)
To: Test Report; +Cc: dpdk-test-reports
[-- Attachment #1: Type: text/plain, Size: 1268 bytes --]
Test-Label: iol-intel-Performance
Test-Status: SUCCESS
http://dpdk.org/patch/86818
_Performance Testing PASS_
Submitter: Alexander Kozyrev <akozyrev@nvidia.com>
Date: Monday, January 18 2021 16:18:25
DPDK git baseline: Repo:dpdk
Branch: master
CommitID:e03d2c3c705e40281bda2f11a947f4d3d5e062e6
86817-86818 --> performance testing pass
Test environment and result as below:
Ubuntu 18.04
Kernel: 4.15.0-generic
Compiler: gcc 7.4
NIC: Intel Corporation Ethernet Converged Network Adapter XL710-QDA2 40000 Mbps
Target: x86_64-native-linuxapp-gcc
Fail/Total: 0/2
Detail performance results:
+------------+---------+-------------------------------------+
| frame_size | txd/rxd | throughput difference from expected |
+============+=========+=====================================+
| 64 | 512 | 2.832 |
+------------+---------+-------------------------------------+
| 64 | 2048 | 1.933 |
+------------+---------+-------------------------------------+
To view detailed results, visit:
https://lab.dpdk.org/results/dashboard/patchsets/15260/
UNH-IOL DPDK Community Lab
To manage your email subscriptions, visit:
https://lab.dpdk.org/results/dashboard/preferences/subscriptions/
^ permalink raw reply [flat|nested] 12+ messages in thread
* [dpdk-test-report] |SUCCESS| pw86817-86818 [PATCH] [v8, 2/2] app/testpmd: add support for modify field flow action
@ 2021-01-18 18:34 dpdklab
0 siblings, 0 replies; 12+ messages in thread
From: dpdklab @ 2021-01-18 18:34 UTC (permalink / raw)
To: Test Report; +Cc: dpdk-test-reports
[-- Attachment #1: Type: text/plain, Size: 795 bytes --]
Test-Label: iol-intel-Functional
Test-Status: SUCCESS
http://dpdk.org/patch/86818
_Functional Testing PASS_
Submitter: Alexander Kozyrev <akozyrev@nvidia.com>
Date: Monday, January 18 2021 16:18:25
DPDK git baseline: Repo:dpdk
Branch: master
CommitID:e03d2c3c705e40281bda2f11a947f4d3d5e062e6
86817-86818 --> functional testing pass
Test environment and result as below:
Ubuntu 18.04
Kernel: 4.15.0-generic
Compiler: gcc 7.4
NIC: Intel Corporation Ethernet Converged Network Adapter XL710-QDA2 40000 Mbps
Target: x86_64-native-linuxapp-gcc
Fail/Total: 0/3
To view detailed results, visit:
https://lab.dpdk.org/results/dashboard/patchsets/15260/
UNH-IOL DPDK Community Lab
To manage your email subscriptions, visit:
https://lab.dpdk.org/results/dashboard/preferences/subscriptions/
^ permalink raw reply [flat|nested] 12+ messages in thread
* [dpdk-test-report] |SUCCESS| pw86817-86818 [PATCH] [v8, 2/2] app/testpmd: add support for modify field flow action
@ 2021-01-18 18:25 dpdklab
0 siblings, 0 replies; 12+ messages in thread
From: dpdklab @ 2021-01-18 18:25 UTC (permalink / raw)
To: Ajit Khaparde, Test Report; +Cc: dpdk-test-reports
[-- Attachment #1: Type: text/plain, Size: 800 bytes --]
Test-Label: iol-broadcom-Functional
Test-Status: SUCCESS
http://dpdk.org/patch/86818
_Functional Testing PASS_
Submitter: Alexander Kozyrev <akozyrev@nvidia.com>
Date: Monday, January 18 2021 16:18:25
DPDK git baseline: Repo:dpdk
Branch: master
CommitID:e03d2c3c705e40281bda2f11a947f4d3d5e062e6
86817-86818 --> functional testing pass
Test environment and result as below:
Ubuntu 18.04
Kernel: 4.15.0-65-generic
Compiler: gcc gcc (Ubuntu 7.4.0-1ubuntu1~18.04.1) 7.4.0
NIC: Broadcom Inc. brcm_57414 25000 Mbps
Target: x86_64-native-linuxapp-gcc
Fail/Total: 0/3
To view detailed results, visit:
https://lab.dpdk.org/results/dashboard/patchsets/15260/
UNH-IOL DPDK Community Lab
To manage your email subscriptions, visit:
https://lab.dpdk.org/results/dashboard/preferences/subscriptions/
^ permalink raw reply [flat|nested] 12+ messages in thread
end of thread, other threads:[~2021-01-22 2:47 UTC | newest]
Thread overview: 12+ messages (download: mbox.gz / follow: Atom feed)
-- links below jump to the message on this page --
2021-01-22 2:47 [dpdk-test-report] |SUCCESS| pw86817-86818 [PATCH] [v8, 2/2] app/testpmd: add support for modify field flow action dpdklab
-- strict thread matches above, loose matches on Subject: below --
2021-01-21 20:31 dpdklab
2021-01-21 6:52 dpdklab
2021-01-21 5:37 dpdklab
2021-01-19 3:53 dpdklab
2021-01-19 2:33 dpdklab
2021-01-18 19:13 dpdklab
2021-01-18 19:00 dpdklab
2021-01-18 18:56 dpdklab
2021-01-18 18:49 dpdklab
2021-01-18 18:34 dpdklab
2021-01-18 18:25 dpdklab
This is a public inbox, see mirroring instructions
for how to clone and mirror all data and code used for this inbox;
as well as URLs for NNTP newsgroup(s).