* [dpdk-test-report] |SUCCESS| pw87895-87900 [PATCH] [6/6] net/pcap: build on Windows
@ 2021-02-14 2:14 dpdklab
0 siblings, 0 replies; 6+ messages in thread
From: dpdklab @ 2021-02-14 2:14 UTC (permalink / raw)
To: Test Report; +Cc: dpdk-test-reports
[-- Attachment #1: Type: text/plain, Size: 1925 bytes --]
Test-Label: iol-intel-Performance
Test-Status: SUCCESS
http://dpdk.org/patch/87900
_Performance Testing PASS_
Submitter: Dmitry Kozlyuk <dmitry.kozliuk@gmail.com>
Date: Sunday, February 14 2021 01:20:13
DPDK git baseline: Repo:dpdk
Branch: master
CommitID:9c345301722160eeb345c3363fa0de1520646465
87895-87900 --> performance testing pass
Test environment and result as below:
Ubuntu 18.04
Kernel: 4.15.0-generic
Compiler: gcc 7.4
NIC: Intel Corporation Ethernet Converged Network Adapter 82599ES 10000 Mbps
Target: x86_64-native-linuxapp-gcc
Fail/Total: 0/2
Detail performance results:
+------------+---------+-------------------------------------+
| frame_size | txd/rxd | throughput difference from expected |
+============+=========+=====================================+
| 64 | 512 | 3.3362022105453866% |
+------------+---------+-------------------------------------+
| 64 | 2048 | 1.6978367663535325% |
+------------+---------+-------------------------------------+
Ubuntu 18.04
Kernel: 4.15.0-generic
Compiler: gcc 7.4
NIC: Intel Corporation Ethernet Converged Network Adapter XL710-QDA2 40000 Mbps
Target: x86_64-native-linuxapp-gcc
Fail/Total: 0/2
Detail performance results:
+------------+---------+-------------------------------------+
| frame_size | txd/rxd | throughput difference from expected |
+============+=========+=====================================+
| 64 | 512 | 5.1586746819516405% |
+------------+---------+-------------------------------------+
| 64 | 2048 | 5.160501833237711% |
+------------+---------+-------------------------------------+
To view detailed results, visit:
https://lab.dpdk.org/results/dashboard/patchsets/15620/
UNH-IOL DPDK Community Lab
To manage your email subscriptions, visit:
https://lab.dpdk.org/results/dashboard/preferences/subscriptions/
^ permalink raw reply [flat|nested] 6+ messages in thread
* [dpdk-test-report] |SUCCESS| pw87895-87900 [PATCH] [6/6] net/pcap: build on Windows
@ 2021-02-14 2:43 dpdklab
0 siblings, 0 replies; 6+ messages in thread
From: dpdklab @ 2021-02-14 2:43 UTC (permalink / raw)
To: Test Report; +Cc: dpdk-test-reports
[-- Attachment #1: Type: text/plain, Size: 2649 bytes --]
Test-Label: iol-testing
Test-Status: SUCCESS
http://dpdk.org/patch/87900
_Testing PASS_
Submitter: Dmitry Kozlyuk <dmitry.kozliuk@gmail.com>
Date: Sunday, February 14 2021 01:20:13
DPDK git baseline: Repo:dpdk
Branch: master
CommitID:9c345301722160eeb345c3363fa0de1520646465
87895-87900 --> testing pass
Test environment and result as below:
+---------------------+----------------------+--------------------+----------------+
| Environment | dpdk_mingw64_compile | dpdk_meson_compile | dpdk_unit_test |
+=====================+======================+====================+================+
| Windows Server 2019 | PASS | PASS | SKIPPED |
+---------------------+----------------------+--------------------+----------------+
| FreeBSD 11.2 | SKIPPED | PASS | SKIPPED |
+---------------------+----------------------+--------------------+----------------+
| CentOS 8 | SKIPPED | PASS | SKIPPED |
+---------------------+----------------------+--------------------+----------------+
| Fedora 31 | SKIPPED | PASS | SKIPPED |
+---------------------+----------------------+--------------------+----------------+
| openSUSE Leap 15 | SKIPPED | PASS | SKIPPED |
+---------------------+----------------------+--------------------+----------------+
| Ubuntu 18.04 ARM | SKIPPED | PASS | PASS |
+---------------------+----------------------+--------------------+----------------+
| Arch Linux | SKIPPED | PASS | SKIPPED |
+---------------------+----------------------+--------------------+----------------+
| Ubuntu 18.04 | SKIPPED | PASS | PASS |
+---------------------+----------------------+--------------------+----------------+
Windows Server 2019
Kernel: 10.0
Compiler: clang 9.0 and gcc 8.1.0 (MinGW)
FreeBSD 11.2
Kernel: 11.2
Compiler: gcc 8.3
CentOS 8
Kernel: 4.18.0.el8_0
Compiler: gcc 8.3.1
Fedora 31
Kernel: 5.3.16
Compiler: gcc 9.2.1
openSUSE Leap 15
Kernel: 4.12.14
Compiler: gcc 7.4.1
Ubuntu 18.04 ARM
Kernel: 5.4.0-53-generic
Compiler: gcc 9.3
Arch Linux
Kernel: latest
Compiler: gcc latest
Ubuntu 18.04
Kernel: 4.15.0-generic
Compiler: gcc 7.5
To view detailed results, visit:
https://lab.dpdk.org/results/dashboard/patchsets/15620/
UNH-IOL DPDK Community Lab
To manage your email subscriptions, visit:
https://lab.dpdk.org/results/dashboard/preferences/subscriptions/
^ permalink raw reply [flat|nested] 6+ messages in thread
* [dpdk-test-report] |SUCCESS| pw87895-87900 [PATCH] [6/6] net/pcap: build on Windows
@ 2021-02-14 2:42 dpdklab
0 siblings, 0 replies; 6+ messages in thread
From: dpdklab @ 2021-02-14 2:42 UTC (permalink / raw)
To: Test Report; +Cc: dpdk-test-reports
[-- Attachment #1: Type: text/plain, Size: 930 bytes --]
Test-Label: iol-abi-testing
Test-Status: SUCCESS
http://dpdk.org/patch/87900
_Testing PASS_
Submitter: Dmitry Kozlyuk <dmitry.kozliuk@gmail.com>
Date: Sunday, February 14 2021 01:20:13
DPDK git baseline: Repo:dpdk
Branch: master
CommitID:9c345301722160eeb345c3363fa0de1520646465
87895-87900 --> testing pass
Test environment and result as below:
+------------------+----------+
| Environment | abi_test |
+==================+==========+
| Ubuntu 18.04 | PASS |
+------------------+----------+
| Ubuntu 18.04 ARM | PASS |
+------------------+----------+
Ubuntu 18.04
Kernel: 4.15.0-generic
Compiler: gcc 7.5
Ubuntu 18.04 ARM
Kernel: 5.4.0-53-generic
Compiler: gcc 9.3
To view detailed results, visit:
https://lab.dpdk.org/results/dashboard/patchsets/15620/
UNH-IOL DPDK Community Lab
To manage your email subscriptions, visit:
https://lab.dpdk.org/results/dashboard/preferences/subscriptions/
^ permalink raw reply [flat|nested] 6+ messages in thread
* [dpdk-test-report] |SUCCESS| pw87895-87900 [PATCH] [6/6] net/pcap: build on Windows
@ 2021-02-14 2:34 dpdklab
0 siblings, 0 replies; 6+ messages in thread
From: dpdklab @ 2021-02-14 2:34 UTC (permalink / raw)
To: Ali Alnubani, Test Report; +Cc: dpdk-test-reports
[-- Attachment #1: Type: text/plain, Size: 3975 bytes --]
Test-Label: iol-mellanox-Performance
Test-Status: SUCCESS
http://dpdk.org/patch/87900
_Performance Testing PASS_
Submitter: Dmitry Kozlyuk <dmitry.kozliuk@gmail.com>
Date: Sunday, February 14 2021 01:20:13
DPDK git baseline: Repo:dpdk
Branch: master
CommitID:9c345301722160eeb345c3363fa0de1520646465
87895-87900 --> performance testing pass
Test environment and result as below:
Ubuntu 18.04
Kernel: 4.15.0-generic
Compiler: gcc 7.4
NIC: Mellanox ConnectX-4 Lx 25000 Mbps
Target: x86_64-native-linuxapp-gcc
Fail/Total: 0/6
Detail performance results:
+------------+---------+-------------------------------------+
| frame_size | txd/rxd | throughput difference from expected |
+============+=========+=====================================+
| 64 | 256 | 0.06846579562960264% |
+------------+---------+-------------------------------------+
| 128 | 256 | 0.14535386745112164% |
+------------+---------+-------------------------------------+
| 256 | 256 | -1.0151779049514835% |
+------------+---------+-------------------------------------+
| 512 | 256 | 0.5155525004296313% |
+------------+---------+-------------------------------------+
| 1024 | 256 | -0.25041736227046024% |
+------------+---------+-------------------------------------+
| 1518 | 256 | 0.1481115773883048% |
+------------+---------+-------------------------------------+
Ubuntu 18.04
Kernel: 4.15.0-generic
Compiler: gcc 7.4
NIC: Mellanox ConnectX-5 100000 Mbps
Target: x86_64-native-linuxapp-gcc
Fail/Total: 0/6
Detail performance results:
+------------+---------+-------------------------------------+
| frame_size | txd/rxd | throughput difference from expected |
+============+=========+=====================================+
| 64 | 256 | -0.3665961467030519% |
+------------+---------+-------------------------------------+
| 128 | 256 | 0.14757697061373257% |
+------------+---------+-------------------------------------+
| 256 | 256 | 0.2655044584710992% |
+------------+---------+-------------------------------------+
| 512 | 256 | -1.0593591315006166% |
+------------+---------+-------------------------------------+
| 1024 | 256 | 1.447661469933189% |
+------------+---------+-------------------------------------+
| 1518 | 256 | 0.011752262310488256% |
+------------+---------+-------------------------------------+
Ubuntu 18.04
Kernel: 4.15.0-generic
Compiler: gcc 7.4
NIC: Mellanox ConnectX-4 Lx 40000 Mbps
Target: x86_64-native-linuxapp-gcc
Fail/Total: 0/6
Detail performance results:
+------------+---------+-------------------------------------+
| frame_size | txd/rxd | throughput difference from expected |
+============+=========+=====================================+
| 64 | 256 | 0.1511349378350758% |
+------------+---------+-------------------------------------+
| 128 | 256 | -0.6628571428571409% |
+------------+---------+-------------------------------------+
| 256 | 256 | 0.021905005293710443% |
+------------+---------+-------------------------------------+
| 512 | 256 | -0.4038686364119487% |
+------------+---------+-------------------------------------+
| 1024 | 256 | -0.13554373892190494% |
+------------+---------+-------------------------------------+
| 1518 | 256 | -0.16930891180545052% |
+------------+---------+-------------------------------------+
To view detailed results, visit:
https://lab.dpdk.org/results/dashboard/patchsets/15620/
UNH-IOL DPDK Community Lab
To manage your email subscriptions, visit:
https://lab.dpdk.org/results/dashboard/preferences/subscriptions/
^ permalink raw reply [flat|nested] 6+ messages in thread
* [dpdk-test-report] |SUCCESS| pw87895-87900 [PATCH] [6/6] net/pcap: build on Windows
@ 2021-02-14 2:02 dpdklab
0 siblings, 0 replies; 6+ messages in thread
From: dpdklab @ 2021-02-14 2:02 UTC (permalink / raw)
To: Ajit Khaparde, Test Report; +Cc: dpdk-test-reports
[-- Attachment #1: Type: text/plain, Size: 1276 bytes --]
Test-Label: iol-broadcom-Performance
Test-Status: SUCCESS
http://dpdk.org/patch/87900
_Performance Testing PASS_
Submitter: Dmitry Kozlyuk <dmitry.kozliuk@gmail.com>
Date: Sunday, February 14 2021 01:20:13
DPDK git baseline: Repo:dpdk
Branch: master
CommitID:9c345301722160eeb345c3363fa0de1520646465
87895-87900 --> performance testing pass
Test environment and result as below:
Ubuntu 18.04
Kernel: 4.15.0-65-generic
Compiler: gcc gcc (Ubuntu 7.4.0-1ubuntu1~18.04.1) 7.4.0
NIC: Broadcom Inc. brcm_57414 25000 Mbps
Target: x86_64-native-linuxapp-gcc
Fail/Total: 0/2
Detail performance results:
+------------+---------+-------------------------------------+
| frame_size | txd/rxd | throughput difference from expected |
+============+=========+=====================================+
| 64 | 512 | 0.010657572205064716% |
+------------+---------+-------------------------------------+
| 64 | 2048 | -0.6217451376341847% |
+------------+---------+-------------------------------------+
To view detailed results, visit:
https://lab.dpdk.org/results/dashboard/patchsets/15620/
UNH-IOL DPDK Community Lab
To manage your email subscriptions, visit:
https://lab.dpdk.org/results/dashboard/preferences/subscriptions/
^ permalink raw reply [flat|nested] 6+ messages in thread
* [dpdk-test-report] |SUCCESS| pw87895-87900 [PATCH] [6/6] net/pcap: build on Windows
@ 2021-02-14 1:57 dpdklab
0 siblings, 0 replies; 6+ messages in thread
From: dpdklab @ 2021-02-14 1:57 UTC (permalink / raw)
To: Ajit Khaparde, Test Report; +Cc: dpdk-test-reports
[-- Attachment #1: Type: text/plain, Size: 803 bytes --]
Test-Label: iol-broadcom-Functional
Test-Status: SUCCESS
http://dpdk.org/patch/87900
_Functional Testing PASS_
Submitter: Dmitry Kozlyuk <dmitry.kozliuk@gmail.com>
Date: Sunday, February 14 2021 01:20:13
DPDK git baseline: Repo:dpdk
Branch: master
CommitID:9c345301722160eeb345c3363fa0de1520646465
87895-87900 --> functional testing pass
Test environment and result as below:
Ubuntu 18.04
Kernel: 4.15.0-65-generic
Compiler: gcc gcc (Ubuntu 7.4.0-1ubuntu1~18.04.1) 7.4.0
NIC: Broadcom Inc. brcm_57414 25000 Mbps
Target: x86_64-native-linuxapp-gcc
Fail/Total: 0/3
To view detailed results, visit:
https://lab.dpdk.org/results/dashboard/patchsets/15620/
UNH-IOL DPDK Community Lab
To manage your email subscriptions, visit:
https://lab.dpdk.org/results/dashboard/preferences/subscriptions/
^ permalink raw reply [flat|nested] 6+ messages in thread
end of thread, other threads:[~2021-02-14 2:43 UTC | newest]
Thread overview: 6+ messages (download: mbox.gz / follow: Atom feed)
-- links below jump to the message on this page --
2021-02-14 2:14 [dpdk-test-report] |SUCCESS| pw87895-87900 [PATCH] [6/6] net/pcap: build on Windows dpdklab
-- strict thread matches above, loose matches on Subject: below --
2021-02-14 2:43 dpdklab
2021-02-14 2:42 dpdklab
2021-02-14 2:34 dpdklab
2021-02-14 2:02 dpdklab
2021-02-14 1:57 dpdklab
This is a public inbox, see mirroring instructions
for how to clone and mirror all data and code used for this inbox;
as well as URLs for NNTP newsgroup(s).