* [dpdk-test-report] |SUCCESS| [GIT MASTER] 442155f70c6bbdf59aa1f7b4d8039b5140f62927
@ 2021-02-16 20:28 dpdklab
0 siblings, 0 replies; 17+ messages in thread
From: dpdklab @ 2021-02-16 20:28 UTC (permalink / raw)
To: Ajit Khaparde, Test Report; +Cc: dpdk-test-reports
[-- Attachment #1: Type: text/plain, Size: 580 bytes --]
_Functional Testing PASS_
Branch: dpdk-next-net-brcm
442155f70c6bbdf59aa1f7b4d8039b5140f62927 --> functional testing pass
Test environment and result as below:
Ubuntu 18.04
Kernel: 4.15.0-65-generic
Compiler: gcc gcc (Ubuntu 7.4.0-1ubuntu1~18.04.1) 7.4.0
NIC: Broadcom Inc. brcm_57414 25000 Mbps
Target: x86_64-native-linuxapp-gcc
Fail/Total: 0/3
To view detailed results, visit:
https://lab.dpdk.org/results/dashboard/tarballs/13794/
UNH-IOL DPDK Community Lab
To manage your email subscriptions, visit:
https://lab.dpdk.org/results/dashboard/preferences/subscriptions/
^ permalink raw reply [flat|nested] 17+ messages in thread
* [dpdk-test-report] |SUCCESS| [GIT MASTER] 442155f70c6bbdf59aa1f7b4d8039b5140f62927
@ 2021-02-17 16:28 dpdklab
0 siblings, 0 replies; 17+ messages in thread
From: dpdklab @ 2021-02-17 16:28 UTC (permalink / raw)
To: Test Report; +Cc: dpdk-test-reports
[-- Attachment #1: Type: text/plain, Size: 2817 bytes --]
_Testing PASS_
Branch: dpdk-next-net-mlx
442155f70c6bbdf59aa1f7b4d8039b5140f62927 --> testing pass
Test environment and result as below:
+---------------------+----------------------+--------------------+-------------------+----------------+
| Environment | dpdk_mingw64_compile | dpdk_meson_compile | dpdk_compile_spdk | dpdk_unit_test |
+=====================+======================+====================+===================+================+
| Windows Server 2019 | PASS | PASS | SKIPPED | SKIPPED |
+---------------------+----------------------+--------------------+-------------------+----------------+
| FreeBSD 11.2 | SKIPPED | PASS | SKIPPED | SKIPPED |
+---------------------+----------------------+--------------------+-------------------+----------------+
| Ubuntu 18.04 | SKIPPED | PASS | PASS | PASS |
+---------------------+----------------------+--------------------+-------------------+----------------+
| CentOS 8 | SKIPPED | PASS | SKIPPED | SKIPPED |
+---------------------+----------------------+--------------------+-------------------+----------------+
| openSUSE Leap 15 | SKIPPED | PASS | SKIPPED | SKIPPED |
+---------------------+----------------------+--------------------+-------------------+----------------+
| Arch Linux | SKIPPED | PASS | SKIPPED | SKIPPED |
+---------------------+----------------------+--------------------+-------------------+----------------+
| Fedora 31 | SKIPPED | PASS | PASS | SKIPPED |
+---------------------+----------------------+--------------------+-------------------+----------------+
| Ubuntu 18.04 ARM | SKIPPED | PASS | SKIPPED | PASS |
+---------------------+----------------------+--------------------+-------------------+----------------+
Windows Server 2019
Kernel: 10.0
Compiler: clang 9.0 and gcc 8.1.0 (MinGW)
FreeBSD 11.2
Kernel: 11.2
Compiler: gcc 8.3
Ubuntu 18.04
Kernel: 4.15.0-generic
Compiler: gcc 7.5
CentOS 8
Kernel: 4.18.0.el8_0
Compiler: gcc 8.3.1
openSUSE Leap 15
Kernel: 4.12.14
Compiler: gcc 7.4.1
Arch Linux
Kernel: latest
Compiler: gcc latest
Fedora 31
Kernel: 5.3.16
Compiler: gcc 9.2.1
Ubuntu 18.04 ARM
Kernel: 5.4.0-53-generic
Compiler: gcc 9.3
To view detailed results, visit:
https://lab.dpdk.org/results/dashboard/tarballs/13799/
UNH-IOL DPDK Community Lab
To manage your email subscriptions, visit:
https://lab.dpdk.org/results/dashboard/preferences/subscriptions/
^ permalink raw reply [flat|nested] 17+ messages in thread
* [dpdk-test-report] |SUCCESS| [GIT MASTER] 442155f70c6bbdf59aa1f7b4d8039b5140f62927
@ 2021-02-17 16:04 dpdklab
0 siblings, 0 replies; 17+ messages in thread
From: dpdklab @ 2021-02-17 16:04 UTC (permalink / raw)
To: Ali Alnubani, Test Report; +Cc: dpdk-test-reports
[-- Attachment #1: Type: text/plain, Size: 4627 bytes --]
_Performance Testing PASS_
Branch: dpdk-next-net-mlx
442155f70c6bbdf59aa1f7b4d8039b5140f62927 --> performance testing pass
Test environment and result as below:
Ubuntu 18.04
Kernel: 4.15.0-generic
Compiler: gcc 7.4
NIC: Mellanox ConnectX-4 Lx 25000 Mbps
Target: x86_64-native-linuxapp-gcc
Fail/Total: 0/6
Detail performance results:
+------------+---------+-------------------------------------+
| frame_size | txd/rxd | throughput difference from expected |
+============+=========+=====================================+
| 64 | 256 | -0.38671519563240103% |
+------------+---------+-------------------------------------+
| 128 | 256 | -0.01383269357126028% |
+------------+---------+-------------------------------------+
| 256 | 256 | -2.0376098590857716% |
+------------+---------+-------------------------------------+
| 512 | 256 | -0.0427569693860166% |
+------------+---------+-------------------------------------+
| 1024 | 256 | 0.1505772126484767% |
+------------+---------+-------------------------------------+
| 1518 | 256 | -0.41769041769042625% |
+------------+---------+-------------------------------------+
Ubuntu 18.04 ARM
Kernel: 4.15.0-132-generic
Compiler: gcc 7.5
NIC: Arm Mellanox ConnectX-5 10000 Mbps
Target: x86_64-native-linuxapp-gcc
Fail/Total: 0/4
Detail performance results:
+------------+---------+-------------------------------------+
| frame_size | txd/rxd | throughput difference from expected |
+============+=========+=====================================+
| 64 | 128 | -2.072430395645807% |
+------------+---------+-------------------------------------+
| 64 | 256 | -2.5804429586293347% |
+------------+---------+-------------------------------------+
| 64 | 512 | -0.7355259010192318% |
+------------+---------+-------------------------------------+
| 64 | 2048 | -5.537017726798755% |
+------------+---------+-------------------------------------+
Ubuntu 18.04
Kernel: 4.15.0-generic
Compiler: gcc 7.4
NIC: Mellanox ConnectX-4 Lx 40000 Mbps
Target: x86_64-native-linuxapp-gcc
Fail/Total: 0/6
Detail performance results:
+------------+---------+-------------------------------------+
| frame_size | txd/rxd | throughput difference from expected |
+============+=========+=====================================+
| 64 | 256 | -0.14558118291845978% |
+------------+---------+-------------------------------------+
| 128 | 256 | 1.9454802994825389% |
+------------+---------+-------------------------------------+
| 256 | 256 | 0.06941399970772451% |
+------------+---------+-------------------------------------+
| 512 | 256 | -0.22843178920528479% |
+------------+---------+-------------------------------------+
| 1024 | 256 | 0.03135123837389839% |
+------------+---------+-------------------------------------+
| 1518 | 256 | 0.046153846153847905% |
+------------+---------+-------------------------------------+
Ubuntu 18.04
Kernel: 4.15.0-generic
Compiler: gcc 7.4
NIC: Mellanox ConnectX-5 100000 Mbps
Target: x86_64-native-linuxapp-gcc
Fail/Total: 0/6
Detail performance results:
+------------+---------+-------------------------------------+
| frame_size | txd/rxd | throughput difference from expected |
+============+=========+=====================================+
| 64 | 256 | 0.24317489138189108% |
+------------+---------+-------------------------------------+
| 128 | 256 | 0.3054367745876588% |
+------------+---------+-------------------------------------+
| 256 | 256 | -0.059955033724708735% |
+------------+---------+-------------------------------------+
| 512 | 256 | -0.3116905922121318% |
+------------+---------+-------------------------------------+
| 1024 | 256 | -0.30724588205173137% |
+------------+---------+-------------------------------------+
| 1518 | 256 | -0.16451233842537422% |
+------------+---------+-------------------------------------+
To view detailed results, visit:
https://lab.dpdk.org/results/dashboard/tarballs/13799/
UNH-IOL DPDK Community Lab
To manage your email subscriptions, visit:
https://lab.dpdk.org/results/dashboard/preferences/subscriptions/
^ permalink raw reply [flat|nested] 17+ messages in thread
* [dpdk-test-report] |SUCCESS| [GIT MASTER] 442155f70c6bbdf59aa1f7b4d8039b5140f62927
@ 2021-02-17 16:01 dpdklab
0 siblings, 0 replies; 17+ messages in thread
From: dpdklab @ 2021-02-17 16:01 UTC (permalink / raw)
To: Test Report; +Cc: dpdk-test-reports
[-- Attachment #1: Type: text/plain, Size: 2372 bytes --]
_Performance Testing PASS_
Branch: dpdk-next-net-mlx
442155f70c6bbdf59aa1f7b4d8039b5140f62927 --> performance testing pass
Test environment and result as below:
Ubuntu 18.04
Kernel: 4.15.0-generic
Compiler: gcc 7.4
NIC: Intel Corporation Ethernet Converged Network Adapter 82599ES 10000 Mbps
Target: x86_64-native-linuxapp-gcc
Fail/Total: 0/2
Detail performance results:
+------------+---------+-------------------------------------+
| frame_size | txd/rxd | throughput difference from expected |
+============+=========+=====================================+
| 64 | 512 | 1.1845443015038868% |
+------------+---------+-------------------------------------+
| 64 | 2048 | 1.6662357436295367% |
+------------+---------+-------------------------------------+
Ubuntu 18.04
Kernel: 4.15.0-generic
Compiler: gcc 7.4
NIC: Intel Corporation Ethernet Converged Network Adapter XL710-QDA2 40000 Mbps
Target: x86_64-native-linuxapp-gcc
Fail/Total: 0/2
Detail performance results:
+------------+---------+-------------------------------------+
| frame_size | txd/rxd | throughput difference from expected |
+============+=========+=====================================+
| 64 | 512 | 5.148688861816227% |
+------------+---------+-------------------------------------+
| 64 | 2048 | 4.83625570548473% |
+------------+---------+-------------------------------------+
Ubuntu 18.04 ARM
Kernel: 4.15.0-132-generic
Compiler: gcc 7.5
NIC: Arm Intel Corporation Ethernet Converged Network Adapter XL710-QDA2 40000 Mbps
Target: x86_64-native-linuxapp-gcc
Fail/Total: 0/2
Detail performance results:
+------------+---------+-------------------------------------+
| frame_size | txd/rxd | throughput difference from expected |
+============+=========+=====================================+
| 64 | 512 | -0.22337009632835422% |
+------------+---------+-------------------------------------+
| 64 | 2048 | 0.1533101045296184% |
+------------+---------+-------------------------------------+
To view detailed results, visit:
https://lab.dpdk.org/results/dashboard/tarballs/13799/
UNH-IOL DPDK Community Lab
To manage your email subscriptions, visit:
https://lab.dpdk.org/results/dashboard/preferences/subscriptions/
^ permalink raw reply [flat|nested] 17+ messages in thread
* [dpdk-test-report] |SUCCESS| [GIT MASTER] 442155f70c6bbdf59aa1f7b4d8039b5140f62927
@ 2021-02-17 15:40 dpdklab
0 siblings, 0 replies; 17+ messages in thread
From: dpdklab @ 2021-02-17 15:40 UTC (permalink / raw)
To: Ajit Khaparde, Test Report; +Cc: dpdk-test-reports
[-- Attachment #1: Type: text/plain, Size: 579 bytes --]
_Functional Testing PASS_
Branch: dpdk-next-net-mlx
442155f70c6bbdf59aa1f7b4d8039b5140f62927 --> functional testing pass
Test environment and result as below:
Ubuntu 18.04
Kernel: 4.15.0-65-generic
Compiler: gcc gcc (Ubuntu 7.4.0-1ubuntu1~18.04.1) 7.4.0
NIC: Broadcom Inc. brcm_57414 25000 Mbps
Target: x86_64-native-linuxapp-gcc
Fail/Total: 0/3
To view detailed results, visit:
https://lab.dpdk.org/results/dashboard/tarballs/13799/
UNH-IOL DPDK Community Lab
To manage your email subscriptions, visit:
https://lab.dpdk.org/results/dashboard/preferences/subscriptions/
^ permalink raw reply [flat|nested] 17+ messages in thread
* [dpdk-test-report] |SUCCESS| [GIT MASTER] 442155f70c6bbdf59aa1f7b4d8039b5140f62927
@ 2021-02-17 15:32 dpdklab
0 siblings, 0 replies; 17+ messages in thread
From: dpdklab @ 2021-02-17 15:32 UTC (permalink / raw)
To: Ajit Khaparde, Test Report; +Cc: dpdk-test-reports
[-- Attachment #1: Type: text/plain, Size: 1051 bytes --]
_Performance Testing PASS_
Branch: dpdk-next-net-mlx
442155f70c6bbdf59aa1f7b4d8039b5140f62927 --> performance testing pass
Test environment and result as below:
Ubuntu 18.04
Kernel: 4.15.0-65-generic
Compiler: gcc gcc (Ubuntu 7.4.0-1ubuntu1~18.04.1) 7.4.0
NIC: Broadcom Inc. brcm_57414 25000 Mbps
Target: x86_64-native-linuxapp-gcc
Fail/Total: 0/2
Detail performance results:
+------------+---------+-------------------------------------+
| frame_size | txd/rxd | throughput difference from expected |
+============+=========+=====================================+
| 64 | 512 | -0.44221855186743253% |
+------------+---------+-------------------------------------+
| 64 | 2048 | 0.5032928200460524% |
+------------+---------+-------------------------------------+
To view detailed results, visit:
https://lab.dpdk.org/results/dashboard/tarballs/13799/
UNH-IOL DPDK Community Lab
To manage your email subscriptions, visit:
https://lab.dpdk.org/results/dashboard/preferences/subscriptions/
^ permalink raw reply [flat|nested] 17+ messages in thread
* [dpdk-test-report] |SUCCESS| [GIT MASTER] 442155f70c6bbdf59aa1f7b4d8039b5140f62927
@ 2021-02-17 2:55 dpdklab
0 siblings, 0 replies; 17+ messages in thread
From: dpdklab @ 2021-02-17 2:55 UTC (permalink / raw)
To: Test Report; +Cc: dpdk-test-reports
[-- Attachment #1: Type: text/plain, Size: 2804 bytes --]
_Testing PASS_
Branch: dpdk
442155f70c6bbdf59aa1f7b4d8039b5140f62927 --> testing pass
Test environment and result as below:
+---------------------+----------------------+--------------------+-------------------+----------------+
| Environment | dpdk_mingw64_compile | dpdk_meson_compile | dpdk_compile_spdk | dpdk_unit_test |
+=====================+======================+====================+===================+================+
| Windows Server 2019 | PASS | PASS | SKIPPED | SKIPPED |
+---------------------+----------------------+--------------------+-------------------+----------------+
| FreeBSD 11.2 | SKIPPED | PASS | SKIPPED | SKIPPED |
+---------------------+----------------------+--------------------+-------------------+----------------+
| Ubuntu 18.04 | SKIPPED | PASS | PASS | PASS |
+---------------------+----------------------+--------------------+-------------------+----------------+
| CentOS 8 | SKIPPED | PASS | SKIPPED | SKIPPED |
+---------------------+----------------------+--------------------+-------------------+----------------+
| openSUSE Leap 15 | SKIPPED | PASS | SKIPPED | SKIPPED |
+---------------------+----------------------+--------------------+-------------------+----------------+
| Arch Linux | SKIPPED | PASS | SKIPPED | SKIPPED |
+---------------------+----------------------+--------------------+-------------------+----------------+
| Ubuntu 18.04 ARM | SKIPPED | PASS | SKIPPED | PASS |
+---------------------+----------------------+--------------------+-------------------+----------------+
| Fedora 31 | SKIPPED | PASS | PASS | SKIPPED |
+---------------------+----------------------+--------------------+-------------------+----------------+
Windows Server 2019
Kernel: 10.0
Compiler: clang 9.0 and gcc 8.1.0 (MinGW)
FreeBSD 11.2
Kernel: 11.2
Compiler: gcc 8.3
Ubuntu 18.04
Kernel: 4.15.0-generic
Compiler: gcc 7.5
CentOS 8
Kernel: 4.18.0.el8_0
Compiler: gcc 8.3.1
openSUSE Leap 15
Kernel: 4.12.14
Compiler: gcc 7.4.1
Arch Linux
Kernel: latest
Compiler: gcc latest
Ubuntu 18.04 ARM
Kernel: 5.4.0-53-generic
Compiler: gcc 9.3
Fedora 31
Kernel: 5.3.16
Compiler: gcc 9.2.1
To view detailed results, visit:
https://lab.dpdk.org/results/dashboard/tarballs/13798/
UNH-IOL DPDK Community Lab
To manage your email subscriptions, visit:
https://lab.dpdk.org/results/dashboard/preferences/subscriptions/
^ permalink raw reply [flat|nested] 17+ messages in thread
* [dpdk-test-report] |SUCCESS| [GIT MASTER] 442155f70c6bbdf59aa1f7b4d8039b5140f62927
@ 2021-02-17 0:25 dpdklab
0 siblings, 0 replies; 17+ messages in thread
From: dpdklab @ 2021-02-17 0:25 UTC (permalink / raw)
To: Test Report; +Cc: dpdk-test-reports
[-- Attachment #1: Type: text/plain, Size: 2818 bytes --]
_Testing PASS_
Branch: dpdk-next-net-brcm
442155f70c6bbdf59aa1f7b4d8039b5140f62927 --> testing pass
Test environment and result as below:
+---------------------+----------------------+--------------------+-------------------+----------------+
| Environment | dpdk_mingw64_compile | dpdk_meson_compile | dpdk_compile_spdk | dpdk_unit_test |
+=====================+======================+====================+===================+================+
| Windows Server 2019 | PASS | PASS | SKIPPED | SKIPPED |
+---------------------+----------------------+--------------------+-------------------+----------------+
| FreeBSD 11.2 | SKIPPED | PASS | SKIPPED | SKIPPED |
+---------------------+----------------------+--------------------+-------------------+----------------+
| CentOS 8 | SKIPPED | PASS | SKIPPED | SKIPPED |
+---------------------+----------------------+--------------------+-------------------+----------------+
| openSUSE Leap 15 | SKIPPED | PASS | SKIPPED | SKIPPED |
+---------------------+----------------------+--------------------+-------------------+----------------+
| Arch Linux | SKIPPED | PASS | SKIPPED | SKIPPED |
+---------------------+----------------------+--------------------+-------------------+----------------+
| Ubuntu 18.04 | SKIPPED | PASS | PASS | PASS |
+---------------------+----------------------+--------------------+-------------------+----------------+
| Fedora 31 | SKIPPED | PASS | PASS | SKIPPED |
+---------------------+----------------------+--------------------+-------------------+----------------+
| Ubuntu 18.04 ARM | SKIPPED | PASS | SKIPPED | PASS |
+---------------------+----------------------+--------------------+-------------------+----------------+
Windows Server 2019
Kernel: 10.0
Compiler: clang 9.0 and gcc 8.1.0 (MinGW)
FreeBSD 11.2
Kernel: 11.2
Compiler: gcc 8.3
CentOS 8
Kernel: 4.18.0.el8_0
Compiler: gcc 8.3.1
openSUSE Leap 15
Kernel: 4.12.14
Compiler: gcc 7.4.1
Arch Linux
Kernel: latest
Compiler: gcc latest
Ubuntu 18.04
Kernel: 4.15.0-generic
Compiler: gcc 7.5
Fedora 31
Kernel: 5.3.16
Compiler: gcc 9.2.1
Ubuntu 18.04 ARM
Kernel: 5.4.0-53-generic
Compiler: gcc 9.3
To view detailed results, visit:
https://lab.dpdk.org/results/dashboard/tarballs/13794/
UNH-IOL DPDK Community Lab
To manage your email subscriptions, visit:
https://lab.dpdk.org/results/dashboard/preferences/subscriptions/
^ permalink raw reply [flat|nested] 17+ messages in thread
* [dpdk-test-report] |SUCCESS| [GIT MASTER] 442155f70c6bbdf59aa1f7b4d8039b5140f62927
@ 2021-02-16 23:29 dpdklab
0 siblings, 0 replies; 17+ messages in thread
From: dpdklab @ 2021-02-16 23:29 UTC (permalink / raw)
To: Test Report; +Cc: dpdk-test-reports
[-- Attachment #1: Type: text/plain, Size: 2359 bytes --]
_Performance Testing PASS_
Branch: dpdk
442155f70c6bbdf59aa1f7b4d8039b5140f62927 --> performance testing pass
Test environment and result as below:
Ubuntu 18.04
Kernel: 4.15.0-generic
Compiler: gcc 7.4
NIC: Intel Corporation Ethernet Converged Network Adapter 82599ES 10000 Mbps
Target: x86_64-native-linuxapp-gcc
Fail/Total: 0/2
Detail performance results:
+------------+---------+-------------------------------------+
| frame_size | txd/rxd | throughput difference from expected |
+============+=========+=====================================+
| 64 | 512 | 1.895723863018654% |
+------------+---------+-------------------------------------+
| 64 | 2048 | 1.8328593179924884% |
+------------+---------+-------------------------------------+
Ubuntu 18.04
Kernel: 4.15.0-generic
Compiler: gcc 7.4
NIC: Intel Corporation Ethernet Converged Network Adapter XL710-QDA2 40000 Mbps
Target: x86_64-native-linuxapp-gcc
Fail/Total: 0/2
Detail performance results:
+------------+---------+-------------------------------------+
| frame_size | txd/rxd | throughput difference from expected |
+============+=========+=====================================+
| 64 | 512 | 5.218589602764075% |
+------------+---------+-------------------------------------+
| 64 | 2048 | 5.153019230289565% |
+------------+---------+-------------------------------------+
Ubuntu 18.04 ARM
Kernel: 4.15.0-132-generic
Compiler: gcc 7.5
NIC: Arm Intel Corporation Ethernet Converged Network Adapter XL710-QDA2 40000 Mbps
Target: x86_64-native-linuxapp-gcc
Fail/Total: 0/2
Detail performance results:
+------------+---------+-------------------------------------+
| frame_size | txd/rxd | throughput difference from expected |
+============+=========+=====================================+
| 64 | 512 | -0.1256456791847039% |
+------------+---------+-------------------------------------+
| 64 | 2048 | 0.027874564459927247% |
+------------+---------+-------------------------------------+
To view detailed results, visit:
https://lab.dpdk.org/results/dashboard/tarballs/13798/
UNH-IOL DPDK Community Lab
To manage your email subscriptions, visit:
https://lab.dpdk.org/results/dashboard/preferences/subscriptions/
^ permalink raw reply [flat|nested] 17+ messages in thread
* [dpdk-test-report] |SUCCESS| [GIT MASTER] 442155f70c6bbdf59aa1f7b4d8039b5140f62927
@ 2021-02-16 23:02 dpdklab
0 siblings, 0 replies; 17+ messages in thread
From: dpdklab @ 2021-02-16 23:02 UTC (permalink / raw)
To: Ajit Khaparde, Test Report; +Cc: dpdk-test-reports
[-- Attachment #1: Type: text/plain, Size: 1038 bytes --]
_Performance Testing PASS_
Branch: dpdk
442155f70c6bbdf59aa1f7b4d8039b5140f62927 --> performance testing pass
Test environment and result as below:
Ubuntu 18.04
Kernel: 4.15.0-65-generic
Compiler: gcc gcc (Ubuntu 7.4.0-1ubuntu1~18.04.1) 7.4.0
NIC: Broadcom Inc. brcm_57414 25000 Mbps
Target: x86_64-native-linuxapp-gcc
Fail/Total: 0/2
Detail performance results:
+------------+---------+-------------------------------------+
| frame_size | txd/rxd | throughput difference from expected |
+============+=========+=====================================+
| 64 | 512 | 0.48720419745153404% |
+------------+---------+-------------------------------------+
| 64 | 2048 | -0.4901699611060725% |
+------------+---------+-------------------------------------+
To view detailed results, visit:
https://lab.dpdk.org/results/dashboard/tarballs/13798/
UNH-IOL DPDK Community Lab
To manage your email subscriptions, visit:
https://lab.dpdk.org/results/dashboard/preferences/subscriptions/
^ permalink raw reply [flat|nested] 17+ messages in thread
* [dpdk-test-report] |SUCCESS| [GIT MASTER] 442155f70c6bbdf59aa1f7b4d8039b5140f62927
@ 2021-02-16 22:56 dpdklab
0 siblings, 0 replies; 17+ messages in thread
From: dpdklab @ 2021-02-16 22:56 UTC (permalink / raw)
To: Ajit Khaparde, Test Report; +Cc: dpdk-test-reports
[-- Attachment #1: Type: text/plain, Size: 566 bytes --]
_Functional Testing PASS_
Branch: dpdk
442155f70c6bbdf59aa1f7b4d8039b5140f62927 --> functional testing pass
Test environment and result as below:
Ubuntu 18.04
Kernel: 4.15.0-65-generic
Compiler: gcc gcc (Ubuntu 7.4.0-1ubuntu1~18.04.1) 7.4.0
NIC: Broadcom Inc. brcm_57414 25000 Mbps
Target: x86_64-native-linuxapp-gcc
Fail/Total: 0/3
To view detailed results, visit:
https://lab.dpdk.org/results/dashboard/tarballs/13798/
UNH-IOL DPDK Community Lab
To manage your email subscriptions, visit:
https://lab.dpdk.org/results/dashboard/preferences/subscriptions/
^ permalink raw reply [flat|nested] 17+ messages in thread
* [dpdk-test-report] |SUCCESS| [GIT MASTER] 442155f70c6bbdf59aa1f7b4d8039b5140f62927
@ 2021-02-16 20:53 dpdklab
0 siblings, 0 replies; 17+ messages in thread
From: dpdklab @ 2021-02-16 20:53 UTC (permalink / raw)
To: Test Report; +Cc: dpdk-test-reports
[-- Attachment #1: Type: text/plain, Size: 2813 bytes --]
_Testing PASS_
Branch: dpdk-next-net
442155f70c6bbdf59aa1f7b4d8039b5140f62927 --> testing pass
Test environment and result as below:
+---------------------+----------------------+--------------------+-------------------+----------------+
| Environment | dpdk_mingw64_compile | dpdk_meson_compile | dpdk_compile_spdk | dpdk_unit_test |
+=====================+======================+====================+===================+================+
| Windows Server 2019 | PASS | PASS | SKIPPED | SKIPPED |
+---------------------+----------------------+--------------------+-------------------+----------------+
| FreeBSD 11.2 | SKIPPED | PASS | SKIPPED | SKIPPED |
+---------------------+----------------------+--------------------+-------------------+----------------+
| Ubuntu 18.04 | SKIPPED | PASS | PASS | PASS |
+---------------------+----------------------+--------------------+-------------------+----------------+
| CentOS 8 | SKIPPED | PASS | SKIPPED | SKIPPED |
+---------------------+----------------------+--------------------+-------------------+----------------+
| openSUSE Leap 15 | SKIPPED | PASS | SKIPPED | SKIPPED |
+---------------------+----------------------+--------------------+-------------------+----------------+
| Arch Linux | SKIPPED | PASS | SKIPPED | SKIPPED |
+---------------------+----------------------+--------------------+-------------------+----------------+
| Fedora 31 | SKIPPED | PASS | PASS | SKIPPED |
+---------------------+----------------------+--------------------+-------------------+----------------+
| Ubuntu 18.04 ARM | SKIPPED | PASS | SKIPPED | PASS |
+---------------------+----------------------+--------------------+-------------------+----------------+
Windows Server 2019
Kernel: 10.0
Compiler: clang 9.0 and gcc 8.1.0 (MinGW)
FreeBSD 11.2
Kernel: 11.2
Compiler: gcc 8.3
Ubuntu 18.04
Kernel: 4.15.0-generic
Compiler: gcc 7.5
CentOS 8
Kernel: 4.18.0.el8_0
Compiler: gcc 8.3.1
openSUSE Leap 15
Kernel: 4.12.14
Compiler: gcc 7.4.1
Arch Linux
Kernel: latest
Compiler: gcc latest
Fedora 31
Kernel: 5.3.16
Compiler: gcc 9.2.1
Ubuntu 18.04 ARM
Kernel: 5.4.0-53-generic
Compiler: gcc 9.3
To view detailed results, visit:
https://lab.dpdk.org/results/dashboard/tarballs/13793/
UNH-IOL DPDK Community Lab
To manage your email subscriptions, visit:
https://lab.dpdk.org/results/dashboard/preferences/subscriptions/
^ permalink raw reply [flat|nested] 17+ messages in thread
* [dpdk-test-report] |SUCCESS| [GIT MASTER] 442155f70c6bbdf59aa1f7b4d8039b5140f62927
@ 2021-02-16 20:46 dpdklab
0 siblings, 0 replies; 17+ messages in thread
From: dpdklab @ 2021-02-16 20:46 UTC (permalink / raw)
To: Test Report; +Cc: dpdk-test-reports
[-- Attachment #1: Type: text/plain, Size: 2373 bytes --]
_Performance Testing PASS_
Branch: dpdk-next-net-brcm
442155f70c6bbdf59aa1f7b4d8039b5140f62927 --> performance testing pass
Test environment and result as below:
Ubuntu 18.04
Kernel: 4.15.0-generic
Compiler: gcc 7.4
NIC: Intel Corporation Ethernet Converged Network Adapter 82599ES 10000 Mbps
Target: x86_64-native-linuxapp-gcc
Fail/Total: 0/2
Detail performance results:
+------------+---------+-------------------------------------+
| frame_size | txd/rxd | throughput difference from expected |
+============+=========+=====================================+
| 64 | 512 | 1.23663707193332% |
+------------+---------+-------------------------------------+
| 64 | 2048 | 2.2178172311758617% |
+------------+---------+-------------------------------------+
Ubuntu 18.04 ARM
Kernel: 4.15.0-132-generic
Compiler: gcc 7.5
NIC: Arm Intel Corporation Ethernet Converged Network Adapter XL710-QDA2 40000 Mbps
Target: x86_64-native-linuxapp-gcc
Fail/Total: 0/2
Detail performance results:
+------------+---------+-------------------------------------+
| frame_size | txd/rxd | throughput difference from expected |
+============+=========+=====================================+
| 64 | 512 | -0.1396063102052307% |
+------------+---------+-------------------------------------+
| 64 | 2048 | 0.25087108013937% |
+------------+---------+-------------------------------------+
Ubuntu 18.04
Kernel: 4.15.0-generic
Compiler: gcc 7.4
NIC: Intel Corporation Ethernet Converged Network Adapter XL710-QDA2 40000 Mbps
Target: x86_64-native-linuxapp-gcc
Fail/Total: 0/2
Detail performance results:
+------------+---------+-------------------------------------+
| frame_size | txd/rxd | throughput difference from expected |
+============+=========+=====================================+
| 64 | 512 | 5.566096143476262% |
+------------+---------+-------------------------------------+
| 64 | 2048 | 5.10562941161798% |
+------------+---------+-------------------------------------+
To view detailed results, visit:
https://lab.dpdk.org/results/dashboard/tarballs/13794/
UNH-IOL DPDK Community Lab
To manage your email subscriptions, visit:
https://lab.dpdk.org/results/dashboard/preferences/subscriptions/
^ permalink raw reply [flat|nested] 17+ messages in thread
* [dpdk-test-report] |SUCCESS| [GIT MASTER] 442155f70c6bbdf59aa1f7b4d8039b5140f62927
@ 2021-02-16 20:33 dpdklab
0 siblings, 0 replies; 17+ messages in thread
From: dpdklab @ 2021-02-16 20:33 UTC (permalink / raw)
To: Ajit Khaparde, Test Report; +Cc: dpdk-test-reports
[-- Attachment #1: Type: text/plain, Size: 1052 bytes --]
_Performance Testing PASS_
Branch: dpdk-next-net-brcm
442155f70c6bbdf59aa1f7b4d8039b5140f62927 --> performance testing pass
Test environment and result as below:
Ubuntu 18.04
Kernel: 4.15.0-65-generic
Compiler: gcc gcc (Ubuntu 7.4.0-1ubuntu1~18.04.1) 7.4.0
NIC: Broadcom Inc. brcm_57414 25000 Mbps
Target: x86_64-native-linuxapp-gcc
Fail/Total: 0/2
Detail performance results:
+------------+---------+-------------------------------------+
| frame_size | txd/rxd | throughput difference from expected |
+============+=========+=====================================+
| 64 | 512 | 0.48720419745153404% |
+------------+---------+-------------------------------------+
| 64 | 2048 | -0.4848420267462174% |
+------------+---------+-------------------------------------+
To view detailed results, visit:
https://lab.dpdk.org/results/dashboard/tarballs/13794/
UNH-IOL DPDK Community Lab
To manage your email subscriptions, visit:
https://lab.dpdk.org/results/dashboard/preferences/subscriptions/
^ permalink raw reply [flat|nested] 17+ messages in thread
* [dpdk-test-report] |SUCCESS| [GIT MASTER] 442155f70c6bbdf59aa1f7b4d8039b5140f62927
@ 2021-02-16 20:12 dpdklab
0 siblings, 0 replies; 17+ messages in thread
From: dpdklab @ 2021-02-16 20:12 UTC (permalink / raw)
To: Test Report; +Cc: dpdk-test-reports
[-- Attachment #1: Type: text/plain, Size: 2368 bytes --]
_Performance Testing PASS_
Branch: dpdk-next-net
442155f70c6bbdf59aa1f7b4d8039b5140f62927 --> performance testing pass
Test environment and result as below:
Ubuntu 18.04
Kernel: 4.15.0-generic
Compiler: gcc 7.4
NIC: Intel Corporation Ethernet Converged Network Adapter 82599ES 10000 Mbps
Target: x86_64-native-linuxapp-gcc
Fail/Total: 0/2
Detail performance results:
+------------+---------+-------------------------------------+
| frame_size | txd/rxd | throughput difference from expected |
+============+=========+=====================================+
| 64 | 512 | 1.1098025004529852% |
+------------+---------+-------------------------------------+
| 64 | 2048 | 1.6719813841247975% |
+------------+---------+-------------------------------------+
Ubuntu 18.04
Kernel: 4.15.0-generic
Compiler: gcc 7.4
NIC: Intel Corporation Ethernet Converged Network Adapter XL710-QDA2 40000 Mbps
Target: x86_64-native-linuxapp-gcc
Fail/Total: 0/2
Detail performance results:
+------------+---------+-------------------------------------+
| frame_size | txd/rxd | throughput difference from expected |
+============+=========+=====================================+
| 64 | 512 | 5.346408100497293% |
+------------+---------+-------------------------------------+
| 64 | 2048 | 5.372508916768504% |
+------------+---------+-------------------------------------+
Ubuntu 18.04 ARM
Kernel: 4.15.0-132-generic
Compiler: gcc 7.5
NIC: Arm Intel Corporation Ethernet Converged Network Adapter XL710-QDA2 40000 Mbps
Target: x86_64-native-linuxapp-gcc
Fail/Total: 0/2
Detail performance results:
+------------+---------+-------------------------------------+
| frame_size | txd/rxd | throughput difference from expected |
+============+=========+=====================================+
| 64 | 512 | -0.11168504816417711% |
+------------+---------+-------------------------------------+
| 64 | 2048 | -0.50174216027874% |
+------------+---------+-------------------------------------+
To view detailed results, visit:
https://lab.dpdk.org/results/dashboard/tarballs/13793/
UNH-IOL DPDK Community Lab
To manage your email subscriptions, visit:
https://lab.dpdk.org/results/dashboard/preferences/subscriptions/
^ permalink raw reply [flat|nested] 17+ messages in thread
* [dpdk-test-report] |SUCCESS| [GIT MASTER] 442155f70c6bbdf59aa1f7b4d8039b5140f62927
@ 2021-02-16 19:32 dpdklab
0 siblings, 0 replies; 17+ messages in thread
From: dpdklab @ 2021-02-16 19:32 UTC (permalink / raw)
To: Ajit Khaparde, Test Report; +Cc: dpdk-test-reports
[-- Attachment #1: Type: text/plain, Size: 1047 bytes --]
_Performance Testing PASS_
Branch: dpdk-next-net
442155f70c6bbdf59aa1f7b4d8039b5140f62927 --> performance testing pass
Test environment and result as below:
Ubuntu 18.04
Kernel: 4.15.0-65-generic
Compiler: gcc gcc (Ubuntu 7.4.0-1ubuntu1~18.04.1) 7.4.0
NIC: Broadcom Inc. brcm_57414 25000 Mbps
Target: x86_64-native-linuxapp-gcc
Fail/Total: 0/2
Detail performance results:
+------------+---------+-------------------------------------+
| frame_size | txd/rxd | throughput difference from expected |
+============+=========+=====================================+
| 64 | 512 | 0.4443730592140401% |
+------------+---------+-------------------------------------+
| 64 | 2048 | 0.015983803079546666% |
+------------+---------+-------------------------------------+
To view detailed results, visit:
https://lab.dpdk.org/results/dashboard/tarballs/13793/
UNH-IOL DPDK Community Lab
To manage your email subscriptions, visit:
https://lab.dpdk.org/results/dashboard/preferences/subscriptions/
^ permalink raw reply [flat|nested] 17+ messages in thread
* [dpdk-test-report] |SUCCESS| [GIT MASTER] 442155f70c6bbdf59aa1f7b4d8039b5140f62927
@ 2021-02-16 19:25 dpdklab
0 siblings, 0 replies; 17+ messages in thread
From: dpdklab @ 2021-02-16 19:25 UTC (permalink / raw)
To: Ajit Khaparde, Test Report; +Cc: dpdk-test-reports
[-- Attachment #1: Type: text/plain, Size: 575 bytes --]
_Functional Testing PASS_
Branch: dpdk-next-net
442155f70c6bbdf59aa1f7b4d8039b5140f62927 --> functional testing pass
Test environment and result as below:
Ubuntu 18.04
Kernel: 4.15.0-65-generic
Compiler: gcc gcc (Ubuntu 7.4.0-1ubuntu1~18.04.1) 7.4.0
NIC: Broadcom Inc. brcm_57414 25000 Mbps
Target: x86_64-native-linuxapp-gcc
Fail/Total: 0/3
To view detailed results, visit:
https://lab.dpdk.org/results/dashboard/tarballs/13793/
UNH-IOL DPDK Community Lab
To manage your email subscriptions, visit:
https://lab.dpdk.org/results/dashboard/preferences/subscriptions/
^ permalink raw reply [flat|nested] 17+ messages in thread
end of thread, other threads:[~2021-02-17 16:28 UTC | newest]
Thread overview: 17+ messages (download: mbox.gz / follow: Atom feed)
-- links below jump to the message on this page --
2021-02-16 20:28 [dpdk-test-report] |SUCCESS| [GIT MASTER] 442155f70c6bbdf59aa1f7b4d8039b5140f62927 dpdklab
-- strict thread matches above, loose matches on Subject: below --
2021-02-17 16:28 dpdklab
2021-02-17 16:04 dpdklab
2021-02-17 16:01 dpdklab
2021-02-17 15:40 dpdklab
2021-02-17 15:32 dpdklab
2021-02-17 2:55 dpdklab
2021-02-17 0:25 dpdklab
2021-02-16 23:29 dpdklab
2021-02-16 23:02 dpdklab
2021-02-16 22:56 dpdklab
2021-02-16 20:53 dpdklab
2021-02-16 20:46 dpdklab
2021-02-16 20:33 dpdklab
2021-02-16 20:12 dpdklab
2021-02-16 19:32 dpdklab
2021-02-16 19:25 dpdklab
This is a public inbox, see mirroring instructions
for how to clone and mirror all data and code used for this inbox;
as well as URLs for NNTP newsgroup(s).