* [dpdk-test-report] |SUCCESS| pw87938-87935 [PATCH] [v2, 5/5] table: add wildcard match table type
@ 2021-02-17 1:16 dpdklab
0 siblings, 0 replies; 6+ messages in thread
From: dpdklab @ 2021-02-17 1:16 UTC (permalink / raw)
To: Test Report; +Cc: dpdk-test-reports
[-- Attachment #1: Type: text/plain, Size: 3040 bytes --]
Test-Label: iol-testing
Test-Status: SUCCESS
http://dpdk.org/patch/87935
_Testing PASS_
Submitter: Cristian Dumitrescu <cristian.dumitrescu@intel.com>
Date: Tuesday, February 16 2021 20:21:27
DPDK git baseline: Repo:dpdk
Branch: master
CommitID:543f40f5952a869710e39ff51deccc96c5b88b3f
87938-87935 --> testing pass
Test environment and result as below:
+---------------------+----------------------+--------------------+-------------------+----------------+
| Environment | dpdk_mingw64_compile | dpdk_meson_compile | dpdk_compile_spdk | dpdk_unit_test |
+=====================+======================+====================+===================+================+
| Windows Server 2019 | PASS | PASS | SKIPPED | SKIPPED |
+---------------------+----------------------+--------------------+-------------------+----------------+
| FreeBSD 11.2 | SKIPPED | PASS | SKIPPED | SKIPPED |
+---------------------+----------------------+--------------------+-------------------+----------------+
| Ubuntu 18.04 | SKIPPED | PASS | PASS | PASS |
+---------------------+----------------------+--------------------+-------------------+----------------+
| CentOS 8 | SKIPPED | PASS | SKIPPED | SKIPPED |
+---------------------+----------------------+--------------------+-------------------+----------------+
| openSUSE Leap 15 | SKIPPED | PASS | SKIPPED | SKIPPED |
+---------------------+----------------------+--------------------+-------------------+----------------+
| Ubuntu 18.04 ARM | SKIPPED | PASS | SKIPPED | PASS |
+---------------------+----------------------+--------------------+-------------------+----------------+
| Fedora 31 | SKIPPED | PASS | PASS | SKIPPED |
+---------------------+----------------------+--------------------+-------------------+----------------+
| Arch Linux | SKIPPED | PASS | SKIPPED | SKIPPED |
+---------------------+----------------------+--------------------+-------------------+----------------+
Windows Server 2019
Kernel: 10.0
Compiler: clang 9.0 and gcc 8.1.0 (MinGW)
FreeBSD 11.2
Kernel: 11.2
Compiler: gcc 8.3
Ubuntu 18.04
Kernel: 4.15.0-generic
Compiler: gcc 7.5
CentOS 8
Kernel: 4.18.0.el8_0
Compiler: gcc 8.3.1
openSUSE Leap 15
Kernel: 4.12.14
Compiler: gcc 7.4.1
Ubuntu 18.04 ARM
Kernel: 5.4.0-53-generic
Compiler: gcc 9.3
Fedora 31
Kernel: 5.3.16
Compiler: gcc 9.2.1
Arch Linux
Kernel: latest
Compiler: gcc latest
To view detailed results, visit:
https://lab.dpdk.org/results/dashboard/patchsets/15634/
UNH-IOL DPDK Community Lab
To manage your email subscriptions, visit:
https://lab.dpdk.org/results/dashboard/preferences/subscriptions/
^ permalink raw reply [flat|nested] 6+ messages in thread
* [dpdk-test-report] |SUCCESS| pw87938-87935 [PATCH] [v2, 5/5] table: add wildcard match table type
@ 2021-02-17 0:25 dpdklab
0 siblings, 0 replies; 6+ messages in thread
From: dpdklab @ 2021-02-17 0:25 UTC (permalink / raw)
To: Test Report; +Cc: dpdk-test-reports
[-- Attachment #1: Type: text/plain, Size: 941 bytes --]
Test-Label: iol-abi-testing
Test-Status: SUCCESS
http://dpdk.org/patch/87935
_Testing PASS_
Submitter: Cristian Dumitrescu <cristian.dumitrescu@intel.com>
Date: Tuesday, February 16 2021 20:21:27
DPDK git baseline: Repo:dpdk
Branch: master
CommitID:543f40f5952a869710e39ff51deccc96c5b88b3f
87938-87935 --> testing pass
Test environment and result as below:
+------------------+----------+
| Environment | abi_test |
+==================+==========+
| Ubuntu 18.04 | PASS |
+------------------+----------+
| Ubuntu 18.04 ARM | PASS |
+------------------+----------+
Ubuntu 18.04
Kernel: 4.15.0-generic
Compiler: gcc 7.5
Ubuntu 18.04 ARM
Kernel: 5.4.0-53-generic
Compiler: gcc 9.3
To view detailed results, visit:
https://lab.dpdk.org/results/dashboard/patchsets/15634/
UNH-IOL DPDK Community Lab
To manage your email subscriptions, visit:
https://lab.dpdk.org/results/dashboard/preferences/subscriptions/
^ permalink raw reply [flat|nested] 6+ messages in thread
* [dpdk-test-report] |SUCCESS| pw87938-87935 [PATCH] [v2, 5/5] table: add wildcard match table type
@ 2021-02-16 22:29 dpdklab
0 siblings, 0 replies; 6+ messages in thread
From: dpdklab @ 2021-02-16 22:29 UTC (permalink / raw)
To: Ali Alnubani, Test Report; +Cc: dpdk-test-reports
[-- Attachment #1: Type: text/plain, Size: 4863 bytes --]
Test-Label: iol-mellanox-Performance
Test-Status: SUCCESS
http://dpdk.org/patch/87935
_Performance Testing PASS_
Submitter: Cristian Dumitrescu <cristian.dumitrescu@intel.com>
Date: Tuesday, February 16 2021 20:21:27
DPDK git baseline: Repo:dpdk
Branch: master
CommitID:543f40f5952a869710e39ff51deccc96c5b88b3f
87938-87935 --> performance testing pass
Test environment and result as below:
Ubuntu 18.04
Kernel: 4.15.0-generic
Compiler: gcc 7.4
NIC: Mellanox ConnectX-4 Lx 40000 Mbps
Target: x86_64-native-linuxapp-gcc
Fail/Total: 0/6
Detail performance results:
+------------+---------+-------------------------------------+
| frame_size | txd/rxd | throughput difference from expected |
+============+=========+=====================================+
| 64 | 256 | -0.9482978904630649% |
+------------+---------+-------------------------------------+
| 128 | 256 | 1.5482115985646594% |
+------------+---------+-------------------------------------+
| 256 | 256 | -0.018280867244338434% |
+------------+---------+-------------------------------------+
| 512 | 256 | -0.2395655877342321% |
+------------+---------+-------------------------------------+
| 1024 | 256 | -0.1566906925728671% |
+------------+---------+-------------------------------------+
| 1518 | 256 | -0.07691124442393314% |
+------------+---------+-------------------------------------+
Ubuntu 18.04
Kernel: 4.15.0-generic
Compiler: gcc 7.4
NIC: Mellanox ConnectX-5 100000 Mbps
Target: x86_64-native-linuxapp-gcc
Fail/Total: 0/6
Detail performance results:
+------------+---------+-------------------------------------+
| frame_size | txd/rxd | throughput difference from expected |
+============+=========+=====================================+
| 64 | 256 | 0.23501191267281984% |
+------------+---------+-------------------------------------+
| 128 | 256 | 0.24074519898515798% |
+------------+---------+-------------------------------------+
| 256 | 256 | -0.21669821659859342% |
+------------+---------+-------------------------------------+
| 512 | 256 | -0.17261219792866017% |
+------------+---------+-------------------------------------+
| 1024 | 256 | 1.4257323079581712% |
+------------+---------+-------------------------------------+
| 1518 | 256 | -0.7403055229142258% |
+------------+---------+-------------------------------------+
Ubuntu 18.04 ARM
Kernel: 4.15.0-132-generic
Compiler: gcc 7.5
NIC: Arm Mellanox ConnectX-5 10000 Mbps
Target: x86_64-native-linuxapp-gcc
Fail/Total: 0/4
Detail performance results:
+------------+---------+-------------------------------------+
| frame_size | txd/rxd | throughput difference from expected |
+============+=========+=====================================+
| 64 | 128 | -1.904961272765338% |
+------------+---------+-------------------------------------+
| 64 | 256 | -0.9506895110739586% |
+------------+---------+-------------------------------------+
| 64 | 512 | -1.0612588000420204% |
+------------+---------+-------------------------------------+
| 64 | 2048 | -2.3357664233576667% |
+------------+---------+-------------------------------------+
Ubuntu 18.04
Kernel: 4.15.0-generic
Compiler: gcc 7.4
NIC: Mellanox ConnectX-4 Lx 25000 Mbps
Target: x86_64-native-linuxapp-gcc
Fail/Total: 0/6
Detail performance results:
+------------+---------+-------------------------------------+
| frame_size | txd/rxd | throughput difference from expected |
+============+=========+=====================================+
| 64 | 256 | -0.4870313738815385% |
+------------+---------+-------------------------------------+
| 128 | 256 | 0.1279391424619607% |
+------------+---------+-------------------------------------+
| 256 | 256 | 0.37296732806205823% |
+------------+---------+-------------------------------------+
| 512 | 256 | 0.04297378599055249% |
+------------+---------+-------------------------------------+
| 1024 | 256 | 0.05017561465128138% |
+------------+---------+-------------------------------------+
| 1518 | 256 | 0.0% |
+------------+---------+-------------------------------------+
To view detailed results, visit:
https://lab.dpdk.org/results/dashboard/patchsets/15634/
UNH-IOL DPDK Community Lab
To manage your email subscriptions, visit:
https://lab.dpdk.org/results/dashboard/preferences/subscriptions/
^ permalink raw reply [flat|nested] 6+ messages in thread
* [dpdk-test-report] |SUCCESS| pw87938-87935 [PATCH] [v2, 5/5] table: add wildcard match table type
@ 2021-02-16 21:44 dpdklab
0 siblings, 0 replies; 6+ messages in thread
From: dpdklab @ 2021-02-16 21:44 UTC (permalink / raw)
To: Test Report; +Cc: dpdk-test-reports
[-- Attachment #1: Type: text/plain, Size: 2605 bytes --]
Test-Label: iol-intel-Performance
Test-Status: SUCCESS
http://dpdk.org/patch/87935
_Performance Testing PASS_
Submitter: Cristian Dumitrescu <cristian.dumitrescu@intel.com>
Date: Tuesday, February 16 2021 20:21:27
DPDK git baseline: Repo:dpdk
Branch: master
CommitID:543f40f5952a869710e39ff51deccc96c5b88b3f
87938-87935 --> performance testing pass
Test environment and result as below:
Ubuntu 18.04
Kernel: 4.15.0-generic
Compiler: gcc 7.4
NIC: Intel Corporation Ethernet Converged Network Adapter 82599ES 10000 Mbps
Target: x86_64-native-linuxapp-gcc
Fail/Total: 0/2
Detail performance results:
+------------+---------+-------------------------------------+
| frame_size | txd/rxd | throughput difference from expected |
+============+=========+=====================================+
| 64 | 512 | 1.324968291357132% |
+------------+---------+-------------------------------------+
| 64 | 2048 | 1.594415237438593% |
+------------+---------+-------------------------------------+
Ubuntu 18.04 ARM
Kernel: 4.15.0-132-generic
Compiler: gcc 7.5
NIC: Arm Intel Corporation Ethernet Converged Network Adapter XL710-QDA2 40000 Mbps
Target: x86_64-native-linuxapp-gcc
Fail/Total: 0/2
Detail performance results:
+------------+---------+-------------------------------------+
| frame_size | txd/rxd | throughput difference from expected |
+============+=========+=====================================+
| 64 | 512 | -0.8795197542929025% |
+------------+---------+-------------------------------------+
| 64 | 2048 | -0.6271777003484311% |
+------------+---------+-------------------------------------+
Ubuntu 18.04
Kernel: 4.15.0-generic
Compiler: gcc 7.4
NIC: Intel Corporation Ethernet Converged Network Adapter XL710-QDA2 40000 Mbps
Target: x86_64-native-linuxapp-gcc
Fail/Total: 0/2
Detail performance results:
+------------+---------+-------------------------------------+
| frame_size | txd/rxd | throughput difference from expected |
+============+=========+=====================================+
| 64 | 512 | 5.3064648199556705% |
+------------+---------+-------------------------------------+
| 64 | 2048 | 5.115606215548835% |
+------------+---------+-------------------------------------+
To view detailed results, visit:
https://lab.dpdk.org/results/dashboard/patchsets/15634/
UNH-IOL DPDK Community Lab
To manage your email subscriptions, visit:
https://lab.dpdk.org/results/dashboard/preferences/subscriptions/
^ permalink raw reply [flat|nested] 6+ messages in thread
* [dpdk-test-report] |SUCCESS| pw87938-87935 [PATCH] [v2, 5/5] table: add wildcard match table type
@ 2021-02-16 21:03 dpdklab
0 siblings, 0 replies; 6+ messages in thread
From: dpdklab @ 2021-02-16 21:03 UTC (permalink / raw)
To: Ajit Khaparde, Test Report; +Cc: dpdk-test-reports
[-- Attachment #1: Type: text/plain, Size: 814 bytes --]
Test-Label: iol-broadcom-Functional
Test-Status: SUCCESS
http://dpdk.org/patch/87935
_Functional Testing PASS_
Submitter: Cristian Dumitrescu <cristian.dumitrescu@intel.com>
Date: Tuesday, February 16 2021 20:21:27
DPDK git baseline: Repo:dpdk
Branch: master
CommitID:543f40f5952a869710e39ff51deccc96c5b88b3f
87938-87935 --> functional testing pass
Test environment and result as below:
Ubuntu 18.04
Kernel: 4.15.0-65-generic
Compiler: gcc gcc (Ubuntu 7.4.0-1ubuntu1~18.04.1) 7.4.0
NIC: Broadcom Inc. brcm_57414 25000 Mbps
Target: x86_64-native-linuxapp-gcc
Fail/Total: 0/3
To view detailed results, visit:
https://lab.dpdk.org/results/dashboard/patchsets/15634/
UNH-IOL DPDK Community Lab
To manage your email subscriptions, visit:
https://lab.dpdk.org/results/dashboard/preferences/subscriptions/
^ permalink raw reply [flat|nested] 6+ messages in thread
* [dpdk-test-report] |SUCCESS| pw87938-87935 [PATCH] [v2, 5/5] table: add wildcard match table type
@ 2021-02-16 20:54 dpdklab
0 siblings, 0 replies; 6+ messages in thread
From: dpdklab @ 2021-02-16 20:54 UTC (permalink / raw)
To: Ajit Khaparde, Test Report; +Cc: dpdk-test-reports
[-- Attachment #1: Type: text/plain, Size: 1287 bytes --]
Test-Label: iol-broadcom-Performance
Test-Status: SUCCESS
http://dpdk.org/patch/87935
_Performance Testing PASS_
Submitter: Cristian Dumitrescu <cristian.dumitrescu@intel.com>
Date: Tuesday, February 16 2021 20:21:27
DPDK git baseline: Repo:dpdk
Branch: master
CommitID:543f40f5952a869710e39ff51deccc96c5b88b3f
87938-87935 --> performance testing pass
Test environment and result as below:
Ubuntu 18.04
Kernel: 4.15.0-65-generic
Compiler: gcc gcc (Ubuntu 7.4.0-1ubuntu1~18.04.1) 7.4.0
NIC: Broadcom Inc. brcm_57414 25000 Mbps
Target: x86_64-native-linuxapp-gcc
Fail/Total: 0/2
Detail performance results:
+------------+---------+-------------------------------------+
| frame_size | txd/rxd | throughput difference from expected |
+============+=========+=====================================+
| 64 | 512 | 0.49791198201092174% |
+------------+---------+-------------------------------------+
| 64 | 2048 | -0.0426234748787848% |
+------------+---------+-------------------------------------+
To view detailed results, visit:
https://lab.dpdk.org/results/dashboard/patchsets/15634/
UNH-IOL DPDK Community Lab
To manage your email subscriptions, visit:
https://lab.dpdk.org/results/dashboard/preferences/subscriptions/
^ permalink raw reply [flat|nested] 6+ messages in thread
end of thread, other threads:[~2021-02-17 1:16 UTC | newest]
Thread overview: 6+ messages (download: mbox.gz / follow: Atom feed)
-- links below jump to the message on this page --
2021-02-17 1:16 [dpdk-test-report] |SUCCESS| pw87938-87935 [PATCH] [v2, 5/5] table: add wildcard match table type dpdklab
-- strict thread matches above, loose matches on Subject: below --
2021-02-17 0:25 dpdklab
2021-02-16 22:29 dpdklab
2021-02-16 21:44 dpdklab
2021-02-16 21:03 dpdklab
2021-02-16 20:54 dpdklab
This is a public inbox, see mirroring instructions
for how to clone and mirror all data and code used for this inbox;
as well as URLs for NNTP newsgroup(s).