* [dpdk-test-report] |SUCCESS| pw87997 [PATCH] examples/vhost: fix unchecked return value
@ 2021-02-19 4:16 dpdklab
0 siblings, 0 replies; 6+ messages in thread
From: dpdklab @ 2021-02-19 4:16 UTC (permalink / raw)
To: Test Report; +Cc: dpdk-test-reports
[-- Attachment #1: Type: text/plain, Size: 2580 bytes --]
Test-Label: iol-intel-Performance
Test-Status: SUCCESS
http://dpdk.org/patch/87997
_Performance Testing PASS_
Submitter: Chenbo Xia <chenbo.xia@intel.com>
Date: Friday, February 19 2021 02:40:11
DPDK git baseline: Repo:dpdk
Branch: master
CommitID:442155f70c6bbdf59aa1f7b4d8039b5140f62927
87997 --> performance testing pass
Test environment and result as below:
Ubuntu 18.04
Kernel: 4.15.0-generic
Compiler: gcc 7.4
NIC: Intel Corporation Ethernet Converged Network Adapter 82599ES 10000 Mbps
Target: x86_64-native-linuxapp-gcc
Fail/Total: 0/2
Detail performance results:
+------------+---------+-------------------------------------+
| frame_size | txd/rxd | throughput difference from expected |
+============+=========+=====================================+
| 64 | 512 | 1.35441% |
+------------+---------+-------------------------------------+
| 64 | 2048 | 1.67773% |
+------------+---------+-------------------------------------+
Ubuntu 18.04
Kernel: 4.15.0-generic
Compiler: gcc 7.4
NIC: Intel Corporation Ethernet Converged Network Adapter XL710-QDA2 40000 Mbps
Target: x86_64-native-linuxapp-gcc
Fail/Total: 0/2
Detail performance results:
+------------+---------+-------------------------------------+
| frame_size | txd/rxd | throughput difference from expected |
+============+=========+=====================================+
| 64 | 512 | 5.70789% |
+------------+---------+-------------------------------------+
| 64 | 2048 | 5.17297% |
+------------+---------+-------------------------------------+
Ubuntu 18.04 ARM
Kernel: 4.15.0-132-generic
Compiler: gcc 7.5
NIC: Arm Intel Corporation Ethernet Converged Network Adapter XL710-QDA2 40000 Mbps
Target: x86_64-native-linuxapp-gcc
Fail/Total: 0/2
Detail performance results:
+------------+---------+-------------------------------------+
| frame_size | txd/rxd | throughput difference from expected |
+============+=========+=====================================+
| 64 | 512 | -0.23733% |
+------------+---------+-------------------------------------+
| 64 | 2048 | -0.39024% |
+------------+---------+-------------------------------------+
To view detailed results, visit:
https://lab.dpdk.org/results/dashboard/patchsets/15655/
UNH-IOL DPDK Community Lab
To manage your email subscriptions, visit:
https://lab.dpdk.org/results/dashboard/preferences/subscriptions/
^ permalink raw reply [flat|nested] 6+ messages in thread
* [dpdk-test-report] |SUCCESS| pw87997 [PATCH] examples/vhost: fix unchecked return value
@ 2021-02-19 4:59 dpdklab
0 siblings, 0 replies; 6+ messages in thread
From: dpdklab @ 2021-02-19 4:59 UTC (permalink / raw)
To: Test Report; +Cc: dpdk-test-reports
[-- Attachment #1: Type: text/plain, Size: 3015 bytes --]
Test-Label: iol-testing
Test-Status: SUCCESS
http://dpdk.org/patch/87997
_Testing PASS_
Submitter: Chenbo Xia <chenbo.xia@intel.com>
Date: Friday, February 19 2021 02:40:11
DPDK git baseline: Repo:dpdk
Branch: master
CommitID:442155f70c6bbdf59aa1f7b4d8039b5140f62927
87997 --> testing pass
Test environment and result as below:
+---------------------+----------------------+--------------------+-------------------+----------------+
| Environment | dpdk_mingw64_compile | dpdk_meson_compile | dpdk_compile_spdk | dpdk_unit_test |
+=====================+======================+====================+===================+================+
| Windows Server 2019 | PASS | PASS | SKIPPED | SKIPPED |
+---------------------+----------------------+--------------------+-------------------+----------------+
| FreeBSD 11.2 | SKIPPED | PASS | SKIPPED | SKIPPED |
+---------------------+----------------------+--------------------+-------------------+----------------+
| CentOS 8 | SKIPPED | PASS | SKIPPED | SKIPPED |
+---------------------+----------------------+--------------------+-------------------+----------------+
| openSUSE Leap 15 | SKIPPED | PASS | SKIPPED | SKIPPED |
+---------------------+----------------------+--------------------+-------------------+----------------+
| Arch Linux | SKIPPED | PASS | SKIPPED | SKIPPED |
+---------------------+----------------------+--------------------+-------------------+----------------+
| Fedora 31 | SKIPPED | PASS | PASS | SKIPPED |
+---------------------+----------------------+--------------------+-------------------+----------------+
| Ubuntu 18.04 | SKIPPED | PASS | PASS | PASS |
+---------------------+----------------------+--------------------+-------------------+----------------+
| Ubuntu 18.04 ARM | SKIPPED | PASS | SKIPPED | PASS |
+---------------------+----------------------+--------------------+-------------------+----------------+
Windows Server 2019
Kernel: 10.0
Compiler: clang 9.0 and gcc 8.1.0 (MinGW)
FreeBSD 11.2
Kernel: 11.2
Compiler: gcc 8.3
CentOS 8
Kernel: 4.18.0.el8_0
Compiler: gcc 8.3.1
openSUSE Leap 15
Kernel: 4.12.14
Compiler: gcc 7.4.1
Arch Linux
Kernel: latest
Compiler: gcc latest
Fedora 31
Kernel: 5.3.16
Compiler: gcc 9.2.1
Ubuntu 18.04
Kernel: 4.15.0-generic
Compiler: gcc 7.5
Ubuntu 18.04 ARM
Kernel: 5.4.0-53-generic
Compiler: gcc 9.3
To view detailed results, visit:
https://lab.dpdk.org/results/dashboard/patchsets/15655/
UNH-IOL DPDK Community Lab
To manage your email subscriptions, visit:
https://lab.dpdk.org/results/dashboard/preferences/subscriptions/
^ permalink raw reply [flat|nested] 6+ messages in thread
* [dpdk-test-report] |SUCCESS| pw87997 [PATCH] examples/vhost: fix unchecked return value
@ 2021-02-19 4:59 dpdklab
0 siblings, 0 replies; 6+ messages in thread
From: dpdklab @ 2021-02-19 4:59 UTC (permalink / raw)
To: Test Report; +Cc: dpdk-test-reports
[-- Attachment #1: Type: text/plain, Size: 916 bytes --]
Test-Label: iol-abi-testing
Test-Status: SUCCESS
http://dpdk.org/patch/87997
_Testing PASS_
Submitter: Chenbo Xia <chenbo.xia@intel.com>
Date: Friday, February 19 2021 02:40:11
DPDK git baseline: Repo:dpdk
Branch: master
CommitID:442155f70c6bbdf59aa1f7b4d8039b5140f62927
87997 --> testing pass
Test environment and result as below:
+------------------+----------+
| Environment | abi_test |
+==================+==========+
| Ubuntu 18.04 | PASS |
+------------------+----------+
| Ubuntu 18.04 ARM | PASS |
+------------------+----------+
Ubuntu 18.04
Kernel: 4.15.0-generic
Compiler: gcc 7.5
Ubuntu 18.04 ARM
Kernel: 5.4.0-53-generic
Compiler: gcc 9.3
To view detailed results, visit:
https://lab.dpdk.org/results/dashboard/patchsets/15655/
UNH-IOL DPDK Community Lab
To manage your email subscriptions, visit:
https://lab.dpdk.org/results/dashboard/preferences/subscriptions/
^ permalink raw reply [flat|nested] 6+ messages in thread
* [dpdk-test-report] |SUCCESS| pw87997 [PATCH] examples/vhost: fix unchecked return value
@ 2021-02-19 3:32 dpdklab
0 siblings, 0 replies; 6+ messages in thread
From: dpdklab @ 2021-02-19 3:32 UTC (permalink / raw)
To: Ajit Khaparde, Test Report; +Cc: dpdk-test-reports
[-- Attachment #1: Type: text/plain, Size: 1262 bytes --]
Test-Label: iol-broadcom-Performance
Test-Status: SUCCESS
http://dpdk.org/patch/87997
_Performance Testing PASS_
Submitter: Chenbo Xia <chenbo.xia@intel.com>
Date: Friday, February 19 2021 02:40:11
DPDK git baseline: Repo:dpdk
Branch: master
CommitID:442155f70c6bbdf59aa1f7b4d8039b5140f62927
87997 --> performance testing pass
Test environment and result as below:
Ubuntu 18.04
Kernel: 4.15.0-65-generic
Compiler: gcc gcc (Ubuntu 7.4.0-1ubuntu1~18.04.1) 7.4.0
NIC: Broadcom Inc. brcm_57414 25000 Mbps
Target: x86_64-native-linuxapp-gcc
Fail/Total: 0/2
Detail performance results:
+------------+---------+-------------------------------------+
| frame_size | txd/rxd | throughput difference from expected |
+============+=========+=====================================+
| 64 | 512 | -0.00533% |
+------------+---------+-------------------------------------+
| 64 | 2048 | 0.49794% |
+------------+---------+-------------------------------------+
To view detailed results, visit:
https://lab.dpdk.org/results/dashboard/patchsets/15655/
UNH-IOL DPDK Community Lab
To manage your email subscriptions, visit:
https://lab.dpdk.org/results/dashboard/preferences/subscriptions/
^ permalink raw reply [flat|nested] 6+ messages in thread
* [dpdk-test-report] |SUCCESS| pw87997 [PATCH] examples/vhost: fix unchecked return value
@ 2021-02-19 3:26 dpdklab
0 siblings, 0 replies; 6+ messages in thread
From: dpdklab @ 2021-02-19 3:26 UTC (permalink / raw)
To: Ajit Khaparde, Test Report; +Cc: dpdk-test-reports
[-- Attachment #1: Type: text/plain, Size: 789 bytes --]
Test-Label: iol-broadcom-Functional
Test-Status: SUCCESS
http://dpdk.org/patch/87997
_Functional Testing PASS_
Submitter: Chenbo Xia <chenbo.xia@intel.com>
Date: Friday, February 19 2021 02:40:11
DPDK git baseline: Repo:dpdk
Branch: master
CommitID:442155f70c6bbdf59aa1f7b4d8039b5140f62927
87997 --> functional testing pass
Test environment and result as below:
Ubuntu 18.04
Kernel: 4.15.0-65-generic
Compiler: gcc gcc (Ubuntu 7.4.0-1ubuntu1~18.04.1) 7.4.0
NIC: Broadcom Inc. brcm_57414 25000 Mbps
Target: x86_64-native-linuxapp-gcc
Fail/Total: 0/3
To view detailed results, visit:
https://lab.dpdk.org/results/dashboard/patchsets/15655/
UNH-IOL DPDK Community Lab
To manage your email subscriptions, visit:
https://lab.dpdk.org/results/dashboard/preferences/subscriptions/
^ permalink raw reply [flat|nested] 6+ messages in thread
[parent not found: <20210219024011.77233-1-chenbo.xia@intel.com>]
end of thread, other threads:[~2021-02-19 4:59 UTC | newest]
Thread overview: 6+ messages (download: mbox.gz / follow: Atom feed)
-- links below jump to the message on this page --
2021-02-19 4:16 [dpdk-test-report] |SUCCESS| pw87997 [PATCH] examples/vhost: fix unchecked return value dpdklab
-- strict thread matches above, loose matches on Subject: below --
2021-02-19 4:59 dpdklab
2021-02-19 4:59 dpdklab
2021-02-19 3:32 dpdklab
2021-02-19 3:26 dpdklab
[not found] <20210219024011.77233-1-chenbo.xia@intel.com>
2021-02-19 2:50 ` checkpatch
This is a public inbox, see mirroring instructions
for how to clone and mirror all data and code used for this inbox;
as well as URLs for NNTP newsgroup(s).