automatic DPDK test reports
 help / color / mirror / Atom feed
* [dpdk-test-report] |SUCCESS| pw88089 [PATCH] event/dlb: fix accessing uninitialized variables
@ 2021-02-22 23:33 dpdklab
  0 siblings, 0 replies; 8+ messages in thread
From: dpdklab @ 2021-02-22 23:33 UTC (permalink / raw)
  To: Ali Alnubani, Test Report; +Cc: dpdk-test-reports

[-- Attachment #1: Type: text/plain, Size: 4850 bytes --]

Test-Label: iol-mellanox-Performance
Test-Status: SUCCESS
http://dpdk.org/patch/88089

_Performance Testing PASS_

Submitter: Timothy McDaniel <timothy.mcdaniel@intel.com>
Date: Monday, February 22 2021 19:49:07 
DPDK git baseline: Repo:dpdk
  Branch: master
  CommitID:442155f70c6bbdf59aa1f7b4d8039b5140f62927

88089 --> performance testing pass

Test environment and result as below:

Ubuntu 18.04
Kernel: 4.15.0-generic
Compiler: gcc 7.4
NIC: Mellanox ConnectX-4 Lx 25000 Mbps
Target: x86_64-native-linuxapp-gcc
Fail/Total: 0/6

Detail performance results: 
+------------+---------+-------------------------------------+
| frame_size | txd/rxd | throughput difference from expected |
+============+=========+=====================================+
| 64         | 256     | -0.49761%                           |
+------------+---------+-------------------------------------+
| 128        | 256     | 0.12795%                            |
+------------+---------+-------------------------------------+
| 256        | 256     | -1.2373%                            |
+------------+---------+-------------------------------------+
| 512        | 256     | 0.12827%                            |
+------------+---------+-------------------------------------+
| 1024       | 256     | 0.15058%                            |
+------------+---------+-------------------------------------+
| 1518       | 256     | -0.39312%                           |
+------------+---------+-------------------------------------+

Ubuntu 18.04
Kernel: 4.15.0-generic
Compiler: gcc 7.4
NIC: Mellanox ConnectX-5 100000 Mbps
Target: x86_64-native-linuxapp-gcc
Fail/Total: 0/6

Detail performance results: 
+------------+---------+-------------------------------------+
| frame_size | txd/rxd | throughput difference from expected |
+============+=========+=====================================+
| 64         | 256     | -0.2221%                            |
+------------+---------+-------------------------------------+
| 128        | 256     | 0.5683%                             |
+------------+---------+-------------------------------------+
| 256        | 256     | 0.06745%                            |
+------------+---------+-------------------------------------+
| 512        | 256     | 0.61021%                            |
+------------+---------+-------------------------------------+
| 1024       | 256     | 1.05829%                            |
+------------+---------+-------------------------------------+
| 1518       | 256     | -0.16451%                           |
+------------+---------+-------------------------------------+

Ubuntu 18.04
Kernel: 4.15.0-generic
Compiler: gcc 7.4
NIC: Mellanox ConnectX-4 Lx 40000 Mbps
Target: x86_64-native-linuxapp-gcc
Fail/Total: 0/6

Detail performance results: 
+------------+---------+-------------------------------------+
| frame_size | txd/rxd | throughput difference from expected |
+============+=========+=====================================+
| 64         | 256     | -0.53094%                           |
+------------+---------+-------------------------------------+
| 128        | 256     | 1.19099%                            |
+------------+---------+-------------------------------------+
| 256        | 256     | -0.11325%                           |
+------------+---------+-------------------------------------+
| 512        | 256     | -0.21249%                           |
+------------+---------+-------------------------------------+
| 1024       | 256     | 0.0418%                             |
+------------+---------+-------------------------------------+
| 1518       | 256     | -0.13846%                           |
+------------+---------+-------------------------------------+

Ubuntu 18.04 ARM
Kernel: 4.15.0-132-generic
Compiler: gcc 7.5
NIC: Arm Mellanox ConnectX-5 10000 Mbps
Target: x86_64-native-linuxapp-gcc
Fail/Total: 0/4

Detail performance results: 
+------------+---------+-------------------------------------+
| frame_size | txd/rxd | throughput difference from expected |
+============+=========+=====================================+
| 64         | 128     | -2.35503%                           |
+------------+---------+-------------------------------------+
| 64         | 256     | -2.49687%                           |
+------------+---------+-------------------------------------+
| 64         | 512     | -2.39571%                           |
+------------+---------+-------------------------------------+
| 64         | 2048    | -1.87696%                           |
+------------+---------+-------------------------------------+

To view detailed results, visit:
https://lab.dpdk.org/results/dashboard/patchsets/15684/

UNH-IOL DPDK Community Lab

To manage your email subscriptions, visit: 
https://lab.dpdk.org/results/dashboard/preferences/subscriptions/

^ permalink raw reply	[flat|nested] 8+ messages in thread

* [dpdk-test-report] |SUCCESS| pw88089 [PATCH] event/dlb: fix accessing uninitialized variables
@ 2021-02-23 13:45 dpdklab
  0 siblings, 0 replies; 8+ messages in thread
From: dpdklab @ 2021-02-23 13:45 UTC (permalink / raw)
  To: Test Report; +Cc: dpdk-test-reports

[-- Attachment #1: Type: text/plain, Size: 3027 bytes --]

Test-Label: iol-testing
Test-Status: SUCCESS
http://dpdk.org/patch/88089

_Testing PASS_

Submitter: Timothy McDaniel <timothy.mcdaniel@intel.com>
Date: Monday, February 22 2021 19:49:07 
DPDK git baseline: Repo:dpdk
  Branch: master
  CommitID:442155f70c6bbdf59aa1f7b4d8039b5140f62927

88089 --> testing pass

Test environment and result as below:

+---------------------+----------------------+--------------------+----------------+-------------------+
|     Environment     | dpdk_mingw64_compile | dpdk_meson_compile | dpdk_unit_test | dpdk_compile_spdk |
+=====================+======================+====================+================+===================+
| Windows Server 2019 | PASS                 | PASS               | SKIPPED        | SKIPPED           |
+---------------------+----------------------+--------------------+----------------+-------------------+
| FreeBSD 11.2        | SKIPPED              | PASS               | SKIPPED        | SKIPPED           |
+---------------------+----------------------+--------------------+----------------+-------------------+
| Ubuntu 18.04        | SKIPPED              | PASS               | PASS           | PASS              |
+---------------------+----------------------+--------------------+----------------+-------------------+
| CentOS 8            | SKIPPED              | PASS               | SKIPPED        | SKIPPED           |
+---------------------+----------------------+--------------------+----------------+-------------------+
| Arch Linux          | SKIPPED              | PASS               | SKIPPED        | SKIPPED           |
+---------------------+----------------------+--------------------+----------------+-------------------+
| openSUSE Leap 15    | SKIPPED              | PASS               | SKIPPED        | SKIPPED           |
+---------------------+----------------------+--------------------+----------------+-------------------+
| Ubuntu 18.04 ARM    | SKIPPED              | PASS               | PASS           | SKIPPED           |
+---------------------+----------------------+--------------------+----------------+-------------------+
| Fedora 31           | SKIPPED              | PASS               | SKIPPED        | PASS              |
+---------------------+----------------------+--------------------+----------------+-------------------+


Windows Server 2019
	Kernel: 10.0
	Compiler: clang 9.0 and gcc 8.1.0 (MinGW)

FreeBSD 11.2
	Kernel: 11.2
	Compiler: gcc 8.3

Ubuntu 18.04
	Kernel: 4.15.0-generic
	Compiler: gcc 7.5

CentOS 8
	Kernel: 4.18.0.el8_0
	Compiler: gcc 8.3.1

Arch Linux
	Kernel: latest
	Compiler: gcc latest

openSUSE Leap 15
	Kernel: 4.12.14
	Compiler: gcc 7.4.1

Ubuntu 18.04 ARM
	Kernel: 5.4.0-53-generic
	Compiler: gcc 9.3

Fedora 31
	Kernel: 5.3.16
	Compiler: gcc 9.2.1

To view detailed results, visit:
https://lab.dpdk.org/results/dashboard/patchsets/15684/

UNH-IOL DPDK Community Lab

To manage your email subscriptions, visit: 
https://lab.dpdk.org/results/dashboard/preferences/subscriptions/

^ permalink raw reply	[flat|nested] 8+ messages in thread

* [dpdk-test-report] |SUCCESS| pw88089 [PATCH] event/dlb: fix accessing uninitialized variables
@ 2021-02-23  2:10 dpdklab
  0 siblings, 0 replies; 8+ messages in thread
From: dpdklab @ 2021-02-23  2:10 UTC (permalink / raw)
  To: Ali Alnubani, Test Report; +Cc: dpdk-test-reports

[-- Attachment #1: Type: text/plain, Size: 904 bytes --]

Test-Label: iol-mellanox-Functional
Test-Status: SUCCESS
http://dpdk.org/patch/88089

_Functional Testing PASS_

Submitter: Timothy McDaniel <timothy.mcdaniel@intel.com>
Date: Monday, February 22 2021 19:49:07 
DPDK git baseline: Repo:dpdk
  Branch: master
  CommitID:442155f70c6bbdf59aa1f7b4d8039b5140f62927

88089 --> functional testing pass

Test environment and result as below:

Ubuntu 18.04
Kernel: 4.15.0-generic
Compiler: gcc 7.4
NIC: Mellanox ConnectX-4 Lx 25000 Mbps
Target: x86_64-native-linuxapp-gcc
Fail/Total: 0/5


Ubuntu 18.04
Kernel: 4.15.0-generic
Compiler: gcc 7.4
NIC: Mellanox ConnectX-4 Lx 40000 Mbps
Target: x86_64-native-linuxapp-gcc
Fail/Total: 0/5


To view detailed results, visit:
https://lab.dpdk.org/results/dashboard/patchsets/15684/

UNH-IOL DPDK Community Lab

To manage your email subscriptions, visit: 
https://lab.dpdk.org/results/dashboard/preferences/subscriptions/

^ permalink raw reply	[flat|nested] 8+ messages in thread

* [dpdk-test-report] |SUCCESS| pw88089 [PATCH] event/dlb: fix accessing uninitialized variables
@ 2021-02-22 23:23 dpdklab
  0 siblings, 0 replies; 8+ messages in thread
From: dpdklab @ 2021-02-22 23:23 UTC (permalink / raw)
  To: Test Report; +Cc: dpdk-test-reports

[-- Attachment #1: Type: text/plain, Size: 1938 bytes --]

Test-Label: iol-intel-Performance
Test-Status: SUCCESS
http://dpdk.org/patch/88089

_Performance Testing PASS_

Submitter: Timothy McDaniel <timothy.mcdaniel@intel.com>
Date: Monday, February 22 2021 19:49:07 
DPDK git baseline: Repo:dpdk
  Branch: master
  CommitID:442155f70c6bbdf59aa1f7b4d8039b5140f62927

88089 --> performance testing pass

Test environment and result as below:

Ubuntu 18.04
Kernel: 4.15.0-generic
Compiler: gcc 7.4
NIC: Intel Corporation Ethernet Converged Network Adapter XL710-QDA2 40000 Mbps
Target: x86_64-native-linuxapp-gcc
Fail/Total: 0/2

Detail performance results: 
+------------+---------+-------------------------------------+
| frame_size | txd/rxd | throughput difference from expected |
+============+=========+=====================================+
| 64         | 512     | 5.96353%                            |
+------------+---------+-------------------------------------+
| 64         | 2048    | 4.67663%                            |
+------------+---------+-------------------------------------+

Ubuntu 18.04 ARM
Kernel: 4.15.0-132-generic
Compiler: gcc 7.5
NIC: Arm Intel Corporation Ethernet Converged Network Adapter XL710-QDA2 40000 Mbps
Target: x86_64-native-linuxapp-gcc
Fail/Total: 0/2

Detail performance results: 
+------------+---------+-------------------------------------+
| frame_size | txd/rxd | throughput difference from expected |
+============+=========+=====================================+
| 64         | 512     | -1.59151%                           |
+------------+---------+-------------------------------------+
| 64         | 2048    | -0.66899%                           |
+------------+---------+-------------------------------------+

To view detailed results, visit:
https://lab.dpdk.org/results/dashboard/patchsets/15684/

UNH-IOL DPDK Community Lab

To manage your email subscriptions, visit: 
https://lab.dpdk.org/results/dashboard/preferences/subscriptions/

^ permalink raw reply	[flat|nested] 8+ messages in thread

* [dpdk-test-report] |SUCCESS| pw88089 [PATCH] event/dlb: fix accessing uninitialized variables
@ 2021-02-22 23:13 dpdklab
  0 siblings, 0 replies; 8+ messages in thread
From: dpdklab @ 2021-02-22 23:13 UTC (permalink / raw)
  To: Test Report; +Cc: dpdk-test-reports

[-- Attachment #1: Type: text/plain, Size: 980 bytes --]

Test-Label: iol-intel-Functional
Test-Status: SUCCESS
http://dpdk.org/patch/88089

_Functional Testing PASS_

Submitter: Timothy McDaniel <timothy.mcdaniel@intel.com>
Date: Monday, February 22 2021 19:49:07 
DPDK git baseline: Repo:dpdk
  Branch: master
  CommitID:442155f70c6bbdf59aa1f7b4d8039b5140f62927

88089 --> functional testing pass

Test environment and result as below:

Ubuntu 18.04
Kernel: 4.15.0-generic
Compiler: gcc 7.4
NIC: Intel Corporation Ethernet Converged Network Adapter XL710-QDA2 40000 Mbps
Target: x86_64-native-linuxapp-gcc
Fail/Total: 0/3


Ubuntu 18.04
Kernel: 4.15.0-generic
Compiler: gcc 7.4
NIC: Intel Corporation Ethernet Converged Network Adapter 82599ES 10000 Mbps
Target: x86_64-native-linuxapp-gcc
Fail/Total: 0/5


To view detailed results, visit:
https://lab.dpdk.org/results/dashboard/patchsets/15684/

UNH-IOL DPDK Community Lab

To manage your email subscriptions, visit: 
https://lab.dpdk.org/results/dashboard/preferences/subscriptions/

^ permalink raw reply	[flat|nested] 8+ messages in thread

* [dpdk-test-report] |SUCCESS| pw88089 [PATCH] event/dlb: fix accessing uninitialized variables
@ 2021-02-22 20:19 dpdklab
  0 siblings, 0 replies; 8+ messages in thread
From: dpdklab @ 2021-02-22 20:19 UTC (permalink / raw)
  To: Ajit Khaparde, Test Report; +Cc: dpdk-test-reports

[-- Attachment #1: Type: text/plain, Size: 1274 bytes --]

Test-Label: iol-broadcom-Performance
Test-Status: SUCCESS
http://dpdk.org/patch/88089

_Performance Testing PASS_

Submitter: Timothy McDaniel <timothy.mcdaniel@intel.com>
Date: Monday, February 22 2021 19:49:07 
DPDK git baseline: Repo:dpdk
  Branch: master
  CommitID:442155f70c6bbdf59aa1f7b4d8039b5140f62927

88089 --> performance testing pass

Test environment and result as below:

Ubuntu 18.04
Kernel: 4.15.0-65-generic
Compiler: gcc gcc (Ubuntu 7.4.0-1ubuntu1~18.04.1) 7.4.0
NIC: Broadcom Inc. brcm_57414 25000 Mbps
Target: x86_64-native-linuxapp-gcc
Fail/Total: 0/2

Detail performance results: 
+------------+---------+-------------------------------------+
| frame_size | txd/rxd | throughput difference from expected |
+============+=========+=====================================+
| 64         | 512     | -0.07992%                           |
+------------+---------+-------------------------------------+
| 64         | 2048    | 0.31054%                            |
+------------+---------+-------------------------------------+

To view detailed results, visit:
https://lab.dpdk.org/results/dashboard/patchsets/15684/

UNH-IOL DPDK Community Lab

To manage your email subscriptions, visit: 
https://lab.dpdk.org/results/dashboard/preferences/subscriptions/

^ permalink raw reply	[flat|nested] 8+ messages in thread

* [dpdk-test-report] |SUCCESS| pw88089 [PATCH] event/dlb: fix accessing uninitialized variables
@ 2021-02-22 20:13 dpdklab
  0 siblings, 0 replies; 8+ messages in thread
From: dpdklab @ 2021-02-22 20:13 UTC (permalink / raw)
  To: Ajit Khaparde, Test Report; +Cc: dpdk-test-reports

[-- Attachment #1: Type: text/plain, Size: 801 bytes --]

Test-Label: iol-broadcom-Functional
Test-Status: SUCCESS
http://dpdk.org/patch/88089

_Functional Testing PASS_

Submitter: Timothy McDaniel <timothy.mcdaniel@intel.com>
Date: Monday, February 22 2021 19:49:07 
DPDK git baseline: Repo:dpdk
  Branch: master
  CommitID:442155f70c6bbdf59aa1f7b4d8039b5140f62927

88089 --> functional testing pass

Test environment and result as below:

Ubuntu 18.04
Kernel: 4.15.0-65-generic
Compiler: gcc gcc (Ubuntu 7.4.0-1ubuntu1~18.04.1) 7.4.0
NIC: Broadcom Inc. brcm_57414 25000 Mbps
Target: x86_64-native-linuxapp-gcc
Fail/Total: 0/3


To view detailed results, visit:
https://lab.dpdk.org/results/dashboard/patchsets/15684/

UNH-IOL DPDK Community Lab

To manage your email subscriptions, visit: 
https://lab.dpdk.org/results/dashboard/preferences/subscriptions/

^ permalink raw reply	[flat|nested] 8+ messages in thread

* [dpdk-test-report] |SUCCESS| pw88089 [PATCH] event/dlb: fix accessing uninitialized variables
       [not found] <1614023347-5873-1-git-send-email-timothy.mcdaniel@intel.com>
@ 2021-02-22 19:49 ` checkpatch
  0 siblings, 0 replies; 8+ messages in thread
From: checkpatch @ 2021-02-22 19:49 UTC (permalink / raw)
  To: test-report

Test-Label: checkpatch
Test-Status: SUCCESS
http://dpdk.org/patch/88089

_coding style OK_



^ permalink raw reply	[flat|nested] 8+ messages in thread

end of thread, other threads:[~2021-02-23 13:46 UTC | newest]

Thread overview: 8+ messages (download: mbox.gz / follow: Atom feed)
-- links below jump to the message on this page --
2021-02-22 23:33 [dpdk-test-report] |SUCCESS| pw88089 [PATCH] event/dlb: fix accessing uninitialized variables dpdklab
  -- strict thread matches above, loose matches on Subject: below --
2021-02-23 13:45 dpdklab
2021-02-23  2:10 dpdklab
2021-02-22 23:23 dpdklab
2021-02-22 23:13 dpdklab
2021-02-22 20:19 dpdklab
2021-02-22 20:13 dpdklab
     [not found] <1614023347-5873-1-git-send-email-timothy.mcdaniel@intel.com>
2021-02-22 19:49 ` checkpatch

automatic DPDK test reports

This inbox may be cloned and mirrored by anyone:

	git clone --mirror http://inbox.dpdk.org/test-report/0 test-report/git/0.git

	# If you have public-inbox 1.1+ installed, you may
	# initialize and index your mirror using the following commands:
	public-inbox-init -V2 test-report test-report/ http://inbox.dpdk.org/test-report \
		test-report@dpdk.org
	public-inbox-index test-report

Example config snippet for mirrors.
Newsgroup available over NNTP:
	nntp://inbox.dpdk.org/inbox.dpdk.test-report


AGPL code for this site: git clone https://public-inbox.org/public-inbox.git