Test-Label: checkpatch Test-Status: SUCCESS http://dpdk.org/patch/88125 _coding style OK_
[-- Attachment #1: Type: text/plain, Size: 974 bytes --] Test-Label: iol-intel-Functional Test-Status: SUCCESS http://dpdk.org/patch/88125 _Functional Testing PASS_ Submitter: Xing, Beilei <beilei.xing@intel.com> Date: Wednesday, February 24 2021 02:09:00 DPDK git baseline: Repo:dpdk Branch: master CommitID:51fe32138c860992f228dbf19416ffd3b8e8baf4 88125 --> functional testing pass Test environment and result as below: Ubuntu 18.04 Kernel: 4.15.0-generic Compiler: gcc 7.4 NIC: Intel Corporation Ethernet Converged Network Adapter XL710-QDA2 40000 Mbps Target: x86_64-native-linuxapp-gcc Fail/Total: 0/3 Ubuntu 18.04 Kernel: 4.15.0-generic Compiler: gcc 7.4 NIC: Intel Corporation Ethernet Converged Network Adapter 82599ES 10000 Mbps Target: x86_64-native-linuxapp-gcc Fail/Total: 0/5 To view detailed results, visit: https://lab.dpdk.org/results/dashboard/patchsets/15701/ UNH-IOL DPDK Community Lab To manage your email subscriptions, visit: https://lab.dpdk.org/results/dashboard/preferences/subscriptions/
[-- Attachment #1: Type: text/plain, Size: 1917 bytes --] Test-Label: iol-intel-Performance Test-Status: SUCCESS http://dpdk.org/patch/88125 _Performance Testing PASS_ Submitter: Xing, Beilei <beilei.xing@intel.com> Date: Wednesday, February 24 2021 02:09:00 DPDK git baseline: Repo:dpdk Branch: master CommitID:51fe32138c860992f228dbf19416ffd3b8e8baf4 88125 --> performance testing pass Test environment and result as below: Ubuntu 18.04 Kernel: 4.15.0-generic Compiler: gcc 7.4 NIC: Intel Corporation Ethernet Converged Network Adapter 82599ES 10000 Mbps Target: x86_64-native-linuxapp-gcc Fail/Total: 0/2 Detail performance results: +------------+---------+-------------------------------------+ | frame_size | txd/rxd | throughput difference from expected | +============+=========+=====================================+ | 64 | 512 | 3.28864% | +------------+---------+-------------------------------------+ | 64 | 2048 | 1.50248% | +------------+---------+-------------------------------------+ Ubuntu 18.04 Kernel: 4.15.0-generic Compiler: gcc 7.4 NIC: Intel Corporation Ethernet Converged Network Adapter XL710-QDA2 40000 Mbps Target: x86_64-native-linuxapp-gcc Fail/Total: 0/2 Detail performance results: +------------+---------+-------------------------------------+ | frame_size | txd/rxd | throughput difference from expected | +============+=========+=====================================+ | 64 | 512 | 0.13084% | +------------+---------+-------------------------------------+ | 64 | 2048 | -0.27105% | +------------+---------+-------------------------------------+ To view detailed results, visit: https://lab.dpdk.org/results/dashboard/patchsets/15701/ UNH-IOL DPDK Community Lab To manage your email subscriptions, visit: https://lab.dpdk.org/results/dashboard/preferences/subscriptions/
[-- Attachment #1: Type: text/plain, Size: 1917 bytes --] Test-Label: iol-intel-Performance Test-Status: SUCCESS http://dpdk.org/patch/88125 _Performance Testing PASS_ Submitter: Xing, Beilei <beilei.xing@intel.com> Date: Wednesday, February 24 2021 02:09:00 DPDK git baseline: Repo:dpdk Branch: master CommitID:51fe32138c860992f228dbf19416ffd3b8e8baf4 88125 --> performance testing pass Test environment and result as below: Ubuntu 18.04 Kernel: 4.15.0-generic Compiler: gcc 7.4 NIC: Intel Corporation Ethernet Converged Network Adapter 82599ES 10000 Mbps Target: x86_64-native-linuxapp-gcc Fail/Total: 0/2 Detail performance results: +------------+---------+-------------------------------------+ | frame_size | txd/rxd | throughput difference from expected | +============+=========+=====================================+ | 64 | 512 | 3.28864% | +------------+---------+-------------------------------------+ | 64 | 2048 | 1.50248% | +------------+---------+-------------------------------------+ Ubuntu 18.04 Kernel: 4.15.0-generic Compiler: gcc 7.4 NIC: Intel Corporation Ethernet Converged Network Adapter XL710-QDA2 40000 Mbps Target: x86_64-native-linuxapp-gcc Fail/Total: 0/2 Detail performance results: +------------+---------+-------------------------------------+ | frame_size | txd/rxd | throughput difference from expected | +============+=========+=====================================+ | 64 | 512 | 0.13084% | +------------+---------+-------------------------------------+ | 64 | 2048 | -0.27105% | +------------+---------+-------------------------------------+ To view detailed results, visit: https://lab.dpdk.org/results/dashboard/patchsets/15701/ UNH-IOL DPDK Community Lab To manage your email subscriptions, visit: https://lab.dpdk.org/results/dashboard/preferences/subscriptions/
[-- Attachment #1: Type: text/plain, Size: 1917 bytes --] Test-Label: iol-intel-Performance Test-Status: SUCCESS http://dpdk.org/patch/88125 _Performance Testing PASS_ Submitter: Xing, Beilei <beilei.xing@intel.com> Date: Wednesday, February 24 2021 02:09:00 DPDK git baseline: Repo:dpdk Branch: master CommitID:51fe32138c860992f228dbf19416ffd3b8e8baf4 88125 --> performance testing pass Test environment and result as below: Ubuntu 18.04 Kernel: 4.15.0-generic Compiler: gcc 7.4 NIC: Intel Corporation Ethernet Converged Network Adapter 82599ES 10000 Mbps Target: x86_64-native-linuxapp-gcc Fail/Total: 0/2 Detail performance results: +------------+---------+-------------------------------------+ | frame_size | txd/rxd | throughput difference from expected | +============+=========+=====================================+ | 64 | 512 | 1.69586% | +------------+---------+-------------------------------------+ | 64 | 2048 | 0.2463% | +------------+---------+-------------------------------------+ Ubuntu 18.04 Kernel: 4.15.0-generic Compiler: gcc 7.4 NIC: Intel Corporation Ethernet Converged Network Adapter XL710-QDA2 40000 Mbps Target: x86_64-native-linuxapp-gcc Fail/Total: 0/2 Detail performance results: +------------+---------+-------------------------------------+ | frame_size | txd/rxd | throughput difference from expected | +============+=========+=====================================+ | 64 | 512 | 0.13084% | +------------+---------+-------------------------------------+ | 64 | 2048 | -0.27105% | +------------+---------+-------------------------------------+ To view detailed results, visit: https://lab.dpdk.org/results/dashboard/patchsets/15701/ UNH-IOL DPDK Community Lab To manage your email subscriptions, visit: https://lab.dpdk.org/results/dashboard/preferences/subscriptions/
[-- Attachment #1: Type: text/plain, Size: 1729 bytes --] Test-Label: iol-mellanox-Performance Test-Status: SUCCESS http://dpdk.org/patch/88125 _Performance Testing PASS_ Submitter: Xing, Beilei <beilei.xing@intel.com> Date: Wednesday, February 24 2021 02:09:00 DPDK git baseline: Repo:dpdk Branch: master CommitID:51fe32138c860992f228dbf19416ffd3b8e8baf4 88125 --> performance testing pass Test environment and result as below: Ubuntu 18.04 Kernel: 4.15.0-generic Compiler: gcc 7.4 NIC: Mellanox ConnectX-4 Lx 25000 Mbps Target: x86_64-native-linuxapp-gcc Fail/Total: 0/6 Detail performance results: +------------+---------+-------------------------------------+ | frame_size | txd/rxd | throughput difference from expected | +============+=========+=====================================+ | 64 | 256 | -1.47536% | +------------+---------+-------------------------------------+ | 128 | 256 | -0.05877% | +------------+---------+-------------------------------------+ | 256 | 256 | 0.23804% | +------------+---------+-------------------------------------+ | 512 | 256 | -0.53091% | +------------+---------+-------------------------------------+ | 1024 | 256 | -0.05013% | +------------+---------+-------------------------------------+ | 1518 | 256 | 0.09855% | +------------+---------+-------------------------------------+ To view detailed results, visit: https://lab.dpdk.org/results/dashboard/patchsets/15701/ UNH-IOL DPDK Community Lab To manage your email subscriptions, visit: https://lab.dpdk.org/results/dashboard/preferences/subscriptions/
[-- Attachment #1: Type: text/plain, Size: 2849 bytes --] Test-Label: iol-mellanox-Performance Test-Status: SUCCESS http://dpdk.org/patch/88125 _Performance Testing PASS_ Submitter: Xing, Beilei <beilei.xing@intel.com> Date: Wednesday, February 24 2021 02:09:00 DPDK git baseline: Repo:dpdk Branch: master CommitID:51fe32138c860992f228dbf19416ffd3b8e8baf4 88125 --> performance testing pass Test environment and result as below: Ubuntu 18.04 Kernel: 4.15.0-generic Compiler: gcc 7.4 NIC: Mellanox ConnectX-4 Lx 25000 Mbps Target: x86_64-native-linuxapp-gcc Fail/Total: 0/6 Detail performance results: +------------+---------+-------------------------------------+ | frame_size | txd/rxd | throughput difference from expected | +============+=========+=====================================+ | 64 | 256 | -1.47536% | +------------+---------+-------------------------------------+ | 128 | 256 | -0.05877% | +------------+---------+-------------------------------------+ | 256 | 256 | 0.23804% | +------------+---------+-------------------------------------+ | 512 | 256 | -0.53091% | +------------+---------+-------------------------------------+ | 1024 | 256 | -0.05013% | +------------+---------+-------------------------------------+ | 1518 | 256 | 0.09855% | +------------+---------+-------------------------------------+ Ubuntu 18.04 Kernel: 4.15.0-generic Compiler: gcc 7.4 NIC: Mellanox ConnectX-4 Lx 40000 Mbps Target: x86_64-native-linuxapp-gcc Fail/Total: 0/6 Detail performance results: +------------+---------+-------------------------------------+ | frame_size | txd/rxd | throughput difference from expected | +============+=========+=====================================+ | 64 | 256 | -0.10568% | +------------+---------+-------------------------------------+ | 128 | 256 | 0.843% | +------------+---------+-------------------------------------+ | 256 | 256 | -0.10227% | +------------+---------+-------------------------------------+ | 512 | 256 | 0.1973% | +------------+---------+-------------------------------------+ | 1024 | 256 | -0.16714% | +------------+---------+-------------------------------------+ | 1518 | 256 | -0.19963% | +------------+---------+-------------------------------------+ To view detailed results, visit: https://lab.dpdk.org/results/dashboard/patchsets/15701/ UNH-IOL DPDK Community Lab To manage your email subscriptions, visit: https://lab.dpdk.org/results/dashboard/preferences/subscriptions/
[-- Attachment #1: Type: text/plain, Size: 3967 bytes --] Test-Label: iol-mellanox-Performance Test-Status: SUCCESS http://dpdk.org/patch/88125 _Performance Testing PASS_ Submitter: Xing, Beilei <beilei.xing@intel.com> Date: Wednesday, February 24 2021 02:09:00 DPDK git baseline: Repo:dpdk Branch: master CommitID:51fe32138c860992f228dbf19416ffd3b8e8baf4 88125 --> performance testing pass Test environment and result as below: Ubuntu 18.04 Kernel: 4.15.0-generic Compiler: gcc 7.4 NIC: Mellanox ConnectX-4 Lx 25000 Mbps Target: x86_64-native-linuxapp-gcc Fail/Total: 0/6 Detail performance results: +------------+---------+-------------------------------------+ | frame_size | txd/rxd | throughput difference from expected | +============+=========+=====================================+ | 64 | 256 | -1.47536% | +------------+---------+-------------------------------------+ | 128 | 256 | -0.05877% | +------------+---------+-------------------------------------+ | 256 | 256 | 0.23804% | +------------+---------+-------------------------------------+ | 512 | 256 | -0.53091% | +------------+---------+-------------------------------------+ | 1024 | 256 | -0.05013% | +------------+---------+-------------------------------------+ | 1518 | 256 | 0.09855% | +------------+---------+-------------------------------------+ Ubuntu 18.04 Kernel: 4.15.0-generic Compiler: gcc 7.4 NIC: Mellanox ConnectX-4 Lx 40000 Mbps Target: x86_64-native-linuxapp-gcc Fail/Total: 0/6 Detail performance results: +------------+---------+-------------------------------------+ | frame_size | txd/rxd | throughput difference from expected | +============+=========+=====================================+ | 64 | 256 | -0.10568% | +------------+---------+-------------------------------------+ | 128 | 256 | 0.843% | +------------+---------+-------------------------------------+ | 256 | 256 | -0.10227% | +------------+---------+-------------------------------------+ | 512 | 256 | 0.1973% | +------------+---------+-------------------------------------+ | 1024 | 256 | -0.16714% | +------------+---------+-------------------------------------+ | 1518 | 256 | -0.19963% | +------------+---------+-------------------------------------+ Ubuntu 18.04 Kernel: 4.15.0-generic Compiler: gcc 7.4 NIC: Mellanox ConnectX-5 100000 Mbps Target: x86_64-native-linuxapp-gcc Fail/Total: 0/6 Detail performance results: +------------+---------+-------------------------------------+ | frame_size | txd/rxd | throughput difference from expected | +============+=========+=====================================+ | 64 | 256 | -0.0275% | +------------+---------+-------------------------------------+ | 128 | 256 | -0.21032% | +------------+---------+-------------------------------------+ | 256 | 256 | -0.39621% | +------------+---------+-------------------------------------+ | 512 | 256 | 0.54679% | +------------+---------+-------------------------------------+ | 1024 | 256 | 0.72273% | +------------+---------+-------------------------------------+ | 1518 | 256 | 0.05884% | +------------+---------+-------------------------------------+ To view detailed results, visit: https://lab.dpdk.org/results/dashboard/patchsets/15701/ UNH-IOL DPDK Community Lab To manage your email subscriptions, visit: https://lab.dpdk.org/results/dashboard/preferences/subscriptions/
[-- Attachment #1: Type: text/plain, Size: 3967 bytes --] Test-Label: iol-mellanox-Performance Test-Status: SUCCESS http://dpdk.org/patch/88125 _Performance Testing PASS_ Submitter: Xing, Beilei <beilei.xing@intel.com> Date: Wednesday, February 24 2021 02:09:00 DPDK git baseline: Repo:dpdk Branch: master CommitID:51fe32138c860992f228dbf19416ffd3b8e8baf4 88125 --> performance testing pass Test environment and result as below: Ubuntu 18.04 Kernel: 4.15.0-generic Compiler: gcc 7.4 NIC: Mellanox ConnectX-4 Lx 25000 Mbps Target: x86_64-native-linuxapp-gcc Fail/Total: 0/6 Detail performance results: +------------+---------+-------------------------------------+ | frame_size | txd/rxd | throughput difference from expected | +============+=========+=====================================+ | 64 | 256 | -0.29338% | +------------+---------+-------------------------------------+ | 128 | 256 | -0.02074% | +------------+---------+-------------------------------------+ | 256 | 256 | 0.24795% | +------------+---------+-------------------------------------+ | 512 | 256 | 0.26546% | +------------+---------+-------------------------------------+ | 1024 | 256 | -0.25063% | +------------+---------+-------------------------------------+ | 1518 | 256 | 0.07391% | +------------+---------+-------------------------------------+ Ubuntu 18.04 Kernel: 4.15.0-generic Compiler: gcc 7.4 NIC: Mellanox ConnectX-4 Lx 40000 Mbps Target: x86_64-native-linuxapp-gcc Fail/Total: 0/6 Detail performance results: +------------+---------+-------------------------------------+ | frame_size | txd/rxd | throughput difference from expected | +============+=========+=====================================+ | 64 | 256 | -0.02285% | +------------+---------+-------------------------------------+ | 128 | 256 | -0.19564% | +------------+---------+-------------------------------------+ | 256 | 256 | -0.12419% | +------------+---------+-------------------------------------+ | 512 | 256 | 0.2133% | +------------+---------+-------------------------------------+ | 1024 | 256 | -0.02089% | +------------+---------+-------------------------------------+ | 1518 | 256 | -0.21499% | +------------+---------+-------------------------------------+ Ubuntu 18.04 Kernel: 4.15.0-generic Compiler: gcc 7.4 NIC: Mellanox ConnectX-5 100000 Mbps Target: x86_64-native-linuxapp-gcc Fail/Total: 0/6 Detail performance results: +------------+---------+-------------------------------------+ | frame_size | txd/rxd | throughput difference from expected | +============+=========+=====================================+ | 64 | 256 | -0.04692% | +------------+---------+-------------------------------------+ | 128 | 256 | -0.2749% | +------------+---------+-------------------------------------+ | 256 | 256 | -0.42861% | +------------+---------+-------------------------------------+ | 512 | 256 | 0.36599% | +------------+---------+-------------------------------------+ | 1024 | 256 | -0.54417% | +------------+---------+-------------------------------------+ | 1518 | 256 | -0.05884% | +------------+---------+-------------------------------------+ To view detailed results, visit: https://lab.dpdk.org/results/dashboard/patchsets/15701/ UNH-IOL DPDK Community Lab To manage your email subscriptions, visit: https://lab.dpdk.org/results/dashboard/preferences/subscriptions/
[-- Attachment #1: Type: text/plain, Size: 898 bytes --] Test-Label: iol-mellanox-Functional Test-Status: SUCCESS http://dpdk.org/patch/88125 _Functional Testing PASS_ Submitter: Xing, Beilei <beilei.xing@intel.com> Date: Wednesday, February 24 2021 02:09:00 DPDK git baseline: Repo:dpdk Branch: master CommitID:51fe32138c860992f228dbf19416ffd3b8e8baf4 88125 --> functional testing pass Test environment and result as below: Ubuntu 18.04 Kernel: 4.15.0-generic Compiler: gcc 7.4 NIC: Mellanox ConnectX-4 Lx 25000 Mbps Target: x86_64-native-linuxapp-gcc Fail/Total: 0/5 Ubuntu 18.04 Kernel: 4.15.0-generic Compiler: gcc 7.4 NIC: Mellanox ConnectX-4 Lx 40000 Mbps Target: x86_64-native-linuxapp-gcc Fail/Total: 0/5 To view detailed results, visit: https://lab.dpdk.org/results/dashboard/patchsets/15701/ UNH-IOL DPDK Community Lab To manage your email subscriptions, visit: https://lab.dpdk.org/results/dashboard/preferences/subscriptions/
[-- Attachment #1: Type: text/plain, Size: 3021 bytes --] Test-Label: iol-testing Test-Status: SUCCESS http://dpdk.org/patch/88125 _Testing PASS_ Submitter: Xing, Beilei <beilei.xing@intel.com> Date: Wednesday, February 24 2021 02:09:00 DPDK git baseline: Repo:dpdk Branch: master CommitID:51fe32138c860992f228dbf19416ffd3b8e8baf4 88125 --> testing pass Test environment and result as below: +---------------------+----------------------+--------------------+-------------------+----------------+ | Environment | dpdk_mingw64_compile | dpdk_meson_compile | dpdk_compile_spdk | dpdk_unit_test | +=====================+======================+====================+===================+================+ | Windows Server 2019 | PASS | PASS | SKIPPED | SKIPPED | +---------------------+----------------------+--------------------+-------------------+----------------+ | Ubuntu 18.04 | SKIPPED | PASS | PASS | PASS | +---------------------+----------------------+--------------------+-------------------+----------------+ | FreeBSD 11.2 | SKIPPED | PASS | SKIPPED | SKIPPED | +---------------------+----------------------+--------------------+-------------------+----------------+ | CentOS 8 | SKIPPED | PASS | SKIPPED | SKIPPED | +---------------------+----------------------+--------------------+-------------------+----------------+ | openSUSE Leap 15 | SKIPPED | PASS | SKIPPED | SKIPPED | +---------------------+----------------------+--------------------+-------------------+----------------+ | Ubuntu 18.04 ARM | SKIPPED | PASS | SKIPPED | PASS | +---------------------+----------------------+--------------------+-------------------+----------------+ | Arch Linux | SKIPPED | PASS | SKIPPED | SKIPPED | +---------------------+----------------------+--------------------+-------------------+----------------+ | Fedora 31 | SKIPPED | PASS | PASS | SKIPPED | +---------------------+----------------------+--------------------+-------------------+----------------+ Windows Server 2019 Kernel: 10.0 Compiler: clang 9.0 and gcc 8.1.0 (MinGW) Ubuntu 18.04 Kernel: 4.15.0-generic Compiler: gcc 7.5 FreeBSD 11.2 Kernel: 11.2 Compiler: gcc 8.3 CentOS 8 Kernel: 4.18.0.el8_0 Compiler: gcc 8.3.1 openSUSE Leap 15 Kernel: 4.12.14 Compiler: gcc 7.4.1 Ubuntu 18.04 ARM Kernel: 5.4.0-53-generic Compiler: gcc 9.3 Arch Linux Kernel: latest Compiler: gcc latest Fedora 31 Kernel: 5.3.16 Compiler: gcc 9.2.1 To view detailed results, visit: https://lab.dpdk.org/results/dashboard/patchsets/15701/ UNH-IOL DPDK Community Lab To manage your email subscriptions, visit: https://lab.dpdk.org/results/dashboard/preferences/subscriptions/