* [dpdk-test-report] |SUCCESS| pw88137-88159 [PATCH] [v3, 23/23] net/dpaa: add Rx buf size support
@ 2021-02-24 13:54 dpdklab
0 siblings, 0 replies; 10+ messages in thread
From: dpdklab @ 2021-02-24 13:54 UTC (permalink / raw)
To: Test Report; +Cc: dpdk-test-reports
[-- Attachment #1: Type: text/plain, Size: 1926 bytes --]
Test-Label: iol-intel-Performance
Test-Status: SUCCESS
http://dpdk.org/patch/88159
_Performance Testing PASS_
Submitter: Hemant Agrawal <hemant.agrawal@nxp.com>
Date: Wednesday, February 24 2021 12:43:11
DPDK git baseline: Repo:dpdk
Branch: master
CommitID:51fe32138c860992f228dbf19416ffd3b8e8baf4
88137-88159 --> performance testing pass
Test environment and result as below:
Ubuntu 18.04
Kernel: 4.15.0-generic
Compiler: gcc 7.4
NIC: Intel Corporation Ethernet Converged Network Adapter XL710-QDA2 40000 Mbps
Target: x86_64-native-linuxapp-gcc
Fail/Total: 0/2
Detail performance results:
+------------+---------+-------------------------------------+
| frame_size | txd/rxd | throughput difference from expected |
+============+=========+=====================================+
| 64 | 512 | 0.28822% |
+------------+---------+-------------------------------------+
| 64 | 2048 | 0.35189% |
+------------+---------+-------------------------------------+
Ubuntu 18.04
Kernel: 4.15.0-generic
Compiler: gcc 7.4
NIC: Intel Corporation Ethernet Converged Network Adapter 82599ES 10000 Mbps
Target: x86_64-native-linuxapp-gcc
Fail/Total: 0/2
Detail performance results:
+------------+---------+-------------------------------------+
| frame_size | txd/rxd | throughput difference from expected |
+============+=========+=====================================+
| 64 | 512 | 1.35894% |
+------------+---------+-------------------------------------+
| 64 | 2048 | 1.68922% |
+------------+---------+-------------------------------------+
To view detailed results, visit:
https://lab.dpdk.org/results/dashboard/patchsets/15706/
UNH-IOL DPDK Community Lab
To manage your email subscriptions, visit:
https://lab.dpdk.org/results/dashboard/preferences/subscriptions/
^ permalink raw reply [flat|nested] 10+ messages in thread
* [dpdk-test-report] |SUCCESS| pw88137-88159 [PATCH] [v3, 23/23] net/dpaa: add Rx buf size support
@ 2021-02-24 16:41 dpdklab
0 siblings, 0 replies; 10+ messages in thread
From: dpdklab @ 2021-02-24 16:41 UTC (permalink / raw)
To: Ali Alnubani, Test Report; +Cc: dpdk-test-reports
[-- Attachment #1: Type: text/plain, Size: 3976 bytes --]
Test-Label: iol-mellanox-Performance
Test-Status: SUCCESS
http://dpdk.org/patch/88159
_Performance Testing PASS_
Submitter: Hemant Agrawal <hemant.agrawal@nxp.com>
Date: Wednesday, February 24 2021 12:43:11
DPDK git baseline: Repo:dpdk
Branch: master
CommitID:51fe32138c860992f228dbf19416ffd3b8e8baf4
88137-88159 --> performance testing pass
Test environment and result as below:
Ubuntu 18.04
Kernel: 4.15.0-generic
Compiler: gcc 7.4
NIC: Mellanox ConnectX-4 Lx 25000 Mbps
Target: x86_64-native-linuxapp-gcc
Fail/Total: 0/6
Detail performance results:
+------------+---------+-------------------------------------+
| frame_size | txd/rxd | throughput difference from expected |
+============+=========+=====================================+
| 64 | 256 | -0.29056% |
+------------+---------+-------------------------------------+
| 128 | 256 | -0.15558% |
+------------+---------+-------------------------------------+
| 256 | 256 | -0.11406% |
+------------+---------+-------------------------------------+
| 512 | 256 | 0.0685% |
+------------+---------+-------------------------------------+
| 1024 | 256 | 0.0% |
+------------+---------+-------------------------------------+
| 1518 | 256 | -0.14782% |
+------------+---------+-------------------------------------+
Ubuntu 18.04
Kernel: 4.15.0-generic
Compiler: gcc 7.4
NIC: Mellanox ConnectX-4 Lx 40000 Mbps
Target: x86_64-native-linuxapp-gcc
Fail/Total: 0/6
Detail performance results:
+------------+---------+-------------------------------------+
| frame_size | txd/rxd | throughput difference from expected |
+============+=========+=====================================+
| 64 | 256 | 0.37418% |
+------------+---------+-------------------------------------+
| 128 | 256 | 1.6342% |
+------------+---------+-------------------------------------+
| 256 | 256 | 0.28855% |
+------------+---------+-------------------------------------+
| 512 | 256 | 0.22396% |
+------------+---------+-------------------------------------+
| 1024 | 256 | -0.1358% |
+------------+---------+-------------------------------------+
| 1518 | 256 | -0.19963% |
+------------+---------+-------------------------------------+
Ubuntu 18.04
Kernel: 4.15.0-generic
Compiler: gcc 7.4
NIC: Mellanox ConnectX-5 100000 Mbps
Target: x86_64-native-linuxapp-gcc
Fail/Total: 0/6
Detail performance results:
+------------+---------+-------------------------------------+
| frame_size | txd/rxd | throughput difference from expected |
+============+=========+=====================================+
| 64 | 256 | -0.44008% |
+------------+---------+-------------------------------------+
| 128 | 256 | 0.10332% |
+------------+---------+-------------------------------------+
| 256 | 256 | -0.25168% |
+------------+---------+-------------------------------------+
| 512 | 256 | -0.07496% |
+------------+---------+-------------------------------------+
| 1024 | 256 | 0.22107% |
+------------+---------+-------------------------------------+
| 1518 | 256 | -0.07061% |
+------------+---------+-------------------------------------+
To view detailed results, visit:
https://lab.dpdk.org/results/dashboard/patchsets/15706/
UNH-IOL DPDK Community Lab
To manage your email subscriptions, visit:
https://lab.dpdk.org/results/dashboard/preferences/subscriptions/
^ permalink raw reply [flat|nested] 10+ messages in thread
* [dpdk-test-report] |SUCCESS| pw88137-88159 [PATCH] [v3, 23/23] net/dpaa: add Rx buf size support
@ 2021-02-24 15:41 dpdklab
0 siblings, 0 replies; 10+ messages in thread
From: dpdklab @ 2021-02-24 15:41 UTC (permalink / raw)
To: Ali Alnubani, Test Report; +Cc: dpdk-test-reports
[-- Attachment #1: Type: text/plain, Size: 3976 bytes --]
Test-Label: iol-mellanox-Performance
Test-Status: SUCCESS
http://dpdk.org/patch/88159
_Performance Testing PASS_
Submitter: Hemant Agrawal <hemant.agrawal@nxp.com>
Date: Wednesday, February 24 2021 12:43:11
DPDK git baseline: Repo:dpdk
Branch: master
CommitID:51fe32138c860992f228dbf19416ffd3b8e8baf4
88137-88159 --> performance testing pass
Test environment and result as below:
Ubuntu 18.04
Kernel: 4.15.0-generic
Compiler: gcc 7.4
NIC: Mellanox ConnectX-4 Lx 25000 Mbps
Target: x86_64-native-linuxapp-gcc
Fail/Total: 0/6
Detail performance results:
+------------+---------+-------------------------------------+
| frame_size | txd/rxd | throughput difference from expected |
+============+=========+=====================================+
| 64 | 256 | -0.53034% |
+------------+---------+-------------------------------------+
| 128 | 256 | 0.1867% |
+------------+---------+-------------------------------------+
| 256 | 256 | -0.33226% |
+------------+---------+-------------------------------------+
| 512 | 256 | 0.08563% |
+------------+---------+-------------------------------------+
| 1024 | 256 | 0.21721% |
+------------+---------+-------------------------------------+
| 1518 | 256 | -0.12318% |
+------------+---------+-------------------------------------+
Ubuntu 18.04
Kernel: 4.15.0-generic
Compiler: gcc 7.4
NIC: Mellanox ConnectX-4 Lx 40000 Mbps
Target: x86_64-native-linuxapp-gcc
Fail/Total: 0/6
Detail performance results:
+------------+---------+-------------------------------------+
| frame_size | txd/rxd | throughput difference from expected |
+============+=========+=====================================+
| 64 | 256 | 0.01714% |
+------------+---------+-------------------------------------+
| 128 | 256 | -0.17838% |
+------------+---------+-------------------------------------+
| 256 | 256 | -0.08766% |
+------------+---------+-------------------------------------+
| 512 | 256 | 0.11731% |
+------------+---------+-------------------------------------+
| 1024 | 256 | -0.02089% |
+------------+---------+-------------------------------------+
| 1518 | 256 | -0.32248% |
+------------+---------+-------------------------------------+
Ubuntu 18.04
Kernel: 4.15.0-generic
Compiler: gcc 7.4
NIC: Mellanox ConnectX-5 100000 Mbps
Target: x86_64-native-linuxapp-gcc
Fail/Total: 0/6
Detail performance results:
+------------+---------+-------------------------------------+
| frame_size | txd/rxd | throughput difference from expected |
+============+=========+=====================================+
| 64 | 256 | 0.0809% |
+------------+---------+-------------------------------------+
| 128 | 256 | -0.04243% |
+------------+---------+-------------------------------------+
| 256 | 256 | -0.61052% |
+------------+---------+-------------------------------------+
| 512 | 256 | -1.67122% |
+------------+---------+-------------------------------------+
| 1024 | 256 | 0.11053% |
+------------+---------+-------------------------------------+
| 1518 | 256 | 0.02354% |
+------------+---------+-------------------------------------+
To view detailed results, visit:
https://lab.dpdk.org/results/dashboard/patchsets/15706/
UNH-IOL DPDK Community Lab
To manage your email subscriptions, visit:
https://lab.dpdk.org/results/dashboard/preferences/subscriptions/
^ permalink raw reply [flat|nested] 10+ messages in thread
* [dpdk-test-report] |SUCCESS| pw88137-88159 [PATCH] [v3, 23/23] net/dpaa: add Rx buf size support
@ 2021-02-24 15:03 dpdklab
0 siblings, 0 replies; 10+ messages in thread
From: dpdklab @ 2021-02-24 15:03 UTC (permalink / raw)
To: Ali Alnubani, Test Report; +Cc: dpdk-test-reports
[-- Attachment #1: Type: text/plain, Size: 2858 bytes --]
Test-Label: iol-mellanox-Performance
Test-Status: SUCCESS
http://dpdk.org/patch/88159
_Performance Testing PASS_
Submitter: Hemant Agrawal <hemant.agrawal@nxp.com>
Date: Wednesday, February 24 2021 12:43:11
DPDK git baseline: Repo:dpdk
Branch: master
CommitID:51fe32138c860992f228dbf19416ffd3b8e8baf4
88137-88159 --> performance testing pass
Test environment and result as below:
Ubuntu 18.04
Kernel: 4.15.0-generic
Compiler: gcc 7.4
NIC: Mellanox ConnectX-4 Lx 25000 Mbps
Target: x86_64-native-linuxapp-gcc
Fail/Total: 0/6
Detail performance results:
+------------+---------+-------------------------------------+
| frame_size | txd/rxd | throughput difference from expected |
+============+=========+=====================================+
| 64 | 256 | -0.53034% |
+------------+---------+-------------------------------------+
| 128 | 256 | 0.1867% |
+------------+---------+-------------------------------------+
| 256 | 256 | -0.33226% |
+------------+---------+-------------------------------------+
| 512 | 256 | 0.08563% |
+------------+---------+-------------------------------------+
| 1024 | 256 | 0.21721% |
+------------+---------+-------------------------------------+
| 1518 | 256 | -0.12318% |
+------------+---------+-------------------------------------+
Ubuntu 18.04
Kernel: 4.15.0-generic
Compiler: gcc 7.4
NIC: Mellanox ConnectX-4 Lx 40000 Mbps
Target: x86_64-native-linuxapp-gcc
Fail/Total: 0/6
Detail performance results:
+------------+---------+-------------------------------------+
| frame_size | txd/rxd | throughput difference from expected |
+============+=========+=====================================+
| 64 | 256 | 0.01714% |
+------------+---------+-------------------------------------+
| 128 | 256 | -0.17838% |
+------------+---------+-------------------------------------+
| 256 | 256 | -0.08766% |
+------------+---------+-------------------------------------+
| 512 | 256 | 0.11731% |
+------------+---------+-------------------------------------+
| 1024 | 256 | -0.02089% |
+------------+---------+-------------------------------------+
| 1518 | 256 | -0.32248% |
+------------+---------+-------------------------------------+
To view detailed results, visit:
https://lab.dpdk.org/results/dashboard/patchsets/15706/
UNH-IOL DPDK Community Lab
To manage your email subscriptions, visit:
https://lab.dpdk.org/results/dashboard/preferences/subscriptions/
^ permalink raw reply [flat|nested] 10+ messages in thread
* [dpdk-test-report] |SUCCESS| pw88137-88159 [PATCH] [v3, 23/23] net/dpaa: add Rx buf size support
@ 2021-02-24 14:50 dpdklab
0 siblings, 0 replies; 10+ messages in thread
From: dpdklab @ 2021-02-24 14:50 UTC (permalink / raw)
To: Ali Alnubani, Test Report; +Cc: dpdk-test-reports
[-- Attachment #1: Type: text/plain, Size: 1738 bytes --]
Test-Label: iol-mellanox-Performance
Test-Status: SUCCESS
http://dpdk.org/patch/88159
_Performance Testing PASS_
Submitter: Hemant Agrawal <hemant.agrawal@nxp.com>
Date: Wednesday, February 24 2021 12:43:11
DPDK git baseline: Repo:dpdk
Branch: master
CommitID:51fe32138c860992f228dbf19416ffd3b8e8baf4
88137-88159 --> performance testing pass
Test environment and result as below:
Ubuntu 18.04
Kernel: 4.15.0-generic
Compiler: gcc 7.4
NIC: Mellanox ConnectX-4 Lx 25000 Mbps
Target: x86_64-native-linuxapp-gcc
Fail/Total: 0/6
Detail performance results:
+------------+---------+-------------------------------------+
| frame_size | txd/rxd | throughput difference from expected |
+============+=========+=====================================+
| 64 | 256 | -0.53034% |
+------------+---------+-------------------------------------+
| 128 | 256 | 0.1867% |
+------------+---------+-------------------------------------+
| 256 | 256 | -0.33226% |
+------------+---------+-------------------------------------+
| 512 | 256 | 0.08563% |
+------------+---------+-------------------------------------+
| 1024 | 256 | 0.21721% |
+------------+---------+-------------------------------------+
| 1518 | 256 | -0.12318% |
+------------+---------+-------------------------------------+
To view detailed results, visit:
https://lab.dpdk.org/results/dashboard/patchsets/15706/
UNH-IOL DPDK Community Lab
To manage your email subscriptions, visit:
https://lab.dpdk.org/results/dashboard/preferences/subscriptions/
^ permalink raw reply [flat|nested] 10+ messages in thread
* [dpdk-test-report] |SUCCESS| pw88137-88159 [PATCH] [v3, 23/23] net/dpaa: add Rx buf size support
@ 2021-02-24 14:19 dpdklab
0 siblings, 0 replies; 10+ messages in thread
From: dpdklab @ 2021-02-24 14:19 UTC (permalink / raw)
To: Test Report; +Cc: dpdk-test-reports
[-- Attachment #1: Type: text/plain, Size: 3030 bytes --]
Test-Label: iol-testing
Test-Status: SUCCESS
http://dpdk.org/patch/88159
_Testing PASS_
Submitter: Hemant Agrawal <hemant.agrawal@nxp.com>
Date: Wednesday, February 24 2021 12:43:11
DPDK git baseline: Repo:dpdk
Branch: master
CommitID:51fe32138c860992f228dbf19416ffd3b8e8baf4
88137-88159 --> testing pass
Test environment and result as below:
+---------------------+----------------------+--------------------+----------------+-------------------+
| Environment | dpdk_mingw64_compile | dpdk_meson_compile | dpdk_unit_test | dpdk_compile_spdk |
+=====================+======================+====================+================+===================+
| Windows Server 2019 | PASS | PASS | SKIPPED | SKIPPED |
+---------------------+----------------------+--------------------+----------------+-------------------+
| FreeBSD 11.2 | SKIPPED | PASS | SKIPPED | SKIPPED |
+---------------------+----------------------+--------------------+----------------+-------------------+
| Ubuntu 18.04 | SKIPPED | PASS | PASS | PASS |
+---------------------+----------------------+--------------------+----------------+-------------------+
| CentOS 8 | SKIPPED | PASS | SKIPPED | SKIPPED |
+---------------------+----------------------+--------------------+----------------+-------------------+
| openSUSE Leap 15 | SKIPPED | PASS | SKIPPED | SKIPPED |
+---------------------+----------------------+--------------------+----------------+-------------------+
| Arch Linux | SKIPPED | PASS | SKIPPED | SKIPPED |
+---------------------+----------------------+--------------------+----------------+-------------------+
| Ubuntu 18.04 ARM | SKIPPED | PASS | PASS | SKIPPED |
+---------------------+----------------------+--------------------+----------------+-------------------+
| Fedora 31 | SKIPPED | PASS | SKIPPED | PASS |
+---------------------+----------------------+--------------------+----------------+-------------------+
Windows Server 2019
Kernel: 10.0
Compiler: clang 9.0 and gcc 8.1.0 (MinGW)
FreeBSD 11.2
Kernel: 11.2
Compiler: gcc 8.3
Ubuntu 18.04
Kernel: 4.15.0-generic
Compiler: gcc 7.5
CentOS 8
Kernel: 4.18.0.el8_0
Compiler: gcc 8.3.1
openSUSE Leap 15
Kernel: 4.12.14
Compiler: gcc 7.4.1
Arch Linux
Kernel: latest
Compiler: gcc latest
Ubuntu 18.04 ARM
Kernel: 5.4.0-53-generic
Compiler: gcc 9.3
Fedora 31
Kernel: 5.3.16
Compiler: gcc 9.2.1
To view detailed results, visit:
https://lab.dpdk.org/results/dashboard/patchsets/15706/
UNH-IOL DPDK Community Lab
To manage your email subscriptions, visit:
https://lab.dpdk.org/results/dashboard/preferences/subscriptions/
^ permalink raw reply [flat|nested] 10+ messages in thread
* [dpdk-test-report] |SUCCESS| pw88137-88159 [PATCH] [v3, 23/23] net/dpaa: add Rx buf size support
@ 2021-02-24 14:10 dpdklab
0 siblings, 0 replies; 10+ messages in thread
From: dpdklab @ 2021-02-24 14:10 UTC (permalink / raw)
To: Test Report; +Cc: dpdk-test-reports
[-- Attachment #1: Type: text/plain, Size: 931 bytes --]
Test-Label: iol-abi-testing
Test-Status: SUCCESS
http://dpdk.org/patch/88159
_Testing PASS_
Submitter: Hemant Agrawal <hemant.agrawal@nxp.com>
Date: Wednesday, February 24 2021 12:43:11
DPDK git baseline: Repo:dpdk
Branch: master
CommitID:51fe32138c860992f228dbf19416ffd3b8e8baf4
88137-88159 --> testing pass
Test environment and result as below:
+------------------+----------+
| Environment | abi_test |
+==================+==========+
| Ubuntu 18.04 | PASS |
+------------------+----------+
| Ubuntu 18.04 ARM | PASS |
+------------------+----------+
Ubuntu 18.04
Kernel: 4.15.0-generic
Compiler: gcc 7.5
Ubuntu 18.04 ARM
Kernel: 5.4.0-53-generic
Compiler: gcc 9.3
To view detailed results, visit:
https://lab.dpdk.org/results/dashboard/patchsets/15706/
UNH-IOL DPDK Community Lab
To manage your email subscriptions, visit:
https://lab.dpdk.org/results/dashboard/preferences/subscriptions/
^ permalink raw reply [flat|nested] 10+ messages in thread
* [dpdk-test-report] |SUCCESS| pw88137-88159 [PATCH] [v3, 23/23] net/dpaa: add Rx buf size support
@ 2021-02-24 14:00 dpdklab
0 siblings, 0 replies; 10+ messages in thread
From: dpdklab @ 2021-02-24 14:00 UTC (permalink / raw)
To: Test Report; +Cc: dpdk-test-reports
[-- Attachment #1: Type: text/plain, Size: 1926 bytes --]
Test-Label: iol-intel-Performance
Test-Status: SUCCESS
http://dpdk.org/patch/88159
_Performance Testing PASS_
Submitter: Hemant Agrawal <hemant.agrawal@nxp.com>
Date: Wednesday, February 24 2021 12:43:11
DPDK git baseline: Repo:dpdk
Branch: master
CommitID:51fe32138c860992f228dbf19416ffd3b8e8baf4
88137-88159 --> performance testing pass
Test environment and result as below:
Ubuntu 18.04
Kernel: 4.15.0-generic
Compiler: gcc 7.4
NIC: Intel Corporation Ethernet Converged Network Adapter XL710-QDA2 40000 Mbps
Target: x86_64-native-linuxapp-gcc
Fail/Total: 0/2
Detail performance results:
+------------+---------+-------------------------------------+
| frame_size | txd/rxd | throughput difference from expected |
+============+=========+=====================================+
| 64 | 512 | 0.28822% |
+------------+---------+-------------------------------------+
| 64 | 2048 | 0.35189% |
+------------+---------+-------------------------------------+
Ubuntu 18.04
Kernel: 4.15.0-generic
Compiler: gcc 7.4
NIC: Intel Corporation Ethernet Converged Network Adapter 82599ES 10000 Mbps
Target: x86_64-native-linuxapp-gcc
Fail/Total: 0/2
Detail performance results:
+------------+---------+-------------------------------------+
| frame_size | txd/rxd | throughput difference from expected |
+============+=========+=====================================+
| 64 | 512 | 0.08702% |
+------------+---------+-------------------------------------+
| 64 | 2048 | 0.21233% |
+------------+---------+-------------------------------------+
To view detailed results, visit:
https://lab.dpdk.org/results/dashboard/patchsets/15706/
UNH-IOL DPDK Community Lab
To manage your email subscriptions, visit:
https://lab.dpdk.org/results/dashboard/preferences/subscriptions/
^ permalink raw reply [flat|nested] 10+ messages in thread
* [dpdk-test-report] |SUCCESS| pw88137-88159 [PATCH] [v3, 23/23] net/dpaa: add Rx buf size support
@ 2021-02-24 13:53 dpdklab
0 siblings, 0 replies; 10+ messages in thread
From: dpdklab @ 2021-02-24 13:53 UTC (permalink / raw)
To: Test Report; +Cc: dpdk-test-reports
[-- Attachment #1: Type: text/plain, Size: 1926 bytes --]
Test-Label: iol-intel-Performance
Test-Status: SUCCESS
http://dpdk.org/patch/88159
_Performance Testing PASS_
Submitter: Hemant Agrawal <hemant.agrawal@nxp.com>
Date: Wednesday, February 24 2021 12:43:11
DPDK git baseline: Repo:dpdk
Branch: master
CommitID:51fe32138c860992f228dbf19416ffd3b8e8baf4
88137-88159 --> performance testing pass
Test environment and result as below:
Ubuntu 18.04
Kernel: 4.15.0-generic
Compiler: gcc 7.4
NIC: Intel Corporation Ethernet Converged Network Adapter XL710-QDA2 40000 Mbps
Target: x86_64-native-linuxapp-gcc
Fail/Total: 0/2
Detail performance results:
+------------+---------+-------------------------------------+
| frame_size | txd/rxd | throughput difference from expected |
+============+=========+=====================================+
| 64 | 512 | 5.41431% |
+------------+---------+-------------------------------------+
| 64 | 2048 | 5.07071% |
+------------+---------+-------------------------------------+
Ubuntu 18.04
Kernel: 4.15.0-generic
Compiler: gcc 7.4
NIC: Intel Corporation Ethernet Converged Network Adapter 82599ES 10000 Mbps
Target: x86_64-native-linuxapp-gcc
Fail/Total: 0/2
Detail performance results:
+------------+---------+-------------------------------------+
| frame_size | txd/rxd | throughput difference from expected |
+============+=========+=====================================+
| 64 | 512 | 1.35894% |
+------------+---------+-------------------------------------+
| 64 | 2048 | 1.68922% |
+------------+---------+-------------------------------------+
To view detailed results, visit:
https://lab.dpdk.org/results/dashboard/patchsets/15706/
UNH-IOL DPDK Community Lab
To manage your email subscriptions, visit:
https://lab.dpdk.org/results/dashboard/preferences/subscriptions/
^ permalink raw reply [flat|nested] 10+ messages in thread
* [dpdk-test-report] |SUCCESS| pw88137-88159 [PATCH] [v3, 23/23] net/dpaa: add Rx buf size support
@ 2021-02-24 13:37 dpdklab
0 siblings, 0 replies; 10+ messages in thread
From: dpdklab @ 2021-02-24 13:37 UTC (permalink / raw)
To: Test Report; +Cc: dpdk-test-reports
[-- Attachment #1: Type: text/plain, Size: 983 bytes --]
Test-Label: iol-intel-Functional
Test-Status: SUCCESS
http://dpdk.org/patch/88159
_Functional Testing PASS_
Submitter: Hemant Agrawal <hemant.agrawal@nxp.com>
Date: Wednesday, February 24 2021 12:43:11
DPDK git baseline: Repo:dpdk
Branch: master
CommitID:51fe32138c860992f228dbf19416ffd3b8e8baf4
88137-88159 --> functional testing pass
Test environment and result as below:
Ubuntu 18.04
Kernel: 4.15.0-generic
Compiler: gcc 7.4
NIC: Intel Corporation Ethernet Converged Network Adapter XL710-QDA2 40000 Mbps
Target: x86_64-native-linuxapp-gcc
Fail/Total: 0/3
Ubuntu 18.04
Kernel: 4.15.0-generic
Compiler: gcc 7.4
NIC: Intel Corporation Ethernet Converged Network Adapter 82599ES 10000 Mbps
Target: x86_64-native-linuxapp-gcc
Fail/Total: 0/5
To view detailed results, visit:
https://lab.dpdk.org/results/dashboard/patchsets/15706/
UNH-IOL DPDK Community Lab
To manage your email subscriptions, visit:
https://lab.dpdk.org/results/dashboard/preferences/subscriptions/
^ permalink raw reply [flat|nested] 10+ messages in thread
end of thread, other threads:[~2021-02-24 16:41 UTC | newest]
Thread overview: 10+ messages (download: mbox.gz / follow: Atom feed)
-- links below jump to the message on this page --
2021-02-24 13:54 [dpdk-test-report] |SUCCESS| pw88137-88159 [PATCH] [v3, 23/23] net/dpaa: add Rx buf size support dpdklab
-- strict thread matches above, loose matches on Subject: below --
2021-02-24 16:41 dpdklab
2021-02-24 15:41 dpdklab
2021-02-24 15:03 dpdklab
2021-02-24 14:50 dpdklab
2021-02-24 14:19 dpdklab
2021-02-24 14:10 dpdklab
2021-02-24 14:00 dpdklab
2021-02-24 13:53 dpdklab
2021-02-24 13:37 dpdklab
This is a public inbox, see mirroring instructions
for how to clone and mirror all data and code used for this inbox;
as well as URLs for NNTP newsgroup(s).