* [dpdk-test-report] |SUCCESS| [GIT MASTER] cf5562261d6abab3d815f08e320bde308e3ad4aa
@ 2021-02-25 0:48 dpdklab
0 siblings, 0 replies; 3+ messages in thread
From: dpdklab @ 2021-02-25 0:48 UTC (permalink / raw)
To: Test Report; +Cc: dpdk-test-reports
[-- Attachment #1: Type: text/plain, Size: 763 bytes --]
_Functional Testing PASS_
Branch: dpdk-next-net-intel
cf5562261d6abab3d815f08e320bde308e3ad4aa --> functional testing pass
Test environment and result as below:
Ubuntu 18.04
Kernel: 4.15.0-generic
Compiler: gcc 7.4
NIC: Intel Corporation Ethernet Converged Network Adapter XL710-QDA2 40000 Mbps
Target: x86_64-native-linuxapp-gcc
Fail/Total: 0/3
Ubuntu 18.04
Kernel: 4.15.0-generic
Compiler: gcc 7.4
NIC: Intel Corporation Ethernet Converged Network Adapter 82599ES 10000 Mbps
Target: x86_64-native-linuxapp-gcc
Fail/Total: 0/5
To view detailed results, visit:
https://lab.dpdk.org/results/dashboard/tarballs/13872/
UNH-IOL DPDK Community Lab
To manage your email subscriptions, visit:
https://lab.dpdk.org/results/dashboard/preferences/subscriptions/
^ permalink raw reply [flat|nested] 3+ messages in thread
* [dpdk-test-report] |SUCCESS| [GIT MASTER] cf5562261d6abab3d815f08e320bde308e3ad4aa
@ 2021-02-25 1:20 dpdklab
0 siblings, 0 replies; 3+ messages in thread
From: dpdklab @ 2021-02-25 1:20 UTC (permalink / raw)
To: Test Report; +Cc: dpdk-test-reports
[-- Attachment #1: Type: text/plain, Size: 2819 bytes --]
_Testing PASS_
Branch: dpdk-next-net-intel
cf5562261d6abab3d815f08e320bde308e3ad4aa --> testing pass
Test environment and result as below:
+---------------------+----------------------+--------------------+-------------------+----------------+
| Environment | dpdk_mingw64_compile | dpdk_meson_compile | dpdk_compile_spdk | dpdk_unit_test |
+=====================+======================+====================+===================+================+
| Windows Server 2019 | PASS | PASS | SKIPPED | SKIPPED |
+---------------------+----------------------+--------------------+-------------------+----------------+
| Ubuntu 18.04 | SKIPPED | PASS | PASS | PASS |
+---------------------+----------------------+--------------------+-------------------+----------------+
| FreeBSD 11.2 | SKIPPED | PASS | SKIPPED | SKIPPED |
+---------------------+----------------------+--------------------+-------------------+----------------+
| CentOS 8 | SKIPPED | PASS | SKIPPED | SKIPPED |
+---------------------+----------------------+--------------------+-------------------+----------------+
| openSUSE Leap 15 | SKIPPED | PASS | SKIPPED | SKIPPED |
+---------------------+----------------------+--------------------+-------------------+----------------+
| Arch Linux | SKIPPED | PASS | SKIPPED | SKIPPED |
+---------------------+----------------------+--------------------+-------------------+----------------+
| Fedora 31 | SKIPPED | PASS | PASS | SKIPPED |
+---------------------+----------------------+--------------------+-------------------+----------------+
| Ubuntu 18.04 ARM | SKIPPED | PASS | SKIPPED | PASS |
+---------------------+----------------------+--------------------+-------------------+----------------+
Windows Server 2019
Kernel: 10.0
Compiler: clang 9.0 and gcc 8.1.0 (MinGW)
Ubuntu 18.04
Kernel: 4.15.0-generic
Compiler: gcc 7.5
FreeBSD 11.2
Kernel: 11.2
Compiler: gcc 8.3
CentOS 8
Kernel: 4.18.0.el8_0
Compiler: gcc 8.3.1
openSUSE Leap 15
Kernel: 4.12.14
Compiler: gcc 7.4.1
Arch Linux
Kernel: latest
Compiler: gcc latest
Fedora 31
Kernel: 5.3.16
Compiler: gcc 9.2.1
Ubuntu 18.04 ARM
Kernel: 5.4.0-53-generic
Compiler: gcc 9.3
To view detailed results, visit:
https://lab.dpdk.org/results/dashboard/tarballs/13872/
UNH-IOL DPDK Community Lab
To manage your email subscriptions, visit:
https://lab.dpdk.org/results/dashboard/preferences/subscriptions/
^ permalink raw reply [flat|nested] 3+ messages in thread
* [dpdk-test-report] |SUCCESS| [GIT MASTER] cf5562261d6abab3d815f08e320bde308e3ad4aa
@ 2021-02-25 2:15 dpdklab
0 siblings, 0 replies; 3+ messages in thread
From: dpdklab @ 2021-02-25 2:15 UTC (permalink / raw)
To: Ali Alnubani, Test Report; +Cc: dpdk-test-reports
[-- Attachment #1: Type: text/plain, Size: 4629 bytes --]
_Performance Testing PASS_
Branch: dpdk-next-net-intel
cf5562261d6abab3d815f08e320bde308e3ad4aa --> performance testing pass
Test environment and result as below:
Ubuntu 18.04 ARM
Kernel: 4.15.0-132-generic
Compiler: gcc 7.5
NIC: Arm Mellanox ConnectX-5 10000 Mbps
Target: x86_64-native-linuxapp-gcc
Fail/Total: 0/4
Detail performance results:
+------------+---------+-------------------------------------+
| frame_size | txd/rxd | throughput difference from expected |
+============+=========+=====================================+
| 64 | 128 | -1.74796% |
+------------+---------+-------------------------------------+
| 64 | 256 | -2.62223% |
+------------+---------+-------------------------------------+
| 64 | 512 | -1.67069% |
+------------+---------+-------------------------------------+
| 64 | 2048 | -2.09593% |
+------------+---------+-------------------------------------+
Ubuntu 18.04
Kernel: 4.15.0-generic
Compiler: gcc 7.4
NIC: Mellanox ConnectX-5 100000 Mbps
Target: x86_64-native-linuxapp-gcc
Fail/Total: 0/6
Detail performance results:
+------------+---------+-------------------------------------+
| frame_size | txd/rxd | throughput difference from expected |
+============+=========+=====================================+
| 64 | 256 | -0.0631% |
+------------+---------+-------------------------------------+
| 128 | 256 | 0.20663% |
+------------+---------+-------------------------------------+
| 256 | 256 | -0.28657% |
+------------+---------+-------------------------------------+
| 512 | 256 | 0.7364% |
+------------+---------+-------------------------------------+
| 1024 | 256 | 1.05433% |
+------------+---------+-------------------------------------+
| 1518 | 256 | 0.14123% |
+------------+---------+-------------------------------------+
Ubuntu 18.04
Kernel: 4.15.0-generic
Compiler: gcc 7.4
NIC: Mellanox ConnectX-4 Lx 25000 Mbps
Target: x86_64-native-linuxapp-gcc
Fail/Total: 0/6
Detail performance results:
+------------+---------+-------------------------------------+
| frame_size | txd/rxd | throughput difference from expected |
+============+=========+=====================================+
| 64 | 256 | -0.70806% |
+------------+---------+-------------------------------------+
| 128 | 256 | 0.42871% |
+------------+---------+-------------------------------------+
| 256 | 256 | -0.25291% |
+------------+---------+-------------------------------------+
| 512 | 256 | -0.41959% |
+------------+---------+-------------------------------------+
| 1024 | 256 | 0.0% |
+------------+---------+-------------------------------------+
| 1518 | 256 | 0.02464% |
+------------+---------+-------------------------------------+
Ubuntu 18.04
Kernel: 4.15.0-generic
Compiler: gcc 7.4
NIC: Mellanox ConnectX-4 Lx 40000 Mbps
Target: x86_64-native-linuxapp-gcc
Fail/Total: 0/6
Detail performance results:
+------------+---------+-------------------------------------+
| frame_size | txd/rxd | throughput difference from expected |
+============+=========+=====================================+
| 64 | 256 | -0.25136% |
+------------+---------+-------------------------------------+
| 128 | 256 | -0.24743% |
+------------+---------+-------------------------------------+
| 256 | 256 | -0.01461% |
+------------+---------+-------------------------------------+
| 512 | 256 | 0.01066% |
+------------+---------+-------------------------------------+
| 1024 | 256 | -0.14624% |
+------------+---------+-------------------------------------+
| 1518 | 256 | -0.36855% |
+------------+---------+-------------------------------------+
To view detailed results, visit:
https://lab.dpdk.org/results/dashboard/tarballs/13872/
UNH-IOL DPDK Community Lab
To manage your email subscriptions, visit:
https://lab.dpdk.org/results/dashboard/preferences/subscriptions/
^ permalink raw reply [flat|nested] 3+ messages in thread
end of thread, other threads:[~2021-02-25 2:15 UTC | newest]
Thread overview: 3+ messages (download: mbox.gz / follow: Atom feed)
-- links below jump to the message on this page --
2021-02-25 0:48 [dpdk-test-report] |SUCCESS| [GIT MASTER] cf5562261d6abab3d815f08e320bde308e3ad4aa dpdklab
2021-02-25 1:20 dpdklab
2021-02-25 2:15 dpdklab
This is a public inbox, see mirroring instructions
for how to clone and mirror all data and code used for this inbox;
as well as URLs for NNTP newsgroup(s).