Test-Label: checkpatch Test-Status: SUCCESS http://dpdk.org/patch/88212 _coding style OK_
[-- Attachment #1: Type: text/plain, Size: 974 bytes --] Test-Label: iol-intel-Functional Test-Status: SUCCESS http://dpdk.org/patch/88212 _Functional Testing PASS_ Submitter: Ferruh Yigit <ferruh.yigit@intel.com> Date: Thursday, February 25 2021 10:54:49 DPDK git baseline: Repo:dpdk Branch: master CommitID:51fe32138c860992f228dbf19416ffd3b8e8baf4 88212 --> functional testing pass Test environment and result as below: Ubuntu 18.04 Kernel: 4.15.0-generic Compiler: gcc 7.4 NIC: Intel Corporation Ethernet Converged Network Adapter XL710-QDA2 40000 Mbps Target: x86_64-native-linuxapp-gcc Fail/Total: 0/3 Ubuntu 18.04 Kernel: 4.15.0-generic Compiler: gcc 7.4 NIC: Intel Corporation Ethernet Converged Network Adapter 82599ES 10000 Mbps Target: x86_64-native-linuxapp-gcc Fail/Total: 0/5 To view detailed results, visit: https://lab.dpdk.org/results/dashboard/patchsets/15718/ UNH-IOL DPDK Community Lab To manage your email subscriptions, visit: https://lab.dpdk.org/results/dashboard/preferences/subscriptions/
[-- Attachment #1: Type: text/plain, Size: 2586 bytes --] Test-Label: iol-intel-Performance Test-Status: SUCCESS http://dpdk.org/patch/88212 _Performance Testing PASS_ Submitter: Ferruh Yigit <ferruh.yigit@intel.com> Date: Thursday, February 25 2021 10:54:49 DPDK git baseline: Repo:dpdk Branch: master CommitID:51fe32138c860992f228dbf19416ffd3b8e8baf4 88212 --> performance testing pass Test environment and result as below: Ubuntu 18.04 Kernel: 4.15.0-generic Compiler: gcc 7.4 NIC: Intel Corporation Ethernet Converged Network Adapter 82599ES 10000 Mbps Target: x86_64-native-linuxapp-gcc Fail/Total: 0/2 Detail performance results: +------------+---------+-------------------------------------+ | frame_size | txd/rxd | throughput difference from expected | +============+=========+=====================================+ | 64 | 512 | 1.46086% | +------------+---------+-------------------------------------+ | 64 | 2048 | 1.92192% | +------------+---------+-------------------------------------+ Ubuntu 18.04 Kernel: 4.15.0-generic Compiler: gcc 7.4 NIC: Intel Corporation Ethernet Converged Network Adapter XL710-QDA2 40000 Mbps Target: x86_64-native-linuxapp-gcc Fail/Total: 0/2 Detail performance results: +------------+---------+-------------------------------------+ | frame_size | txd/rxd | throughput difference from expected | +============+=========+=====================================+ | 64 | 512 | 5.50818% | +------------+---------+-------------------------------------+ | 64 | 2048 | 5.25528% | +------------+---------+-------------------------------------+ Ubuntu 18.04 ARM Kernel: 4.15.0-132-generic Compiler: gcc 7.5 NIC: Arm Intel Corporation Ethernet Converged Network Adapter XL710-QDA2 40000 Mbps Target: x86_64-native-linuxapp-gcc Fail/Total: 0/2 Detail performance results: +------------+---------+-------------------------------------+ | frame_size | txd/rxd | throughput difference from expected | +============+=========+=====================================+ | 64 | 512 | 0.44674% | +------------+---------+-------------------------------------+ | 64 | 2048 | -0.15331% | +------------+---------+-------------------------------------+ To view detailed results, visit: https://lab.dpdk.org/results/dashboard/patchsets/15718/ UNH-IOL DPDK Community Lab To manage your email subscriptions, visit: https://lab.dpdk.org/results/dashboard/preferences/subscriptions/
[-- Attachment #1: Type: text/plain, Size: 4844 bytes --] Test-Label: iol-mellanox-Performance Test-Status: SUCCESS http://dpdk.org/patch/88212 _Performance Testing PASS_ Submitter: Ferruh Yigit <ferruh.yigit@intel.com> Date: Thursday, February 25 2021 10:54:49 DPDK git baseline: Repo:dpdk Branch: master CommitID:51fe32138c860992f228dbf19416ffd3b8e8baf4 88212 --> performance testing pass Test environment and result as below: Ubuntu 18.04 Kernel: 4.15.0-generic Compiler: gcc 7.4 NIC: Mellanox ConnectX-5 100000 Mbps Target: x86_64-native-linuxapp-gcc Fail/Total: 0/6 Detail performance results: +------------+---------+-------------------------------------+ | frame_size | txd/rxd | throughput difference from expected | +============+=========+=====================================+ | 64 | 256 | 0.06957% | +------------+---------+-------------------------------------+ | 128 | 256 | 0.04428% | +------------+---------+-------------------------------------+ | 256 | 256 | -0.35385% | +------------+---------+-------------------------------------+ | 512 | 256 | -0.05732% | +------------+---------+-------------------------------------+ | 1024 | 256 | -2.61032% | +------------+---------+-------------------------------------+ | 1518 | 256 | -0.10592% | +------------+---------+-------------------------------------+ Ubuntu 18.04 Kernel: 4.15.0-generic Compiler: gcc 7.4 NIC: Mellanox ConnectX-4 Lx 25000 Mbps Target: x86_64-native-linuxapp-gcc Fail/Total: 0/6 Detail performance results: +------------+---------+-------------------------------------+ | frame_size | txd/rxd | throughput difference from expected | +============+=========+=====================================+ | 64 | 256 | -0.36108% | +------------+---------+-------------------------------------+ | 128 | 256 | 0.15558% | +------------+---------+-------------------------------------+ | 256 | 256 | 0.12894% | +------------+---------+-------------------------------------+ | 512 | 256 | 0.23977% | +------------+---------+-------------------------------------+ | 1024 | 256 | -0.21721% | +------------+---------+-------------------------------------+ | 1518 | 256 | 0.22173% | +------------+---------+-------------------------------------+ Ubuntu 18.04 Kernel: 4.15.0-generic Compiler: gcc 7.4 NIC: Mellanox ConnectX-4 Lx 40000 Mbps Target: x86_64-native-linuxapp-gcc Fail/Total: 0/6 Detail performance results: +------------+---------+-------------------------------------+ | frame_size | txd/rxd | throughput difference from expected | +============+=========+=====================================+ | 64 | 256 | -0.21422% | +------------+---------+-------------------------------------+ | 128 | 256 | 1.17674% | +------------+---------+-------------------------------------+ | 256 | 256 | 0.21185% | +------------+---------+-------------------------------------+ | 512 | 256 | -0.05332% | +------------+---------+-------------------------------------+ | 1024 | 256 | -0.04178% | +------------+---------+-------------------------------------+ | 1518 | 256 | -0.12285% | +------------+---------+-------------------------------------+ Ubuntu 18.04 ARM Kernel: 4.15.0-132-generic Compiler: gcc 7.5 NIC: Arm Mellanox ConnectX-5 10000 Mbps Target: x86_64-native-linuxapp-gcc Fail/Total: 0/4 Detail performance results: +------------+---------+-------------------------------------+ | frame_size | txd/rxd | throughput difference from expected | +============+=========+=====================================+ | 64 | 128 | -0.49194% | +------------+---------+-------------------------------------+ | 64 | 256 | -0.81488% | +------------+---------+-------------------------------------+ | 64 | 512 | 0.14711% | +------------+---------+-------------------------------------+ | 64 | 2048 | -4.86966% | +------------+---------+-------------------------------------+ To view detailed results, visit: https://lab.dpdk.org/results/dashboard/patchsets/15718/ UNH-IOL DPDK Community Lab To manage your email subscriptions, visit: https://lab.dpdk.org/results/dashboard/preferences/subscriptions/
[-- Attachment #1: Type: text/plain, Size: 922 bytes --] Test-Label: iol-abi-testing Test-Status: SUCCESS http://dpdk.org/patch/88212 _Testing PASS_ Submitter: Ferruh Yigit <ferruh.yigit@intel.com> Date: Thursday, February 25 2021 10:54:49 DPDK git baseline: Repo:dpdk Branch: master CommitID:51fe32138c860992f228dbf19416ffd3b8e8baf4 88212 --> testing pass Test environment and result as below: +------------------+----------+ | Environment | abi_test | +==================+==========+ | Ubuntu 18.04 | PASS | +------------------+----------+ | Ubuntu 18.04 ARM | PASS | +------------------+----------+ Ubuntu 18.04 Kernel: 4.15.0-generic Compiler: gcc 7.5 Ubuntu 18.04 ARM Kernel: 5.4.0-53-generic Compiler: gcc 9.3 To view detailed results, visit: https://lab.dpdk.org/results/dashboard/patchsets/15718/ UNH-IOL DPDK Community Lab To manage your email subscriptions, visit: https://lab.dpdk.org/results/dashboard/preferences/subscriptions/
[-- Attachment #1: Type: text/plain, Size: 3021 bytes --] Test-Label: iol-testing Test-Status: SUCCESS http://dpdk.org/patch/88212 _Testing PASS_ Submitter: Ferruh Yigit <ferruh.yigit@intel.com> Date: Thursday, February 25 2021 10:54:49 DPDK git baseline: Repo:dpdk Branch: master CommitID:51fe32138c860992f228dbf19416ffd3b8e8baf4 88212 --> testing pass Test environment and result as below: +---------------------+----------------------+--------------------+-------------------+----------------+ | Environment | dpdk_mingw64_compile | dpdk_meson_compile | dpdk_compile_spdk | dpdk_unit_test | +=====================+======================+====================+===================+================+ | Windows Server 2019 | PASS | PASS | SKIPPED | SKIPPED | +---------------------+----------------------+--------------------+-------------------+----------------+ | FreeBSD 11.2 | SKIPPED | PASS | SKIPPED | SKIPPED | +---------------------+----------------------+--------------------+-------------------+----------------+ | CentOS 8 | SKIPPED | PASS | SKIPPED | SKIPPED | +---------------------+----------------------+--------------------+-------------------+----------------+ | openSUSE Leap 15 | SKIPPED | PASS | SKIPPED | SKIPPED | +---------------------+----------------------+--------------------+-------------------+----------------+ | Arch Linux | SKIPPED | PASS | SKIPPED | SKIPPED | +---------------------+----------------------+--------------------+-------------------+----------------+ | Ubuntu 18.04 | SKIPPED | PASS | PASS | PASS | +---------------------+----------------------+--------------------+-------------------+----------------+ | Fedora 31 | SKIPPED | PASS | PASS | SKIPPED | +---------------------+----------------------+--------------------+-------------------+----------------+ | Ubuntu 18.04 ARM | SKIPPED | PASS | SKIPPED | PASS | +---------------------+----------------------+--------------------+-------------------+----------------+ Windows Server 2019 Kernel: 10.0 Compiler: clang 9.0 and gcc 8.1.0 (MinGW) FreeBSD 11.2 Kernel: 11.2 Compiler: gcc 8.3 CentOS 8 Kernel: 4.18.0.el8_0 Compiler: gcc 8.3.1 openSUSE Leap 15 Kernel: 4.12.14 Compiler: gcc 7.4.1 Arch Linux Kernel: latest Compiler: gcc latest Ubuntu 18.04 Kernel: 4.15.0-generic Compiler: gcc 7.5 Fedora 31 Kernel: 5.3.16 Compiler: gcc 9.2.1 Ubuntu 18.04 ARM Kernel: 5.4.0-53-generic Compiler: gcc 9.3 To view detailed results, visit: https://lab.dpdk.org/results/dashboard/patchsets/15718/ UNH-IOL DPDK Community Lab To manage your email subscriptions, visit: https://lab.dpdk.org/results/dashboard/preferences/subscriptions/