Test-Label: checkpatch Test-Status: SUCCESS http://dpdk.org/patch/88261 _coding style OK_
[-- Attachment #1: Type: text/plain, Size: 4837 bytes --] Test-Label: iol-mellanox-Performance Test-Status: SUCCESS http://dpdk.org/patch/88261 _Performance Testing PASS_ Submitter: Wenjun Wu <wenjun1.wu@intel.com> Date: Friday, February 26 2021 02:25:42 DPDK git baseline: Repo:dpdk Branch: master CommitID:51fe32138c860992f228dbf19416ffd3b8e8baf4 88261 --> performance testing pass Test environment and result as below: Ubuntu 18.04 Kernel: 4.15.0-generic Compiler: gcc 7.4 NIC: Mellanox ConnectX-4 Lx 25000 Mbps Target: x86_64-native-linuxapp-gcc Fail/Total: 0/6 Detail performance results: +------------+---------+-------------------------------------+ | frame_size | txd/rxd | throughput difference from expected | +============+=========+=====================================+ | 64 | 256 | -0.62625% | +------------+---------+-------------------------------------+ | 128 | 256 | 0.05186% | +------------+---------+-------------------------------------+ | 256 | 256 | 0.06943% | +------------+---------+-------------------------------------+ | 512 | 256 | -0.98476% | +------------+---------+-------------------------------------+ | 1024 | 256 | -0.13367% | +------------+---------+-------------------------------------+ | 1518 | 256 | 0.07391% | +------------+---------+-------------------------------------+ Ubuntu 18.04 Kernel: 4.15.0-generic Compiler: gcc 7.4 NIC: Mellanox ConnectX-5 100000 Mbps Target: x86_64-native-linuxapp-gcc Fail/Total: 0/6 Detail performance results: +------------+---------+-------------------------------------+ | frame_size | txd/rxd | throughput difference from expected | +============+=========+=====================================+ | 64 | 256 | -0.0275% | +------------+---------+-------------------------------------+ | 128 | 256 | -0.2915% | +------------+---------+-------------------------------------+ | 256 | 256 | 0.09469% | +------------+---------+-------------------------------------+ | 512 | 256 | 0.39245% | +------------+---------+-------------------------------------+ | 1024 | 256 | -0.90979% | +------------+---------+-------------------------------------+ | 1518 | 256 | -0.14123% | +------------+---------+-------------------------------------+ Ubuntu 18.04 ARM Kernel: 4.15.0-132-generic Compiler: gcc 7.5 NIC: Arm Mellanox ConnectX-5 10000 Mbps Target: x86_64-native-linuxapp-gcc Fail/Total: 0/4 Detail performance results: +------------+---------+-------------------------------------+ | frame_size | txd/rxd | throughput difference from expected | +============+=========+=====================================+ | 64 | 128 | -1.11995% | +------------+---------+-------------------------------------+ | 64 | 256 | -1.41036% | +------------+---------+-------------------------------------+ | 64 | 512 | -0.86162% | +------------+---------+-------------------------------------+ | 64 | 2048 | -1.80396% | +------------+---------+-------------------------------------+ Ubuntu 18.04 Kernel: 4.15.0-generic Compiler: gcc 7.4 NIC: Mellanox ConnectX-4 Lx 40000 Mbps Target: x86_64-native-linuxapp-gcc Fail/Total: 0/6 Detail performance results: +------------+---------+-------------------------------------+ | frame_size | txd/rxd | throughput difference from expected | +============+=========+=====================================+ | 64 | 256 | -0.25421% | +------------+---------+-------------------------------------+ | 128 | 256 | -0.05179% | +------------+---------+-------------------------------------+ | 256 | 256 | -0.12784% | +------------+---------+-------------------------------------+ | 512 | 256 | 0.17064% | +------------+---------+-------------------------------------+ | 1024 | 256 | 0.02089% | +------------+---------+-------------------------------------+ | 1518 | 256 | -0.35319% | +------------+---------+-------------------------------------+ To view detailed results, visit: https://lab.dpdk.org/results/dashboard/patchsets/15732/ UNH-IOL DPDK Community Lab To manage your email subscriptions, visit: https://lab.dpdk.org/results/dashboard/preferences/subscriptions/
[-- Attachment #1: Type: text/plain, Size: 754 bytes --] Test-Label: iol-mellanox-Functional Test-Status: SUCCESS http://dpdk.org/patch/88261 _Functional Testing PASS_ Submitter: Wenjun Wu <wenjun1.wu@intel.com> Date: Friday, February 26 2021 02:25:42 DPDK git baseline: Repo:dpdk Branch: master CommitID:51fe32138c860992f228dbf19416ffd3b8e8baf4 88261 --> functional testing pass Test environment and result as below: Ubuntu 18.04 ARM Kernel: 4.15.0-132-generic Compiler: gcc 7.5 NIC: Arm Mellanox ConnectX-5 10000 Mbps Target: x86_64-native-linuxapp-gcc Fail/Total: 0/2 To view detailed results, visit: https://lab.dpdk.org/results/dashboard/patchsets/15732/ UNH-IOL DPDK Community Lab To manage your email subscriptions, visit: https://lab.dpdk.org/results/dashboard/preferences/subscriptions/
[-- Attachment #1: Type: text/plain, Size: 915 bytes --] Test-Label: iol-abi-testing Test-Status: SUCCESS http://dpdk.org/patch/88261 _Testing PASS_ Submitter: Wenjun Wu <wenjun1.wu@intel.com> Date: Friday, February 26 2021 02:25:42 DPDK git baseline: Repo:dpdk Branch: master CommitID:51fe32138c860992f228dbf19416ffd3b8e8baf4 88261 --> testing pass Test environment and result as below: +------------------+----------+ | Environment | abi_test | +==================+==========+ | Ubuntu 18.04 | PASS | +------------------+----------+ | Ubuntu 18.04 ARM | PASS | +------------------+----------+ Ubuntu 18.04 Kernel: 4.15.0-generic Compiler: gcc 7.5 Ubuntu 18.04 ARM Kernel: 5.4.0-53-generic Compiler: gcc 9.3 To view detailed results, visit: https://lab.dpdk.org/results/dashboard/patchsets/15732/ UNH-IOL DPDK Community Lab To manage your email subscriptions, visit: https://lab.dpdk.org/results/dashboard/preferences/subscriptions/
[-- Attachment #1: Type: text/plain, Size: 3295 bytes --] Test-Label: iol-testing Test-Status: SUCCESS http://dpdk.org/patch/88261 _Testing PASS_ Submitter: Wenjun Wu <wenjun1.wu@intel.com> Date: Friday, February 26 2021 02:25:42 DPDK git baseline: Repo:dpdk Branch: master CommitID:51fe32138c860992f228dbf19416ffd3b8e8baf4 88261 --> testing pass Test environment and result as below: +---------------------+----------------------+--------------------+-------------------+----------------+ | Environment | dpdk_mingw64_compile | dpdk_meson_compile | dpdk_compile_spdk | dpdk_unit_test | +=====================+======================+====================+===================+================+ | Windows Server 2019 | PASS | PASS | SKIPPED | SKIPPED | +---------------------+----------------------+--------------------+-------------------+----------------+ | FreeBSD 11.2 | SKIPPED | PASS | SKIPPED | SKIPPED | +---------------------+----------------------+--------------------+-------------------+----------------+ | Fedora 32 | SKIPPED | PASS | SKIPPED | SKIPPED | +---------------------+----------------------+--------------------+-------------------+----------------+ | Ubuntu 18.04 | SKIPPED | PASS | PASS | PASS | +---------------------+----------------------+--------------------+-------------------+----------------+ | CentOS 8 | SKIPPED | PASS | SKIPPED | SKIPPED | +---------------------+----------------------+--------------------+-------------------+----------------+ | openSUSE Leap 15 | SKIPPED | PASS | SKIPPED | SKIPPED | +---------------------+----------------------+--------------------+-------------------+----------------+ | Arch Linux | SKIPPED | PASS | SKIPPED | SKIPPED | +---------------------+----------------------+--------------------+-------------------+----------------+ | Fedora 31 | SKIPPED | PASS | PASS | SKIPPED | +---------------------+----------------------+--------------------+-------------------+----------------+ | Ubuntu 18.04 ARM | SKIPPED | PASS | SKIPPED | PASS | +---------------------+----------------------+--------------------+-------------------+----------------+ Windows Server 2019 Kernel: 10.0 Compiler: clang 9.0 and gcc 8.1.0 (MinGW) FreeBSD 11.2 Kernel: 11.2 Compiler: gcc 8.3 Fedora 32 Kernel: 4.18.0-240.10.1.el8_3.x86_64 Compiler: gcc 10.2.1 Ubuntu 18.04 Kernel: 4.15.0-generic Compiler: gcc 7.5 CentOS 8 Kernel: 4.18.0.el8_0 Compiler: gcc 8.3.1 openSUSE Leap 15 Kernel: 4.12.14 Compiler: gcc 7.4.1 Arch Linux Kernel: latest Compiler: gcc latest Fedora 31 Kernel: 5.3.16 Compiler: gcc 9.2.1 Ubuntu 18.04 ARM Kernel: 5.4.0-53-generic Compiler: gcc 9.3 To view detailed results, visit: https://lab.dpdk.org/results/dashboard/patchsets/15732/ UNH-IOL DPDK Community Lab To manage your email subscriptions, visit: https://lab.dpdk.org/results/dashboard/preferences/subscriptions/