Test-Label: checkpatch Test-Status: SUCCESS http://dpdk.org/patch/88262 _coding style OK_
[-- Attachment #1: Type: text/plain, Size: 4836 bytes --] Test-Label: iol-mellanox-Performance Test-Status: SUCCESS http://dpdk.org/patch/88262 _Performance Testing PASS_ Submitter: Marvin Liu <yong.liu@intel.com> Date: Friday, February 26 2021 07:33:21 DPDK git baseline: Repo:dpdk Branch: master CommitID:51fe32138c860992f228dbf19416ffd3b8e8baf4 88262 --> performance testing pass Test environment and result as below: Ubuntu 18.04 Kernel: 4.15.0-generic Compiler: gcc 7.4 NIC: Mellanox ConnectX-5 100000 Mbps Target: x86_64-native-linuxapp-gcc Fail/Total: 0/6 Detail performance results: +------------+---------+-------------------------------------+ | frame_size | txd/rxd | throughput difference from expected | +============+=========+=====================================+ | 64 | 256 | -0.16503% | +------------+---------+-------------------------------------+ | 128 | 256 | -0.22139% | +------------+---------+-------------------------------------+ | 256 | 256 | 0.07974% | +------------+---------+-------------------------------------+ | 512 | 256 | -0.18961% | +------------+---------+-------------------------------------+ | 1024 | 256 | 0.79925% | +------------+---------+-------------------------------------+ | 1518 | 256 | -0.03531% | +------------+---------+-------------------------------------+ Ubuntu 18.04 ARM Kernel: 4.15.0-132-generic Compiler: gcc 7.5 NIC: Arm Mellanox ConnectX-5 10000 Mbps Target: x86_64-native-linuxapp-gcc Fail/Total: 0/4 Detail performance results: +------------+---------+-------------------------------------+ | frame_size | txd/rxd | throughput difference from expected | +============+=========+=====================================+ | 64 | 128 | -2.44924% | +------------+---------+-------------------------------------+ | 64 | 256 | -2.31926% | +------------+---------+-------------------------------------+ | 64 | 512 | -2.5113% | +------------+---------+-------------------------------------+ | 64 | 2048 | -2.90928% | +------------+---------+-------------------------------------+ Ubuntu 18.04 Kernel: 4.15.0-generic Compiler: gcc 7.4 NIC: Mellanox ConnectX-4 Lx 25000 Mbps Target: x86_64-native-linuxapp-gcc Fail/Total: 0/6 Detail performance results: +------------+---------+-------------------------------------+ | frame_size | txd/rxd | throughput difference from expected | +============+=========+=====================================+ | 64 | 256 | -0.36108% | +------------+---------+-------------------------------------+ | 128 | 256 | 0.11409% | +------------+---------+-------------------------------------+ | 256 | 256 | -0.20828% | +------------+---------+-------------------------------------+ | 512 | 256 | 0.27402% | +------------+---------+-------------------------------------+ | 1024 | 256 | -0.21721% | +------------+---------+-------------------------------------+ | 1518 | 256 | -0.12318% | +------------+---------+-------------------------------------+ Ubuntu 18.04 Kernel: 4.15.0-generic Compiler: gcc 7.4 NIC: Mellanox ConnectX-4 Lx 40000 Mbps Target: x86_64-native-linuxapp-gcc Fail/Total: 0/6 Detail performance results: +------------+---------+-------------------------------------+ | frame_size | txd/rxd | throughput difference from expected | +============+=========+=====================================+ | 64 | 256 | -0.17138% | +------------+---------+-------------------------------------+ | 128 | 256 | -0.14673% | +------------+---------+-------------------------------------+ | 256 | 256 | -0.03287% | +------------+---------+-------------------------------------+ | 512 | 256 | 0.17597% | +------------+---------+-------------------------------------+ | 1024 | 256 | 0.01045% | +------------+---------+-------------------------------------+ | 1518 | 256 | -0.18428% | +------------+---------+-------------------------------------+ To view detailed results, visit: https://lab.dpdk.org/results/dashboard/patchsets/15733/ UNH-IOL DPDK Community Lab To manage your email subscriptions, visit: https://lab.dpdk.org/results/dashboard/preferences/subscriptions/
[-- Attachment #1: Type: text/plain, Size: 753 bytes --] Test-Label: iol-mellanox-Functional Test-Status: SUCCESS http://dpdk.org/patch/88262 _Functional Testing PASS_ Submitter: Marvin Liu <yong.liu@intel.com> Date: Friday, February 26 2021 07:33:21 DPDK git baseline: Repo:dpdk Branch: master CommitID:51fe32138c860992f228dbf19416ffd3b8e8baf4 88262 --> functional testing pass Test environment and result as below: Ubuntu 18.04 ARM Kernel: 4.15.0-132-generic Compiler: gcc 7.5 NIC: Arm Mellanox ConnectX-5 10000 Mbps Target: x86_64-native-linuxapp-gcc Fail/Total: 0/2 To view detailed results, visit: https://lab.dpdk.org/results/dashboard/patchsets/15733/ UNH-IOL DPDK Community Lab To manage your email subscriptions, visit: https://lab.dpdk.org/results/dashboard/preferences/subscriptions/
[-- Attachment #1: Type: text/plain, Size: 914 bytes --] Test-Label: iol-abi-testing Test-Status: SUCCESS http://dpdk.org/patch/88262 _Testing PASS_ Submitter: Marvin Liu <yong.liu@intel.com> Date: Friday, February 26 2021 07:33:21 DPDK git baseline: Repo:dpdk Branch: master CommitID:51fe32138c860992f228dbf19416ffd3b8e8baf4 88262 --> testing pass Test environment and result as below: +------------------+----------+ | Environment | abi_test | +==================+==========+ | Ubuntu 18.04 | PASS | +------------------+----------+ | Ubuntu 18.04 ARM | PASS | +------------------+----------+ Ubuntu 18.04 Kernel: 4.15.0-generic Compiler: gcc 7.5 Ubuntu 18.04 ARM Kernel: 5.4.0-53-generic Compiler: gcc 9.3 To view detailed results, visit: https://lab.dpdk.org/results/dashboard/patchsets/15733/ UNH-IOL DPDK Community Lab To manage your email subscriptions, visit: https://lab.dpdk.org/results/dashboard/preferences/subscriptions/
[-- Attachment #1: Type: text/plain, Size: 3294 bytes --] Test-Label: iol-testing Test-Status: SUCCESS http://dpdk.org/patch/88262 _Testing PASS_ Submitter: Marvin Liu <yong.liu@intel.com> Date: Friday, February 26 2021 07:33:21 DPDK git baseline: Repo:dpdk Branch: master CommitID:51fe32138c860992f228dbf19416ffd3b8e8baf4 88262 --> testing pass Test environment and result as below: +---------------------+----------------------+--------------------+----------------+-------------------+ | Environment | dpdk_mingw64_compile | dpdk_meson_compile | dpdk_unit_test | dpdk_compile_spdk | +=====================+======================+====================+================+===================+ | Windows Server 2019 | PASS | PASS | SKIPPED | SKIPPED | +---------------------+----------------------+--------------------+----------------+-------------------+ | FreeBSD 11.2 | SKIPPED | PASS | SKIPPED | SKIPPED | +---------------------+----------------------+--------------------+----------------+-------------------+ | CentOS 8 | SKIPPED | PASS | SKIPPED | SKIPPED | +---------------------+----------------------+--------------------+----------------+-------------------+ | openSUSE Leap 15 | SKIPPED | PASS | SKIPPED | SKIPPED | +---------------------+----------------------+--------------------+----------------+-------------------+ | Arch Linux | SKIPPED | PASS | SKIPPED | SKIPPED | +---------------------+----------------------+--------------------+----------------+-------------------+ | Fedora 32 | SKIPPED | PASS | SKIPPED | SKIPPED | +---------------------+----------------------+--------------------+----------------+-------------------+ | Fedora 31 | SKIPPED | PASS | SKIPPED | PASS | +---------------------+----------------------+--------------------+----------------+-------------------+ | Ubuntu 18.04 | SKIPPED | PASS | PASS | PASS | +---------------------+----------------------+--------------------+----------------+-------------------+ | Ubuntu 18.04 ARM | SKIPPED | PASS | PASS | SKIPPED | +---------------------+----------------------+--------------------+----------------+-------------------+ Windows Server 2019 Kernel: 10.0 Compiler: clang 9.0 and gcc 8.1.0 (MinGW) FreeBSD 11.2 Kernel: 11.2 Compiler: gcc 8.3 CentOS 8 Kernel: 4.18.0.el8_0 Compiler: gcc 8.3.1 openSUSE Leap 15 Kernel: 4.12.14 Compiler: gcc 7.4.1 Arch Linux Kernel: latest Compiler: gcc latest Fedora 32 Kernel: 4.18.0-240.10.1.el8_3.x86_64 Compiler: gcc 10.2.1 Fedora 31 Kernel: 5.3.16 Compiler: gcc 9.2.1 Ubuntu 18.04 Kernel: 4.15.0-generic Compiler: gcc 7.5 Ubuntu 18.04 ARM Kernel: 5.4.0-53-generic Compiler: gcc 9.3 To view detailed results, visit: https://lab.dpdk.org/results/dashboard/patchsets/15733/ UNH-IOL DPDK Community Lab To manage your email subscriptions, visit: https://lab.dpdk.org/results/dashboard/preferences/subscriptions/