* [dpdk-test-report] |SUCCESS| pw88328 [PATCH] [v2] net/mlx5: fix wrong segmented packet in Rx
@ 2021-03-01 19:18 dpdklab
0 siblings, 0 replies; 6+ messages in thread
From: dpdklab @ 2021-03-01 19:18 UTC (permalink / raw)
To: Ali Alnubani, Test Report; +Cc: dpdk-test-reports
[-- Attachment #1: Type: text/plain, Size: 751 bytes --]
Test-Label: iol-mellanox-Functional
Test-Status: SUCCESS
http://dpdk.org/patch/88328
_Functional Testing PASS_
Submitter: Jiawei Zhu <17826875952@163.com>
Date: Monday, March 01 2021 16:58:05
DPDK git baseline: Repo:dpdk
Branch: master
CommitID:51fe32138c860992f228dbf19416ffd3b8e8baf4
88328 --> functional testing pass
Test environment and result as below:
Ubuntu 18.04 ARM
Kernel: 4.15.0-132-generic
Compiler: gcc 7.5
NIC: Arm Mellanox ConnectX-5 10000 Mbps
Target: x86_64-native-linuxapp-gcc
Fail/Total: 0/4
To view detailed results, visit:
https://lab.dpdk.org/results/dashboard/patchsets/15762/
UNH-IOL DPDK Community Lab
To manage your email subscriptions, visit:
https://lab.dpdk.org/results/dashboard/preferences/subscriptions/
^ permalink raw reply [flat|nested] 6+ messages in thread
* [dpdk-test-report] |SUCCESS| pw88328 [PATCH] [v2] net/mlx5: fix wrong segmented packet in Rx
@ 2021-03-02 5:05 dpdklab
0 siblings, 0 replies; 6+ messages in thread
From: dpdklab @ 2021-03-02 5:05 UTC (permalink / raw)
To: Test Report; +Cc: dpdk-test-reports
[-- Attachment #1: Type: text/plain, Size: 3292 bytes --]
Test-Label: iol-testing
Test-Status: SUCCESS
http://dpdk.org/patch/88328
_Testing PASS_
Submitter: Jiawei Zhu <17826875952@163.com>
Date: Monday, March 01 2021 16:58:05
DPDK git baseline: Repo:dpdk
Branch: master
CommitID:51fe32138c860992f228dbf19416ffd3b8e8baf4
88328 --> testing pass
Test environment and result as below:
+---------------------+----------------------+--------------------+-------------------+----------------+
| Environment | dpdk_mingw64_compile | dpdk_meson_compile | dpdk_compile_spdk | dpdk_unit_test |
+=====================+======================+====================+===================+================+
| Windows Server 2019 | PASS | PASS | SKIPPED | SKIPPED |
+---------------------+----------------------+--------------------+-------------------+----------------+
| FreeBSD 11.2 | SKIPPED | PASS | SKIPPED | SKIPPED |
+---------------------+----------------------+--------------------+-------------------+----------------+
| CentOS 8 | SKIPPED | PASS | SKIPPED | SKIPPED |
+---------------------+----------------------+--------------------+-------------------+----------------+
| Ubuntu 18.04 | SKIPPED | PASS | PASS | PASS |
+---------------------+----------------------+--------------------+-------------------+----------------+
| openSUSE Leap 15 | SKIPPED | PASS | SKIPPED | SKIPPED |
+---------------------+----------------------+--------------------+-------------------+----------------+
| Fedora 32 | SKIPPED | PASS | SKIPPED | SKIPPED |
+---------------------+----------------------+--------------------+-------------------+----------------+
| Arch Linux | SKIPPED | PASS | SKIPPED | SKIPPED |
+---------------------+----------------------+--------------------+-------------------+----------------+
| Fedora 31 | SKIPPED | PASS | PASS | SKIPPED |
+---------------------+----------------------+--------------------+-------------------+----------------+
| Ubuntu 18.04 ARM | SKIPPED | PASS | SKIPPED | PASS |
+---------------------+----------------------+--------------------+-------------------+----------------+
Windows Server 2019
Kernel: 10.0
Compiler: clang 9.0 and gcc 8.1.0 (MinGW)
FreeBSD 11.2
Kernel: 11.2
Compiler: gcc 8.3
CentOS 8
Kernel: 4.18.0.el8_0
Compiler: gcc 8.3.1
Ubuntu 18.04
Kernel: 4.15.0-generic
Compiler: gcc 7.5
openSUSE Leap 15
Kernel: 4.12.14
Compiler: gcc 7.4.1
Fedora 32
Kernel: 4.18.0-240.10.1.el8_3.x86_64
Compiler: gcc 10.2.1
Arch Linux
Kernel: latest
Compiler: gcc latest
Fedora 31
Kernel: 5.3.16
Compiler: gcc 9.2.1
Ubuntu 18.04 ARM
Kernel: 5.4.0-53-generic
Compiler: gcc 9.3
To view detailed results, visit:
https://lab.dpdk.org/results/dashboard/patchsets/15762/
UNH-IOL DPDK Community Lab
To manage your email subscriptions, visit:
https://lab.dpdk.org/results/dashboard/preferences/subscriptions/
^ permalink raw reply [flat|nested] 6+ messages in thread
* [dpdk-test-report] |SUCCESS| pw88328 [PATCH] [v2] net/mlx5: fix wrong segmented packet in Rx
@ 2021-03-02 2:20 dpdklab
0 siblings, 0 replies; 6+ messages in thread
From: dpdklab @ 2021-03-02 2:20 UTC (permalink / raw)
To: Test Report; +Cc: dpdk-test-reports
[-- Attachment #1: Type: text/plain, Size: 912 bytes --]
Test-Label: iol-abi-testing
Test-Status: SUCCESS
http://dpdk.org/patch/88328
_Testing PASS_
Submitter: Jiawei Zhu <17826875952@163.com>
Date: Monday, March 01 2021 16:58:05
DPDK git baseline: Repo:dpdk
Branch: master
CommitID:51fe32138c860992f228dbf19416ffd3b8e8baf4
88328 --> testing pass
Test environment and result as below:
+------------------+----------+
| Environment | abi_test |
+==================+==========+
| Ubuntu 18.04 | PASS |
+------------------+----------+
| Ubuntu 18.04 ARM | PASS |
+------------------+----------+
Ubuntu 18.04
Kernel: 4.15.0-generic
Compiler: gcc 7.5
Ubuntu 18.04 ARM
Kernel: 5.4.0-53-generic
Compiler: gcc 9.3
To view detailed results, visit:
https://lab.dpdk.org/results/dashboard/patchsets/15762/
UNH-IOL DPDK Community Lab
To manage your email subscriptions, visit:
https://lab.dpdk.org/results/dashboard/preferences/subscriptions/
^ permalink raw reply [flat|nested] 6+ messages in thread
* [dpdk-test-report] |SUCCESS| pw88328 [PATCH] [v2] net/mlx5: fix wrong segmented packet in Rx
@ 2021-03-01 19:27 dpdklab
0 siblings, 0 replies; 6+ messages in thread
From: dpdklab @ 2021-03-01 19:27 UTC (permalink / raw)
To: Test Report; +Cc: dpdk-test-reports
[-- Attachment #1: Type: text/plain, Size: 2576 bytes --]
Test-Label: iol-intel-Performance
Test-Status: SUCCESS
http://dpdk.org/patch/88328
_Performance Testing PASS_
Submitter: Jiawei Zhu <17826875952@163.com>
Date: Monday, March 01 2021 16:58:05
DPDK git baseline: Repo:dpdk
Branch: master
CommitID:51fe32138c860992f228dbf19416ffd3b8e8baf4
88328 --> performance testing pass
Test environment and result as below:
Ubuntu 18.04
Kernel: 4.15.0-generic
Compiler: gcc 7.4
NIC: Intel Corporation Ethernet Converged Network Adapter 82599ES 10000 Mbps
Target: x86_64-native-linuxapp-gcc
Fail/Total: 0/2
Detail performance results:
+------------+---------+-------------------------------------+
| frame_size | txd/rxd | throughput difference from expected |
+============+=========+=====================================+
| 64 | 512 | 3.04856% |
+------------+---------+-------------------------------------+
| 64 | 2048 | 1.86446% |
+------------+---------+-------------------------------------+
Ubuntu 18.04
Kernel: 4.15.0-generic
Compiler: gcc 7.4
NIC: Intel Corporation Ethernet Converged Network Adapter XL710-QDA2 40000 Mbps
Target: x86_64-native-linuxapp-gcc
Fail/Total: 0/2
Detail performance results:
+------------+---------+-------------------------------------+
| frame_size | txd/rxd | throughput difference from expected |
+============+=========+=====================================+
| 64 | 512 | 5.5661% |
+------------+---------+-------------------------------------+
| 64 | 2048 | 4.75145% |
+------------+---------+-------------------------------------+
Ubuntu 18.04 ARM
Kernel: 4.15.0-132-generic
Compiler: gcc 7.5
NIC: Arm Intel Corporation Ethernet Converged Network Adapter XL710-QDA2 40000 Mbps
Target: x86_64-native-linuxapp-gcc
Fail/Total: 0/2
Detail performance results:
+------------+---------+-------------------------------------+
| frame_size | txd/rxd | throughput difference from expected |
+============+=========+=====================================+
| 64 | 512 | -2.03825% |
+------------+---------+-------------------------------------+
| 64 | 2048 | -2.07666% |
+------------+---------+-------------------------------------+
To view detailed results, visit:
https://lab.dpdk.org/results/dashboard/patchsets/15762/
UNH-IOL DPDK Community Lab
To manage your email subscriptions, visit:
https://lab.dpdk.org/results/dashboard/preferences/subscriptions/
^ permalink raw reply [flat|nested] 6+ messages in thread
* [dpdk-test-report] |SUCCESS| pw88328 [PATCH] [v2] net/mlx5: fix wrong segmented packet in Rx
@ 2021-03-01 19:03 dpdklab
0 siblings, 0 replies; 6+ messages in thread
From: dpdklab @ 2021-03-01 19:03 UTC (permalink / raw)
To: Ali Alnubani, Test Report; +Cc: dpdk-test-reports
[-- Attachment #1: Type: text/plain, Size: 4834 bytes --]
Test-Label: iol-mellanox-Performance
Test-Status: SUCCESS
http://dpdk.org/patch/88328
_Performance Testing PASS_
Submitter: Jiawei Zhu <17826875952@163.com>
Date: Monday, March 01 2021 16:58:05
DPDK git baseline: Repo:dpdk
Branch: master
CommitID:51fe32138c860992f228dbf19416ffd3b8e8baf4
88328 --> performance testing pass
Test environment and result as below:
Ubuntu 18.04
Kernel: 4.15.0-generic
Compiler: gcc 7.4
NIC: Mellanox ConnectX-4 Lx 40000 Mbps
Target: x86_64-native-linuxapp-gcc
Fail/Total: 0/6
Detail performance results:
+------------+---------+-------------------------------------+
| frame_size | txd/rxd | throughput difference from expected |
+============+=========+=====================================+
| 64 | 256 | -0.11711% |
+------------+---------+-------------------------------------+
| 128 | 256 | 1.91041% |
+------------+---------+-------------------------------------+
| 256 | 256 | 0.03653% |
+------------+---------+-------------------------------------+
| 512 | 256 | 0.27196% |
+------------+---------+-------------------------------------+
| 1024 | 256 | 0.03134% |
+------------+---------+-------------------------------------+
| 1518 | 256 | -0.15356% |
+------------+---------+-------------------------------------+
Ubuntu 18.04
Kernel: 4.15.0-generic
Compiler: gcc 7.4
NIC: Mellanox ConnectX-4 Lx 25000 Mbps
Target: x86_64-native-linuxapp-gcc
Fail/Total: 0/6
Detail performance results:
+------------+---------+-------------------------------------+
| frame_size | txd/rxd | throughput difference from expected |
+============+=========+=====================================+
| 64 | 256 | -1.14249% |
+------------+---------+-------------------------------------+
| 128 | 256 | 0.09681% |
+------------+---------+-------------------------------------+
| 256 | 256 | -0.00992% |
+------------+---------+-------------------------------------+
| 512 | 256 | 0.21408% |
+------------+---------+-------------------------------------+
| 1024 | 256 | 0.0% |
+------------+---------+-------------------------------------+
| 1518 | 256 | 0.02464% |
+------------+---------+-------------------------------------+
Ubuntu 18.04
Kernel: 4.15.0-generic
Compiler: gcc 7.4
NIC: Mellanox ConnectX-5 100000 Mbps
Target: x86_64-native-linuxapp-gcc
Fail/Total: 0/6
Detail performance results:
+------------+---------+-------------------------------------+
| frame_size | txd/rxd | throughput difference from expected |
+============+=========+=====================================+
| 64 | 256 | -0.25402% |
+------------+---------+-------------------------------------+
| 128 | 256 | -0.15129% |
+------------+---------+-------------------------------------+
| 256 | 256 | -0.17942% |
+------------+---------+-------------------------------------+
| 512 | 256 | -0.2293% |
+------------+---------+-------------------------------------+
| 1024 | 256 | 0.90979% |
+------------+---------+-------------------------------------+
| 1518 | 256 | -0.12946% |
+------------+---------+-------------------------------------+
Ubuntu 18.04 ARM
Kernel: 4.15.0-132-generic
Compiler: gcc 7.5
NIC: Arm Mellanox ConnectX-5 10000 Mbps
Target: x86_64-native-linuxapp-gcc
Fail/Total: 0/4
Detail performance results:
+------------+---------+-------------------------------------+
| frame_size | txd/rxd | throughput difference from expected |
+============+=========+=====================================+
| 64 | 128 | -5.11828% |
+------------+---------+-------------------------------------+
| 64 | 256 | -3.15504% |
+------------+---------+-------------------------------------+
| 64 | 512 | -2.9421% |
+------------+---------+-------------------------------------+
| 64 | 2048 | -3.24296% |
+------------+---------+-------------------------------------+
To view detailed results, visit:
https://lab.dpdk.org/results/dashboard/patchsets/15762/
UNH-IOL DPDK Community Lab
To manage your email subscriptions, visit:
https://lab.dpdk.org/results/dashboard/preferences/subscriptions/
^ permalink raw reply [flat|nested] 6+ messages in thread
[parent not found: <1614617885-2650-1-git-send-email-17826875952@163.com>]
end of thread, other threads:[~2021-03-02 5:05 UTC | newest]
Thread overview: 6+ messages (download: mbox.gz / follow: Atom feed)
-- links below jump to the message on this page --
2021-03-01 19:18 [dpdk-test-report] |SUCCESS| pw88328 [PATCH] [v2] net/mlx5: fix wrong segmented packet in Rx dpdklab
-- strict thread matches above, loose matches on Subject: below --
2021-03-02 5:05 dpdklab
2021-03-02 2:20 dpdklab
2021-03-01 19:27 dpdklab
2021-03-01 19:03 dpdklab
[not found] <1614617885-2650-1-git-send-email-17826875952@163.com>
2021-03-01 16:59 ` [dpdk-test-report] |SUCCESS| pw88328 [PATCH v2] " checkpatch
This is a public inbox, see mirroring instructions
for how to clone and mirror all data and code used for this inbox;
as well as URLs for NNTP newsgroup(s).