* [dpdk-test-report] |SUCCESS| pw88336-88341 [PATCH] [v3, 6/6] net/ice: clean GTPU flow_type for FDIR
@ 2021-03-02 4:38 dpdklab
0 siblings, 0 replies; 5+ messages in thread
From: dpdklab @ 2021-03-02 4:38 UTC (permalink / raw)
To: Test Report; +Cc: dpdk-test-reports
[-- Attachment #1: Type: text/plain, Size: 2584 bytes --]
Test-Label: iol-intel-Performance
Test-Status: SUCCESS
http://dpdk.org/patch/88341
_Performance Testing PASS_
Submitter: Zhirun Yan <zhirun.yan@intel.com>
Date: Tuesday, March 02 2021 02:54:07
DPDK git baseline: Repo:dpdk
Branch: master
CommitID:52db57db0536bf20cbb50464ca4c18b0c9fde4e4
88336-88341 --> performance testing pass
Test environment and result as below:
Ubuntu 18.04
Kernel: 4.15.0-generic
Compiler: gcc 7.4
NIC: Intel Corporation Ethernet Converged Network Adapter 82599ES 10000 Mbps
Target: x86_64-native-linuxapp-gcc
Fail/Total: 0/2
Detail performance results:
+------------+---------+-------------------------------------+
| frame_size | txd/rxd | throughput difference from expected |
+============+=========+=====================================+
| 64 | 512 | 3.1301% |
+------------+---------+-------------------------------------+
| 64 | 2048 | 2.41317% |
+------------+---------+-------------------------------------+
Ubuntu 18.04
Kernel: 4.15.0-generic
Compiler: gcc 7.4
NIC: Intel Corporation Ethernet Converged Network Adapter XL710-QDA2 40000 Mbps
Target: x86_64-native-linuxapp-gcc
Fail/Total: 0/2
Detail performance results:
+------------+---------+-------------------------------------+
| frame_size | txd/rxd | throughput difference from expected |
+============+=========+=====================================+
| 64 | 512 | 4.51958% |
+------------+---------+-------------------------------------+
| 64 | 2048 | 5.30517% |
+------------+---------+-------------------------------------+
Ubuntu 18.04 ARM
Kernel: 4.15.0-132-generic
Compiler: gcc 7.5
NIC: Arm Intel Corporation Ethernet Converged Network Adapter XL710-QDA2 40000 Mbps
Target: x86_64-native-linuxapp-gcc
Fail/Total: 0/2
Detail performance results:
+------------+---------+-------------------------------------+
| frame_size | txd/rxd | throughput difference from expected |
+============+=========+=====================================+
| 64 | 512 | -2.45707% |
+------------+---------+-------------------------------------+
| 64 | 2048 | -2.52265% |
+------------+---------+-------------------------------------+
To view detailed results, visit:
https://lab.dpdk.org/results/dashboard/patchsets/15764/
UNH-IOL DPDK Community Lab
To manage your email subscriptions, visit:
https://lab.dpdk.org/results/dashboard/preferences/subscriptions/
^ permalink raw reply [flat|nested] 5+ messages in thread
* [dpdk-test-report] |SUCCESS| pw88336-88341 [PATCH] [v3, 6/6] net/ice: clean GTPU flow_type for FDIR
@ 2021-03-02 10:46 dpdklab
0 siblings, 0 replies; 5+ messages in thread
From: dpdklab @ 2021-03-02 10:46 UTC (permalink / raw)
To: Test Report; +Cc: dpdk-test-reports
[-- Attachment #1: Type: text/plain, Size: 3300 bytes --]
Test-Label: iol-testing
Test-Status: SUCCESS
http://dpdk.org/patch/88341
_Testing PASS_
Submitter: Zhirun Yan <zhirun.yan@intel.com>
Date: Tuesday, March 02 2021 02:54:07
DPDK git baseline: Repo:dpdk
Branch: master
CommitID:52db57db0536bf20cbb50464ca4c18b0c9fde4e4
88336-88341 --> testing pass
Test environment and result as below:
+---------------------+----------------------+--------------------+-------------------+----------------+
| Environment | dpdk_mingw64_compile | dpdk_meson_compile | dpdk_compile_spdk | dpdk_unit_test |
+=====================+======================+====================+===================+================+
| Windows Server 2019 | PASS | PASS | SKIPPED | SKIPPED |
+---------------------+----------------------+--------------------+-------------------+----------------+
| FreeBSD 11.2 | SKIPPED | PASS | SKIPPED | SKIPPED |
+---------------------+----------------------+--------------------+-------------------+----------------+
| CentOS 8 | SKIPPED | PASS | SKIPPED | SKIPPED |
+---------------------+----------------------+--------------------+-------------------+----------------+
| Ubuntu 18.04 | SKIPPED | PASS | PASS | PASS |
+---------------------+----------------------+--------------------+-------------------+----------------+
| openSUSE Leap 15 | SKIPPED | PASS | SKIPPED | SKIPPED |
+---------------------+----------------------+--------------------+-------------------+----------------+
| Fedora 32 | SKIPPED | PASS | SKIPPED | SKIPPED |
+---------------------+----------------------+--------------------+-------------------+----------------+
| Arch Linux | SKIPPED | PASS | SKIPPED | SKIPPED |
+---------------------+----------------------+--------------------+-------------------+----------------+
| Fedora 31 | SKIPPED | PASS | PASS | SKIPPED |
+---------------------+----------------------+--------------------+-------------------+----------------+
| Ubuntu 18.04 ARM | SKIPPED | PASS | SKIPPED | PASS |
+---------------------+----------------------+--------------------+-------------------+----------------+
Windows Server 2019
Kernel: 10.0
Compiler: clang 9.0 and gcc 8.1.0 (MinGW)
FreeBSD 11.2
Kernel: 11.2
Compiler: gcc 8.3
CentOS 8
Kernel: 4.18.0.el8_0
Compiler: gcc 8.3.1
Ubuntu 18.04
Kernel: 4.15.0-generic
Compiler: gcc 7.5
openSUSE Leap 15
Kernel: 4.12.14
Compiler: gcc 7.4.1
Fedora 32
Kernel: 4.18.0-240.10.1.el8_3.x86_64
Compiler: gcc 10.2.1
Arch Linux
Kernel: latest
Compiler: gcc latest
Fedora 31
Kernel: 5.3.16
Compiler: gcc 9.2.1
Ubuntu 18.04 ARM
Kernel: 5.4.0-53-generic
Compiler: gcc 9.3
To view detailed results, visit:
https://lab.dpdk.org/results/dashboard/patchsets/15764/
UNH-IOL DPDK Community Lab
To manage your email subscriptions, visit:
https://lab.dpdk.org/results/dashboard/preferences/subscriptions/
^ permalink raw reply [flat|nested] 5+ messages in thread
* [dpdk-test-report] |SUCCESS| pw88336-88341 [PATCH] [v3, 6/6] net/ice: clean GTPU flow_type for FDIR
@ 2021-03-02 5:05 dpdklab
0 siblings, 0 replies; 5+ messages in thread
From: dpdklab @ 2021-03-02 5:05 UTC (permalink / raw)
To: Test Report; +Cc: dpdk-test-reports
[-- Attachment #1: Type: text/plain, Size: 920 bytes --]
Test-Label: iol-abi-testing
Test-Status: SUCCESS
http://dpdk.org/patch/88341
_Testing PASS_
Submitter: Zhirun Yan <zhirun.yan@intel.com>
Date: Tuesday, March 02 2021 02:54:07
DPDK git baseline: Repo:dpdk
Branch: master
CommitID:52db57db0536bf20cbb50464ca4c18b0c9fde4e4
88336-88341 --> testing pass
Test environment and result as below:
+------------------+----------+
| Environment | abi_test |
+==================+==========+
| Ubuntu 18.04 | PASS |
+------------------+----------+
| Ubuntu 18.04 ARM | PASS |
+------------------+----------+
Ubuntu 18.04
Kernel: 4.15.0-generic
Compiler: gcc 7.5
Ubuntu 18.04 ARM
Kernel: 5.4.0-53-generic
Compiler: gcc 9.3
To view detailed results, visit:
https://lab.dpdk.org/results/dashboard/patchsets/15764/
UNH-IOL DPDK Community Lab
To manage your email subscriptions, visit:
https://lab.dpdk.org/results/dashboard/preferences/subscriptions/
^ permalink raw reply [flat|nested] 5+ messages in thread
* [dpdk-test-report] |SUCCESS| pw88336-88341 [PATCH] [v3, 6/6] net/ice: clean GTPU flow_type for FDIR
@ 2021-03-02 4:34 dpdklab
0 siblings, 0 replies; 5+ messages in thread
From: dpdklab @ 2021-03-02 4:34 UTC (permalink / raw)
To: Ali Alnubani, Test Report; +Cc: dpdk-test-reports
[-- Attachment #1: Type: text/plain, Size: 759 bytes --]
Test-Label: iol-mellanox-Functional
Test-Status: SUCCESS
http://dpdk.org/patch/88341
_Functional Testing PASS_
Submitter: Zhirun Yan <zhirun.yan@intel.com>
Date: Tuesday, March 02 2021 02:54:07
DPDK git baseline: Repo:dpdk
Branch: master
CommitID:52db57db0536bf20cbb50464ca4c18b0c9fde4e4
88336-88341 --> functional testing pass
Test environment and result as below:
Ubuntu 18.04 ARM
Kernel: 4.15.0-132-generic
Compiler: gcc 7.5
NIC: Arm Mellanox ConnectX-5 10000 Mbps
Target: x86_64-native-linuxapp-gcc
Fail/Total: 0/4
To view detailed results, visit:
https://lab.dpdk.org/results/dashboard/patchsets/15764/
UNH-IOL DPDK Community Lab
To manage your email subscriptions, visit:
https://lab.dpdk.org/results/dashboard/preferences/subscriptions/
^ permalink raw reply [flat|nested] 5+ messages in thread
* [dpdk-test-report] |SUCCESS| pw88336-88341 [PATCH] [v3, 6/6] net/ice: clean GTPU flow_type for FDIR
@ 2021-03-02 4:31 dpdklab
0 siblings, 0 replies; 5+ messages in thread
From: dpdklab @ 2021-03-02 4:31 UTC (permalink / raw)
To: Ali Alnubani, Test Report; +Cc: dpdk-test-reports
[-- Attachment #1: Type: text/plain, Size: 4842 bytes --]
Test-Label: iol-mellanox-Performance
Test-Status: SUCCESS
http://dpdk.org/patch/88341
_Performance Testing PASS_
Submitter: Zhirun Yan <zhirun.yan@intel.com>
Date: Tuesday, March 02 2021 02:54:07
DPDK git baseline: Repo:dpdk
Branch: master
CommitID:52db57db0536bf20cbb50464ca4c18b0c9fde4e4
88336-88341 --> performance testing pass
Test environment and result as below:
Ubuntu 18.04
Kernel: 4.15.0-generic
Compiler: gcc 7.4
NIC: Mellanox ConnectX-5 100000 Mbps
Target: x86_64-native-linuxapp-gcc
Fail/Total: 0/6
Detail performance results:
+------------+---------+-------------------------------------+
| frame_size | txd/rxd | throughput difference from expected |
+============+=========+=====================================+
| 64 | 256 | -0.08111% |
+------------+---------+-------------------------------------+
| 128 | 256 | -0.29633% |
+------------+---------+-------------------------------------+
| 256 | 256 | -0.07747% |
+------------+---------+-------------------------------------+
| 512 | 256 | -0.43452% |
+------------+---------+-------------------------------------+
| 1024 | 256 | 2.34206% |
+------------+---------+-------------------------------------+
| 1518 | 256 | -0.15285% |
+------------+---------+-------------------------------------+
Ubuntu 18.04
Kernel: 4.15.0-generic
Compiler: gcc 7.4
NIC: Mellanox ConnectX-4 Lx 25000 Mbps
Target: x86_64-native-linuxapp-gcc
Fail/Total: 0/6
Detail performance results:
+------------+---------+-------------------------------------+
| frame_size | txd/rxd | throughput difference from expected |
+============+=========+=====================================+
| 64 | 256 | 0.35874% |
+------------+---------+-------------------------------------+
| 128 | 256 | 0.26662% |
+------------+---------+-------------------------------------+
| 256 | 256 | 1.32746% |
+------------+---------+-------------------------------------+
| 512 | 256 | 0.52873% |
+------------+---------+-------------------------------------+
| 1024 | 256 | -0.234% |
+------------+---------+-------------------------------------+
| 1518 | 256 | 0.09877% |
+------------+---------+-------------------------------------+
Ubuntu 18.04
Kernel: 4.15.0-generic
Compiler: gcc 7.4
NIC: Mellanox ConnectX-4 Lx 40000 Mbps
Target: x86_64-native-linuxapp-gcc
Fail/Total: 0/6
Detail performance results:
+------------+---------+-------------------------------------+
| frame_size | txd/rxd | throughput difference from expected |
+============+=========+=====================================+
| 64 | 256 | 0.53908% |
+------------+---------+-------------------------------------+
| 128 | 256 | -0.26351% |
+------------+---------+-------------------------------------+
| 256 | 256 | -0.26274% |
+------------+---------+-------------------------------------+
| 512 | 256 | -0.01066% |
+------------+---------+-------------------------------------+
| 1024 | 256 | 0.01046% |
+------------+---------+-------------------------------------+
| 1518 | 256 | 0.44739% |
+------------+---------+-------------------------------------+
Ubuntu 18.04 ARM
Kernel: 4.15.0-132-generic
Compiler: gcc 7.5
NIC: Arm Mellanox ConnectX-5 10000 Mbps
Target: x86_64-native-linuxapp-gcc
Fail/Total: 0/4
Detail performance results:
+------------+---------+-------------------------------------+
| frame_size | txd/rxd | throughput difference from expected |
+============+=========+=====================================+
| 64 | 128 | -2.81557% |
+------------+---------+-------------------------------------+
| 64 | 256 | -2.97743% |
+------------+---------+-------------------------------------+
| 64 | 512 | -2.25912% |
+------------+---------+-------------------------------------+
| 64 | 2048 | -2.98227% |
+------------+---------+-------------------------------------+
To view detailed results, visit:
https://lab.dpdk.org/results/dashboard/patchsets/15764/
UNH-IOL DPDK Community Lab
To manage your email subscriptions, visit:
https://lab.dpdk.org/results/dashboard/preferences/subscriptions/
^ permalink raw reply [flat|nested] 5+ messages in thread
end of thread, other threads:[~2021-03-02 10:46 UTC | newest]
Thread overview: 5+ messages (download: mbox.gz / follow: Atom feed)
-- links below jump to the message on this page --
2021-03-02 4:38 [dpdk-test-report] |SUCCESS| pw88336-88341 [PATCH] [v3, 6/6] net/ice: clean GTPU flow_type for FDIR dpdklab
-- strict thread matches above, loose matches on Subject: below --
2021-03-02 10:46 dpdklab
2021-03-02 5:05 dpdklab
2021-03-02 4:34 dpdklab
2021-03-02 4:31 dpdklab
This is a public inbox, see mirroring instructions
for how to clone and mirror all data and code used for this inbox;
as well as URLs for NNTP newsgroup(s).