* [dpdk-test-report] |SUCCESS| pw88367-88366 [PATCH] [2/2] eal: rename key opaque pointer in TLS API
@ 2021-03-02 12:39 dpdklab
0 siblings, 0 replies; 5+ messages in thread
From: dpdklab @ 2021-03-02 12:39 UTC (permalink / raw)
To: Ali Alnubani, Test Report; +Cc: dpdk-test-reports
[-- Attachment #1: Type: text/plain, Size: 4844 bytes --]
Test-Label: iol-mellanox-Performance
Test-Status: SUCCESS
http://dpdk.org/patch/88366
_Performance Testing PASS_
Submitter: Tal Shnaiderman <talshn@nvidia.com>
Date: Tuesday, March 02 2021 11:24:53
DPDK git baseline: Repo:dpdk
Branch: master
CommitID:52db57db0536bf20cbb50464ca4c18b0c9fde4e4
88367-88366 --> performance testing pass
Test environment and result as below:
Ubuntu 18.04
Kernel: 4.15.0-generic
Compiler: gcc 7.4
NIC: Mellanox ConnectX-5 100000 Mbps
Target: x86_64-native-linuxapp-gcc
Fail/Total: 0/6
Detail performance results:
+------------+---------+-------------------------------------+
| frame_size | txd/rxd | throughput difference from expected |
+============+=========+=====================================+
| 64 | 256 | 0.23847% |
+------------+---------+-------------------------------------+
| 128 | 256 | 0.03313% |
+------------+---------+-------------------------------------+
| 256 | 256 | -0.005% |
+------------+---------+-------------------------------------+
| 512 | 256 | -0.47841% |
+------------+---------+-------------------------------------+
| 1024 | 256 | 2.42849% |
+------------+---------+-------------------------------------+
| 1518 | 256 | 0.0% |
+------------+---------+-------------------------------------+
Ubuntu 18.04
Kernel: 4.15.0-generic
Compiler: gcc 7.4
NIC: Mellanox ConnectX-4 Lx 25000 Mbps
Target: x86_64-native-linuxapp-gcc
Fail/Total: 0/6
Detail performance results:
+------------+---------+-------------------------------------+
| frame_size | txd/rxd | throughput difference from expected |
+============+=========+=====================================+
| 64 | 256 | -1.06774% |
+------------+---------+-------------------------------------+
| 128 | 256 | 0.47091% |
+------------+---------+-------------------------------------+
| 256 | 256 | -0.31057% |
+------------+---------+-------------------------------------+
| 512 | 256 | 0.5374% |
+------------+---------+-------------------------------------+
| 1024 | 256 | 0.05014% |
+------------+---------+-------------------------------------+
| 1518 | 256 | 0.24691% |
+------------+---------+-------------------------------------+
Ubuntu 18.04 ARM
Kernel: 4.15.0-132-generic
Compiler: gcc 7.5
NIC: Arm Mellanox ConnectX-5 10000 Mbps
Target: x86_64-native-linuxapp-gcc
Fail/Total: 0/4
Detail performance results:
+------------+---------+-------------------------------------+
| frame_size | txd/rxd | throughput difference from expected |
+============+=========+=====================================+
| 64 | 128 | -2.4911% |
+------------+---------+-------------------------------------+
| 64 | 256 | -3.24906% |
+------------+---------+-------------------------------------+
| 64 | 512 | -3.64611% |
+------------+---------+-------------------------------------+
| 64 | 2048 | -2.91971% |
+------------+---------+-------------------------------------+
Ubuntu 18.04
Kernel: 4.15.0-generic
Compiler: gcc 7.4
NIC: Mellanox ConnectX-4 Lx 40000 Mbps
Target: x86_64-native-linuxapp-gcc
Fail/Total: 0/6
Detail performance results:
+------------+---------+-------------------------------------+
| frame_size | txd/rxd | throughput difference from expected |
+============+=========+=====================================+
| 64 | 256 | 0.00567% |
+------------+---------+-------------------------------------+
| 128 | 256 | 1.37771% |
+------------+---------+-------------------------------------+
| 256 | 256 | -0.34668% |
+------------+---------+-------------------------------------+
| 512 | 256 | 0.1545% |
+------------+---------+-------------------------------------+
| 1024 | 256 | 0.15695% |
+------------+---------+-------------------------------------+
| 1518 | 256 | 0.04628% |
+------------+---------+-------------------------------------+
To view detailed results, visit:
https://lab.dpdk.org/results/dashboard/patchsets/15769/
UNH-IOL DPDK Community Lab
To manage your email subscriptions, visit:
https://lab.dpdk.org/results/dashboard/preferences/subscriptions/
^ permalink raw reply [flat|nested] 5+ messages in thread
* [dpdk-test-report] |SUCCESS| pw88367-88366 [PATCH] [2/2] eal: rename key opaque pointer in TLS API
@ 2021-03-02 14:30 dpdklab
0 siblings, 0 replies; 5+ messages in thread
From: dpdklab @ 2021-03-02 14:30 UTC (permalink / raw)
To: Test Report; +Cc: dpdk-test-reports
[-- Attachment #1: Type: text/plain, Size: 3302 bytes --]
Test-Label: iol-testing
Test-Status: SUCCESS
http://dpdk.org/patch/88366
_Testing PASS_
Submitter: Tal Shnaiderman <talshn@nvidia.com>
Date: Tuesday, March 02 2021 11:24:53
DPDK git baseline: Repo:dpdk
Branch: master
CommitID:52db57db0536bf20cbb50464ca4c18b0c9fde4e4
88367-88366 --> testing pass
Test environment and result as below:
+---------------------+----------------------+--------------------+-------------------+----------------+
| Environment | dpdk_mingw64_compile | dpdk_meson_compile | dpdk_compile_spdk | dpdk_unit_test |
+=====================+======================+====================+===================+================+
| Windows Server 2019 | PASS | PASS | SKIPPED | SKIPPED |
+---------------------+----------------------+--------------------+-------------------+----------------+
| Ubuntu 18.04 | SKIPPED | PASS | PASS | PASS |
+---------------------+----------------------+--------------------+-------------------+----------------+
| FreeBSD 11.2 | SKIPPED | PASS | SKIPPED | SKIPPED |
+---------------------+----------------------+--------------------+-------------------+----------------+
| CentOS 8 | SKIPPED | PASS | SKIPPED | SKIPPED |
+---------------------+----------------------+--------------------+-------------------+----------------+
| Fedora 31 | SKIPPED | PASS | PASS | SKIPPED |
+---------------------+----------------------+--------------------+-------------------+----------------+
| Fedora 32 | SKIPPED | PASS | SKIPPED | SKIPPED |
+---------------------+----------------------+--------------------+-------------------+----------------+
| openSUSE Leap 15 | SKIPPED | PASS | SKIPPED | SKIPPED |
+---------------------+----------------------+--------------------+-------------------+----------------+
| Arch Linux | SKIPPED | PASS | SKIPPED | SKIPPED |
+---------------------+----------------------+--------------------+-------------------+----------------+
| Ubuntu 18.04 ARM | SKIPPED | PASS | SKIPPED | PASS |
+---------------------+----------------------+--------------------+-------------------+----------------+
Windows Server 2019
Kernel: 10.0
Compiler: clang 9.0 and gcc 8.1.0 (MinGW)
Ubuntu 18.04
Kernel: 4.15.0-generic
Compiler: gcc 7.5
FreeBSD 11.2
Kernel: 11.2
Compiler: gcc 8.3
CentOS 8
Kernel: 4.18.0.el8_0
Compiler: gcc 8.3.1
Fedora 31
Kernel: 5.3.16
Compiler: gcc 9.2.1
Fedora 32
Kernel: 4.18.0-240.10.1.el8_3.x86_64
Compiler: gcc 10.2.1
openSUSE Leap 15
Kernel: 4.12.14
Compiler: gcc 7.4.1
Arch Linux
Kernel: latest
Compiler: gcc latest
Ubuntu 18.04 ARM
Kernel: 5.4.0-53-generic
Compiler: gcc 9.3
To view detailed results, visit:
https://lab.dpdk.org/results/dashboard/patchsets/15769/
UNH-IOL DPDK Community Lab
To manage your email subscriptions, visit:
https://lab.dpdk.org/results/dashboard/preferences/subscriptions/
^ permalink raw reply [flat|nested] 5+ messages in thread
* [dpdk-test-report] |SUCCESS| pw88367-88366 [PATCH] [2/2] eal: rename key opaque pointer in TLS API
@ 2021-03-02 13:25 dpdklab
0 siblings, 0 replies; 5+ messages in thread
From: dpdklab @ 2021-03-02 13:25 UTC (permalink / raw)
To: Test Report; +Cc: dpdk-test-reports
[-- Attachment #1: Type: text/plain, Size: 922 bytes --]
Test-Label: iol-abi-testing
Test-Status: SUCCESS
http://dpdk.org/patch/88366
_Testing PASS_
Submitter: Tal Shnaiderman <talshn@nvidia.com>
Date: Tuesday, March 02 2021 11:24:53
DPDK git baseline: Repo:dpdk
Branch: master
CommitID:52db57db0536bf20cbb50464ca4c18b0c9fde4e4
88367-88366 --> testing pass
Test environment and result as below:
+------------------+----------+
| Environment | abi_test |
+==================+==========+
| Ubuntu 18.04 | PASS |
+------------------+----------+
| Ubuntu 18.04 ARM | PASS |
+------------------+----------+
Ubuntu 18.04
Kernel: 4.15.0-generic
Compiler: gcc 7.5
Ubuntu 18.04 ARM
Kernel: 5.4.0-53-generic
Compiler: gcc 9.3
To view detailed results, visit:
https://lab.dpdk.org/results/dashboard/patchsets/15769/
UNH-IOL DPDK Community Lab
To manage your email subscriptions, visit:
https://lab.dpdk.org/results/dashboard/preferences/subscriptions/
^ permalink raw reply [flat|nested] 5+ messages in thread
* [dpdk-test-report] |SUCCESS| pw88367-88366 [PATCH] [2/2] eal: rename key opaque pointer in TLS API
@ 2021-03-02 12:54 dpdklab
0 siblings, 0 replies; 5+ messages in thread
From: dpdklab @ 2021-03-02 12:54 UTC (permalink / raw)
To: Test Report; +Cc: dpdk-test-reports
[-- Attachment #1: Type: text/plain, Size: 2586 bytes --]
Test-Label: iol-intel-Performance
Test-Status: SUCCESS
http://dpdk.org/patch/88366
_Performance Testing PASS_
Submitter: Tal Shnaiderman <talshn@nvidia.com>
Date: Tuesday, March 02 2021 11:24:53
DPDK git baseline: Repo:dpdk
Branch: master
CommitID:52db57db0536bf20cbb50464ca4c18b0c9fde4e4
88367-88366 --> performance testing pass
Test environment and result as below:
Ubuntu 18.04
Kernel: 4.15.0-generic
Compiler: gcc 7.4
NIC: Intel Corporation Ethernet Converged Network Adapter 82599ES 10000 Mbps
Target: x86_64-native-linuxapp-gcc
Fail/Total: 0/2
Detail performance results:
+------------+---------+-------------------------------------+
| frame_size | txd/rxd | throughput difference from expected |
+============+=========+=====================================+
| 64 | 512 | 2.64314% |
+------------+---------+-------------------------------------+
| 64 | 2048 | 1.41917% |
+------------+---------+-------------------------------------+
Ubuntu 18.04
Kernel: 4.15.0-generic
Compiler: gcc 7.4
NIC: Intel Corporation Ethernet Converged Network Adapter XL710-QDA2 40000 Mbps
Target: x86_64-native-linuxapp-gcc
Fail/Total: 0/2
Detail performance results:
+------------+---------+-------------------------------------+
| frame_size | txd/rxd | throughput difference from expected |
+============+=========+=====================================+
| 64 | 512 | 5.23057% |
+------------+---------+-------------------------------------+
| 64 | 2048 | 4.87866% |
+------------+---------+-------------------------------------+
Ubuntu 18.04 ARM
Kernel: 4.15.0-132-generic
Compiler: gcc 7.5
NIC: Arm Intel Corporation Ethernet Converged Network Adapter XL710-QDA2 40000 Mbps
Target: x86_64-native-linuxapp-gcc
Fail/Total: 0/2
Detail performance results:
+------------+---------+-------------------------------------+
| frame_size | txd/rxd | throughput difference from expected |
+============+=========+=====================================+
| 64 | 512 | -2.09409% |
+------------+---------+-------------------------------------+
| 64 | 2048 | -2.29965% |
+------------+---------+-------------------------------------+
To view detailed results, visit:
https://lab.dpdk.org/results/dashboard/patchsets/15769/
UNH-IOL DPDK Community Lab
To manage your email subscriptions, visit:
https://lab.dpdk.org/results/dashboard/preferences/subscriptions/
^ permalink raw reply [flat|nested] 5+ messages in thread
* [dpdk-test-report] |SUCCESS| pw88367-88366 [PATCH] [2/2] eal: rename key opaque pointer in TLS API
@ 2021-03-02 12:47 dpdklab
0 siblings, 0 replies; 5+ messages in thread
From: dpdklab @ 2021-03-02 12:47 UTC (permalink / raw)
To: Ali Alnubani, Test Report; +Cc: dpdk-test-reports
[-- Attachment #1: Type: text/plain, Size: 761 bytes --]
Test-Label: iol-mellanox-Functional
Test-Status: SUCCESS
http://dpdk.org/patch/88366
_Functional Testing PASS_
Submitter: Tal Shnaiderman <talshn@nvidia.com>
Date: Tuesday, March 02 2021 11:24:53
DPDK git baseline: Repo:dpdk
Branch: master
CommitID:52db57db0536bf20cbb50464ca4c18b0c9fde4e4
88367-88366 --> functional testing pass
Test environment and result as below:
Ubuntu 18.04 ARM
Kernel: 4.15.0-132-generic
Compiler: gcc 7.5
NIC: Arm Mellanox ConnectX-5 10000 Mbps
Target: x86_64-native-linuxapp-gcc
Fail/Total: 0/4
To view detailed results, visit:
https://lab.dpdk.org/results/dashboard/patchsets/15769/
UNH-IOL DPDK Community Lab
To manage your email subscriptions, visit:
https://lab.dpdk.org/results/dashboard/preferences/subscriptions/
^ permalink raw reply [flat|nested] 5+ messages in thread
end of thread, other threads:[~2021-03-02 14:30 UTC | newest]
Thread overview: 5+ messages (download: mbox.gz / follow: Atom feed)
-- links below jump to the message on this page --
2021-03-02 12:39 [dpdk-test-report] |SUCCESS| pw88367-88366 [PATCH] [2/2] eal: rename key opaque pointer in TLS API dpdklab
2021-03-02 12:47 dpdklab
2021-03-02 12:54 dpdklab
2021-03-02 13:25 dpdklab
2021-03-02 14:30 dpdklab
This is a public inbox, see mirroring instructions
for how to clone and mirror all data and code used for this inbox;
as well as URLs for NNTP newsgroup(s).