[-- Attachment #1: Type: text/plain, Size: 1917 bytes --] Test-Label: iol-intel-Performance Test-Status: SUCCESS http://dpdk.org/patch/88396 _Performance Testing PASS_ Submitter: Tal Shnaiderman <talshn@nvidia.com> Date: Tuesday, March 02 2021 15:26:58 DPDK git baseline: Repo:dpdk Branch: master CommitID:52db57db0536bf20cbb50464ca4c18b0c9fde4e4 88395-88396 --> performance testing pass Test environment and result as below: Ubuntu 18.04 Kernel: 4.15.0-generic Compiler: gcc 7.4 NIC: Intel Corporation Ethernet Converged Network Adapter 82599ES 10000 Mbps Target: x86_64-native-linuxapp-gcc Fail/Total: 0/2 Detail performance results: +------------+---------+-------------------------------------+ | frame_size | txd/rxd | throughput difference from expected | +============+=========+=====================================+ | 64 | 512 | 2.45968% | +------------+---------+-------------------------------------+ | 64 | 2048 | 2.05981% | +------------+---------+-------------------------------------+ Ubuntu 18.04 Kernel: 4.15.0-generic Compiler: gcc 7.4 NIC: Intel Corporation Ethernet Converged Network Adapter XL710-QDA2 40000 Mbps Target: x86_64-native-linuxapp-gcc Fail/Total: 0/2 Detail performance results: +------------+---------+-------------------------------------+ | frame_size | txd/rxd | throughput difference from expected | +============+=========+=====================================+ | 64 | 512 | 4.81117% | +------------+---------+-------------------------------------+ | 64 | 2048 | 4.57686% | +------------+---------+-------------------------------------+ To view detailed results, visit: https://lab.dpdk.org/results/dashboard/patchsets/15781/ UNH-IOL DPDK Community Lab To manage your email subscriptions, visit: https://lab.dpdk.org/results/dashboard/preferences/subscriptions/
[-- Attachment #1: Type: text/plain, Size: 2847 bytes --] Test-Label: iol-mellanox-Performance Test-Status: SUCCESS http://dpdk.org/patch/88396 _Performance Testing PASS_ Submitter: Tal Shnaiderman <talshn@nvidia.com> Date: Tuesday, March 02 2021 15:26:58 DPDK git baseline: Repo:dpdk Branch: master CommitID:52db57db0536bf20cbb50464ca4c18b0c9fde4e4 88395-88396 --> performance testing pass Test environment and result as below: Ubuntu 18.04 Kernel: 4.15.0-generic Compiler: gcc 7.4 NIC: Mellanox ConnectX-5 100000 Mbps Target: x86_64-native-linuxapp-gcc Fail/Total: 0/6 Detail performance results: +------------+---------+-------------------------------------+ | frame_size | txd/rxd | throughput difference from expected | +============+=========+=====================================+ | 64 | 256 | 0.39907% | +------------+---------+-------------------------------------+ | 128 | 256 | -0.3994% | +------------+---------+-------------------------------------+ | 256 | 256 | -0.19991% | +------------+---------+-------------------------------------+ | 512 | 256 | -0.54863% | +------------+---------+-------------------------------------+ | 1024 | 256 | 2.61862% | +------------+---------+-------------------------------------+ | 1518 | 256 | -0.01176% | +------------+---------+-------------------------------------+ Ubuntu 18.04 Kernel: 4.15.0-generic Compiler: gcc 7.4 NIC: Mellanox ConnectX-4 Lx 25000 Mbps Target: x86_64-native-linuxapp-gcc Fail/Total: 0/6 Detail performance results: +------------+---------+-------------------------------------+ | frame_size | txd/rxd | throughput difference from expected | +============+=========+=====================================+ | 64 | 256 | -0.64121% | +------------+---------+-------------------------------------+ | 128 | 256 | 0.06233% | +------------+---------+-------------------------------------+ | 256 | 256 | 0.78645% | +------------+---------+-------------------------------------+ | 512 | 256 | 1.3435% | +------------+---------+-------------------------------------+ | 1024 | 256 | -0.10028% | +------------+---------+-------------------------------------+ | 1518 | 256 | 0.2963% | +------------+---------+-------------------------------------+ To view detailed results, visit: https://lab.dpdk.org/results/dashboard/patchsets/15781/ UNH-IOL DPDK Community Lab To manage your email subscriptions, visit: https://lab.dpdk.org/results/dashboard/preferences/subscriptions/
[-- Attachment #1: Type: text/plain, Size: 3302 bytes --] Test-Label: iol-testing Test-Status: SUCCESS http://dpdk.org/patch/88396 _Testing PASS_ Submitter: Tal Shnaiderman <talshn@nvidia.com> Date: Tuesday, March 02 2021 15:26:58 DPDK git baseline: Repo:dpdk Branch: master CommitID:52db57db0536bf20cbb50464ca4c18b0c9fde4e4 88395-88396 --> testing pass Test environment and result as below: +---------------------+----------------------+--------------------+-------------------+----------------+ | Environment | dpdk_mingw64_compile | dpdk_meson_compile | dpdk_compile_spdk | dpdk_unit_test | +=====================+======================+====================+===================+================+ | Windows Server 2019 | PASS | PASS | SKIPPED | SKIPPED | +---------------------+----------------------+--------------------+-------------------+----------------+ | Ubuntu 18.04 | SKIPPED | PASS | PASS | PASS | +---------------------+----------------------+--------------------+-------------------+----------------+ | FreeBSD 11.2 | SKIPPED | PASS | SKIPPED | SKIPPED | +---------------------+----------------------+--------------------+-------------------+----------------+ | CentOS 8 | SKIPPED | PASS | SKIPPED | SKIPPED | +---------------------+----------------------+--------------------+-------------------+----------------+ | openSUSE Leap 15 | SKIPPED | PASS | SKIPPED | SKIPPED | +---------------------+----------------------+--------------------+-------------------+----------------+ | Ubuntu 18.04 ARM | SKIPPED | PASS | SKIPPED | PASS | +---------------------+----------------------+--------------------+-------------------+----------------+ | Arch Linux | SKIPPED | PASS | SKIPPED | SKIPPED | +---------------------+----------------------+--------------------+-------------------+----------------+ | Fedora 31 | SKIPPED | PASS | PASS | SKIPPED | +---------------------+----------------------+--------------------+-------------------+----------------+ | Fedora 32 | SKIPPED | PASS | SKIPPED | SKIPPED | +---------------------+----------------------+--------------------+-------------------+----------------+ Windows Server 2019 Kernel: 10.0 Compiler: clang 9.0 and gcc 8.1.0 (MinGW) Ubuntu 18.04 Kernel: 4.15.0-generic Compiler: gcc 7.5 FreeBSD 11.2 Kernel: 11.2 Compiler: gcc 8.3 CentOS 8 Kernel: 4.18.0.el8_0 Compiler: gcc 8.3.1 openSUSE Leap 15 Kernel: 4.12.14 Compiler: gcc 7.4.1 Ubuntu 18.04 ARM Kernel: 5.4.0-53-generic Compiler: gcc 9.3 Arch Linux Kernel: latest Compiler: gcc latest Fedora 31 Kernel: 5.3.16 Compiler: gcc 9.2.1 Fedora 32 Kernel: 4.18.0-240.10.1.el8_3.x86_64 Compiler: gcc 10.2.1 To view detailed results, visit: https://lab.dpdk.org/results/dashboard/patchsets/15781/ UNH-IOL DPDK Community Lab To manage your email subscriptions, visit: https://lab.dpdk.org/results/dashboard/preferences/subscriptions/
[-- Attachment #1: Type: text/plain, Size: 3967 bytes --] Test-Label: iol-mellanox-Performance Test-Status: SUCCESS http://dpdk.org/patch/88396 _Performance Testing PASS_ Submitter: Tal Shnaiderman <talshn@nvidia.com> Date: Tuesday, March 02 2021 15:26:58 DPDK git baseline: Repo:dpdk Branch: master CommitID:52db57db0536bf20cbb50464ca4c18b0c9fde4e4 88395-88396 --> performance testing pass Test environment and result as below: Ubuntu 18.04 Kernel: 4.15.0-generic Compiler: gcc 7.4 NIC: Mellanox ConnectX-5 100000 Mbps Target: x86_64-native-linuxapp-gcc Fail/Total: 0/6 Detail performance results: +------------+---------+-------------------------------------+ | frame_size | txd/rxd | throughput difference from expected | +============+=========+=====================================+ | 64 | 256 | 0.39907% | +------------+---------+-------------------------------------+ | 128 | 256 | -0.3994% | +------------+---------+-------------------------------------+ | 256 | 256 | -0.19991% | +------------+---------+-------------------------------------+ | 512 | 256 | -0.54863% | +------------+---------+-------------------------------------+ | 1024 | 256 | 2.61862% | +------------+---------+-------------------------------------+ | 1518 | 256 | -0.01176% | +------------+---------+-------------------------------------+ Ubuntu 18.04 Kernel: 4.15.0-generic Compiler: gcc 7.4 NIC: Mellanox ConnectX-4 Lx 25000 Mbps Target: x86_64-native-linuxapp-gcc Fail/Total: 0/6 Detail performance results: +------------+---------+-------------------------------------+ | frame_size | txd/rxd | throughput difference from expected | +============+=========+=====================================+ | 64 | 256 | -0.64121% | +------------+---------+-------------------------------------+ | 128 | 256 | 0.06233% | +------------+---------+-------------------------------------+ | 256 | 256 | 0.78645% | +------------+---------+-------------------------------------+ | 512 | 256 | 1.3435% | +------------+---------+-------------------------------------+ | 1024 | 256 | -0.10028% | +------------+---------+-------------------------------------+ | 1518 | 256 | 0.2963% | +------------+---------+-------------------------------------+ Ubuntu 18.04 Kernel: 4.15.0-generic Compiler: gcc 7.4 NIC: Mellanox ConnectX-4 Lx 40000 Mbps Target: x86_64-native-linuxapp-gcc Fail/Total: 0/6 Detail performance results: +------------+---------+-------------------------------------+ | frame_size | txd/rxd | throughput difference from expected | +============+=========+=====================================+ | 64 | 256 | 0.55043% | +------------+---------+-------------------------------------+ | 128 | 256 | 0.13176% | +------------+---------+-------------------------------------+ | 256 | 256 | 0.2372% | +------------+---------+-------------------------------------+ | 512 | 256 | -0.1918% | +------------+---------+-------------------------------------+ | 1024 | 256 | 0.13603% | +------------+---------+-------------------------------------+ | 1518 | 256 | 0.09256% | +------------+---------+-------------------------------------+ To view detailed results, visit: https://lab.dpdk.org/results/dashboard/patchsets/15781/ UNH-IOL DPDK Community Lab To manage your email subscriptions, visit: https://lab.dpdk.org/results/dashboard/preferences/subscriptions/