[-- Attachment #1: Type: text/plain, Size: 2374 bytes --] _Performance Testing PASS_ Branch: dpdk-next-net-intel abc0543ec4d9f8968361f6e5296ec322320683ae --> performance testing pass Test environment and result as below: Ubuntu 18.04 Kernel: 4.15.0-generic Compiler: gcc 7.4 NIC: Intel Corporation Ethernet Converged Network Adapter 82599ES 10000 Mbps Target: x86_64-native-linuxapp-gcc Fail/Total: 0/2 Detail performance results: +------------+---------+-------------------------------------+ | frame_size | txd/rxd | throughput difference from expected | +============+=========+=====================================+ | 64 | 512 | 3.34073% | +------------+---------+-------------------------------------+ | 64 | 2048 | 2.29538% | +------------+---------+-------------------------------------+ Ubuntu 18.04 Kernel: 4.15.0-generic Compiler: gcc 7.4 NIC: Intel Corporation Ethernet Converged Network Adapter XL710-QDA2 40000 Mbps Target: x86_64-native-linuxapp-gcc Fail/Total: 0/2 Detail performance results: +------------+---------+-------------------------------------+ | frame_size | txd/rxd | throughput difference from expected | +============+=========+=====================================+ | 64 | 512 | 5.59406% | +------------+---------+-------------------------------------+ | 64 | 2048 | 5.07819% | +------------+---------+-------------------------------------+ Ubuntu 18.04 ARM Kernel: 4.15.0-132-generic Compiler: gcc 7.5 NIC: Arm Intel Corporation Ethernet Converged Network Adapter XL710-QDA2 40000 Mbps Target: x86_64-native-linuxapp-gcc Fail/Total: 0/2 Detail performance results: +------------+---------+-------------------------------------+ | frame_size | txd/rxd | throughput difference from expected | +============+=========+=====================================+ | 64 | 512 | -2.31746% | +------------+---------+-------------------------------------+ | 64 | 2048 | -2.14634% | +------------+---------+-------------------------------------+ To view detailed results, visit: https://lab.dpdk.org/results/dashboard/tarballs/13932/ UNH-IOL DPDK Community Lab To manage your email subscriptions, visit: https://lab.dpdk.org/results/dashboard/preferences/subscriptions/
[-- Attachment #1: Type: text/plain, Size: 4629 bytes --] _Performance Testing PASS_ Branch: dpdk-next-net-intel abc0543ec4d9f8968361f6e5296ec322320683ae --> performance testing pass Test environment and result as below: Ubuntu 18.04 ARM Kernel: 4.15.0-132-generic Compiler: gcc 7.5 NIC: Arm Mellanox ConnectX-5 10000 Mbps Target: x86_64-native-linuxapp-gcc Fail/Total: 0/4 Detail performance results: +------------+---------+-------------------------------------+ | frame_size | txd/rxd | throughput difference from expected | +============+=========+=====================================+ | 64 | 128 | -2.57484% | +------------+---------+-------------------------------------+ | 64 | 256 | -3.07146% | +------------+---------+-------------------------------------+ | 64 | 512 | -1.66019% | +------------+---------+-------------------------------------+ | 64 | 2048 | -2.94056% | +------------+---------+-------------------------------------+ Ubuntu 18.04 Kernel: 4.15.0-generic Compiler: gcc 7.4 NIC: Mellanox ConnectX-5 100000 Mbps Target: x86_64-native-linuxapp-gcc Fail/Total: 0/6 Detail performance results: +------------+---------+-------------------------------------+ | frame_size | txd/rxd | throughput difference from expected | +============+=========+=====================================+ | 64 | 256 | -0.46034% | +------------+---------+-------------------------------------+ | 128 | 256 | -0.42086% | +------------+---------+-------------------------------------+ | 256 | 256 | -0.06745% | +------------+---------+-------------------------------------+ | 512 | 256 | 0.47372% | +------------+---------+-------------------------------------+ | 1024 | 256 | 0.8689% | +------------+---------+-------------------------------------+ | 1518 | 256 | -0.08236% | +------------+---------+-------------------------------------+ Ubuntu 18.04 Kernel: 4.15.0-generic Compiler: gcc 7.4 NIC: Mellanox ConnectX-4 Lx 25000 Mbps Target: x86_64-native-linuxapp-gcc Fail/Total: 0/6 Detail performance results: +------------+---------+-------------------------------------+ | frame_size | txd/rxd | throughput difference from expected | +============+=========+=====================================+ | 64 | 256 | 0.4672% | +------------+---------+-------------------------------------+ | 128 | 256 | 0.00346% | +------------+---------+-------------------------------------+ | 256 | 256 | 0.93406% | +------------+---------+-------------------------------------+ | 512 | 256 | 0.05117% | +------------+---------+-------------------------------------+ | 1024 | 256 | 0.1841% | +------------+---------+-------------------------------------+ | 1518 | 256 | 0.2714% | +------------+---------+-------------------------------------+ Ubuntu 18.04 Kernel: 4.15.0-generic Compiler: gcc 7.4 NIC: Mellanox ConnectX-4 Lx 40000 Mbps Target: x86_64-native-linuxapp-gcc Fail/Total: 0/6 Detail performance results: +------------+---------+-------------------------------------+ | frame_size | txd/rxd | throughput difference from expected | +============+=========+=====================================+ | 64 | 256 | -0.48236% | +------------+---------+-------------------------------------+ | 128 | 256 | 2.0837% | +------------+---------+-------------------------------------+ | 256 | 256 | 0.17554% | +------------+---------+-------------------------------------+ | 512 | 256 | 0.00533% | +------------+---------+-------------------------------------+ | 1024 | 256 | -0.18791% | +------------+---------+-------------------------------------+ | 1518 | 256 | -0.01538% | +------------+---------+-------------------------------------+ To view detailed results, visit: https://lab.dpdk.org/results/dashboard/tarballs/13932/ UNH-IOL DPDK Community Lab To manage your email subscriptions, visit: https://lab.dpdk.org/results/dashboard/preferences/subscriptions/
[-- Attachment #1: Type: text/plain, Size: 3708 bytes --] _Testing PASS_ Branch: dpdk-next-net-intel abc0543ec4d9f8968361f6e5296ec322320683ae --> testing pass Test environment and result as below: +---------------------+----------------------+--------------------+-------------------+----------------+ | Environment | dpdk_mingw64_compile | dpdk_meson_compile | dpdk_compile_spdk | dpdk_unit_test | +=====================+======================+====================+===================+================+ | Windows Server 2019 | PASS | PASS | SKIPPED | SKIPPED | +---------------------+----------------------+--------------------+-------------------+----------------+ | Ubuntu 18.04 | SKIPPED | PASS | PASS | PASS | +---------------------+----------------------+--------------------+-------------------+----------------+ | Fedora 32 | SKIPPED | PASS | SKIPPED | SKIPPED | +---------------------+----------------------+--------------------+-------------------+----------------+ | FreeBSD 11.2 | SKIPPED | PASS | SKIPPED | SKIPPED | +---------------------+----------------------+--------------------+-------------------+----------------+ | RHEL 7 | SKIPPED | PASS | SKIPPED | SKIPPED | +---------------------+----------------------+--------------------+-------------------+----------------+ | CentOS 8 | SKIPPED | PASS | SKIPPED | SKIPPED | +---------------------+----------------------+--------------------+-------------------+----------------+ | RHEL8 | SKIPPED | PASS | SKIPPED | SKIPPED | +---------------------+----------------------+--------------------+-------------------+----------------+ | openSUSE Leap 15 | SKIPPED | PASS | SKIPPED | SKIPPED | +---------------------+----------------------+--------------------+-------------------+----------------+ | Arch Linux | SKIPPED | PASS | SKIPPED | SKIPPED | +---------------------+----------------------+--------------------+-------------------+----------------+ | Fedora 31 | SKIPPED | PASS | PASS | SKIPPED | +---------------------+----------------------+--------------------+-------------------+----------------+ | Ubuntu 18.04 ARM | SKIPPED | PASS | SKIPPED | PASS | +---------------------+----------------------+--------------------+-------------------+----------------+ Windows Server 2019 Kernel: 10.0 Compiler: clang 9.0 and gcc 8.1.0 (MinGW) Ubuntu 18.04 Kernel: 4.15.0-generic Compiler: gcc 7.5 Fedora 32 Kernel: 4.18.0-240.10.1.el8_3.x86_64 Compiler: gcc 10.2.1 FreeBSD 11.2 Kernel: 11.2 Compiler: gcc 8.3 RHEL 7 Kernel: 4.18.0-240.10.1.el8_3.x86_64 Compiler: gcc 4.8.5 20150623 (Red Hat 4.8.5-44) CentOS 8 Kernel: 4.18.0.el8_0 Compiler: gcc 8.3.1 RHEL8 Kernel: 4.18.0-240.10.1.el8_3.x86_64 Compiler: gcc 8.3.1 20191121 (Red Hat 8.3.1-5) openSUSE Leap 15 Kernel: 4.12.14 Compiler: gcc 7.4.1 Arch Linux Kernel: latest Compiler: gcc latest Fedora 31 Kernel: 5.3.16 Compiler: gcc 9.2.1 Ubuntu 18.04 ARM Kernel: 5.4.0-53-generic Compiler: gcc 9.3 To view detailed results, visit: https://lab.dpdk.org/results/dashboard/tarballs/13932/ UNH-IOL DPDK Community Lab To manage your email subscriptions, visit: https://lab.dpdk.org/results/dashboard/preferences/subscriptions/