* [dpdk-test-report] |SUCCESS| pw88470-88478 [PATCH] [v8, 9/9] kvargs: update parser to support lists
@ 2021-03-04 16:59 dpdklab
0 siblings, 0 replies; 5+ messages in thread
From: dpdklab @ 2021-03-04 16:59 UTC (permalink / raw)
To: Test Report; +Cc: dpdk-test-reports
[-- Attachment #1: Type: text/plain, Size: 3908 bytes --]
Test-Label: iol-testing
Test-Status: SUCCESS
http://dpdk.org/patch/88478
_Testing PASS_
Submitter: Xueming Li <xuemingl@nvidia.com>
Date: Thursday, March 04 2021 14:30:25
DPDK git baseline: Repo:dpdk
Branch: master
CommitID:44db5a5cf23f6157448fdb692efab605544762f3
88470-88478 --> testing pass
Test environment and result as below:
+---------------------+----------------------+--------------------+-------------------+----------------+
| Environment | dpdk_mingw64_compile | dpdk_meson_compile | dpdk_compile_spdk | dpdk_unit_test |
+=====================+======================+====================+===================+================+
| Windows Server 2019 | PASS | PASS | SKIPPED | SKIPPED |
+---------------------+----------------------+--------------------+-------------------+----------------+
| FreeBSD 11.2 | SKIPPED | PASS | SKIPPED | SKIPPED |
+---------------------+----------------------+--------------------+-------------------+----------------+
| CentOS 8 | SKIPPED | PASS | SKIPPED | SKIPPED |
+---------------------+----------------------+--------------------+-------------------+----------------+
| openSUSE Leap 15 | SKIPPED | PASS | SKIPPED | SKIPPED |
+---------------------+----------------------+--------------------+-------------------+----------------+
| Arch Linux | SKIPPED | PASS | SKIPPED | SKIPPED |
+---------------------+----------------------+--------------------+-------------------+----------------+
| Fedora 31 | SKIPPED | PASS | PASS | SKIPPED |
+---------------------+----------------------+--------------------+-------------------+----------------+
| Ubuntu 18.04 | SKIPPED | PASS | PASS | PASS |
+---------------------+----------------------+--------------------+-------------------+----------------+
| Fedora 32 | SKIPPED | PASS | SKIPPED | SKIPPED |
+---------------------+----------------------+--------------------+-------------------+----------------+
| RHEL 7 | SKIPPED | PASS | SKIPPED | SKIPPED |
+---------------------+----------------------+--------------------+-------------------+----------------+
| RHEL8 | SKIPPED | PASS | SKIPPED | SKIPPED |
+---------------------+----------------------+--------------------+-------------------+----------------+
| Ubuntu 18.04 ARM | SKIPPED | PASS | SKIPPED | PASS |
+---------------------+----------------------+--------------------+-------------------+----------------+
Windows Server 2019
Kernel: 10.0
Compiler: clang 9.0 and gcc 8.1.0 (MinGW)
FreeBSD 11.2
Kernel: 11.2
Compiler: gcc 8.3
CentOS 8
Kernel: 4.18.0.el8_0
Compiler: gcc 8.3.1
openSUSE Leap 15
Kernel: 4.12.14
Compiler: gcc 7.4.1
Arch Linux
Kernel: latest
Compiler: gcc latest
Fedora 31
Kernel: 5.3.16
Compiler: gcc 9.2.1
Ubuntu 18.04
Kernel: 4.15.0-generic
Compiler: gcc 7.5
Fedora 32
Kernel: 4.18.0-240.10.1.el8_3.x86_64
Compiler: gcc 10.2.1
RHEL 7
Kernel: 4.18.0-240.10.1.el8_3.x86_64
Compiler: gcc 4.8.5 20150623 (Red Hat 4.8.5-44)
RHEL8
Kernel: 4.18.0-240.10.1.el8_3.x86_64
Compiler: gcc 8.3.1 20191121 (Red Hat 8.3.1-5)
Ubuntu 18.04 ARM
Kernel: 5.4.0-53-generic
Compiler: gcc 9.3
To view detailed results, visit:
https://lab.dpdk.org/results/dashboard/patchsets/15800/
UNH-IOL DPDK Community Lab
To manage your email subscriptions, visit:
https://lab.dpdk.org/results/dashboard/preferences/subscriptions/
^ permalink raw reply [flat|nested] 5+ messages in thread
* [dpdk-test-report] |SUCCESS| pw88470-88478 [PATCH] [v8, 9/9] kvargs: update parser to support lists
@ 2021-03-04 16:59 dpdklab
0 siblings, 0 replies; 5+ messages in thread
From: dpdklab @ 2021-03-04 16:59 UTC (permalink / raw)
To: Test Report; +Cc: dpdk-test-reports
[-- Attachment #1: Type: text/plain, Size: 920 bytes --]
Test-Label: iol-abi-testing
Test-Status: SUCCESS
http://dpdk.org/patch/88478
_Testing PASS_
Submitter: Xueming Li <xuemingl@nvidia.com>
Date: Thursday, March 04 2021 14:30:25
DPDK git baseline: Repo:dpdk
Branch: master
CommitID:44db5a5cf23f6157448fdb692efab605544762f3
88470-88478 --> testing pass
Test environment and result as below:
+------------------+----------+
| Environment | abi_test |
+==================+==========+
| Ubuntu 18.04 | PASS |
+------------------+----------+
| Ubuntu 18.04 ARM | PASS |
+------------------+----------+
Ubuntu 18.04
Kernel: 4.15.0-generic
Compiler: gcc 7.5
Ubuntu 18.04 ARM
Kernel: 5.4.0-53-generic
Compiler: gcc 9.3
To view detailed results, visit:
https://lab.dpdk.org/results/dashboard/patchsets/15800/
UNH-IOL DPDK Community Lab
To manage your email subscriptions, visit:
https://lab.dpdk.org/results/dashboard/preferences/subscriptions/
^ permalink raw reply [flat|nested] 5+ messages in thread
* [dpdk-test-report] |SUCCESS| pw88470-88478 [PATCH] [v8, 9/9] kvargs: update parser to support lists
@ 2021-03-04 16:00 dpdklab
0 siblings, 0 replies; 5+ messages in thread
From: dpdklab @ 2021-03-04 16:00 UTC (permalink / raw)
To: Ali Alnubani, Test Report; +Cc: dpdk-test-reports
[-- Attachment #1: Type: text/plain, Size: 759 bytes --]
Test-Label: iol-mellanox-Functional
Test-Status: SUCCESS
http://dpdk.org/patch/88478
_Functional Testing PASS_
Submitter: Xueming Li <xuemingl@nvidia.com>
Date: Thursday, March 04 2021 14:30:25
DPDK git baseline: Repo:dpdk
Branch: master
CommitID:44db5a5cf23f6157448fdb692efab605544762f3
88470-88478 --> functional testing pass
Test environment and result as below:
Ubuntu 18.04 ARM
Kernel: 4.15.0-132-generic
Compiler: gcc 7.5
NIC: Arm Mellanox ConnectX-5 10000 Mbps
Target: x86_64-native-linuxapp-gcc
Fail/Total: 0/4
To view detailed results, visit:
https://lab.dpdk.org/results/dashboard/patchsets/15800/
UNH-IOL DPDK Community Lab
To manage your email subscriptions, visit:
https://lab.dpdk.org/results/dashboard/preferences/subscriptions/
^ permalink raw reply [flat|nested] 5+ messages in thread
* [dpdk-test-report] |SUCCESS| pw88470-88478 [PATCH] [v8, 9/9] kvargs: update parser to support lists
@ 2021-03-04 15:46 dpdklab
0 siblings, 0 replies; 5+ messages in thread
From: dpdklab @ 2021-03-04 15:46 UTC (permalink / raw)
To: Test Report; +Cc: dpdk-test-reports
[-- Attachment #1: Type: text/plain, Size: 2584 bytes --]
Test-Label: iol-intel-Performance
Test-Status: SUCCESS
http://dpdk.org/patch/88478
_Performance Testing PASS_
Submitter: Xueming Li <xuemingl@nvidia.com>
Date: Thursday, March 04 2021 14:30:25
DPDK git baseline: Repo:dpdk
Branch: master
CommitID:44db5a5cf23f6157448fdb692efab605544762f3
88470-88478 --> performance testing pass
Test environment and result as below:
Ubuntu 18.04
Kernel: 4.15.0-generic
Compiler: gcc 7.4
NIC: Intel Corporation Ethernet Converged Network Adapter 82599ES 10000 Mbps
Target: x86_64-native-linuxapp-gcc
Fail/Total: 0/2
Detail performance results:
+------------+---------+-------------------------------------+
| frame_size | txd/rxd | throughput difference from expected |
+============+=========+=====================================+
| 64 | 512 | 3.39509% |
+------------+---------+-------------------------------------+
| 64 | 2048 | 2.45052% |
+------------+---------+-------------------------------------+
Ubuntu 18.04
Kernel: 4.15.0-generic
Compiler: gcc 7.4
NIC: Intel Corporation Ethernet Converged Network Adapter XL710-QDA2 40000 Mbps
Target: x86_64-native-linuxapp-gcc
Fail/Total: 0/2
Detail performance results:
+------------+---------+-------------------------------------+
| frame_size | txd/rxd | throughput difference from expected |
+============+=========+=====================================+
| 64 | 512 | 4.83314% |
+------------+---------+-------------------------------------+
| 64 | 2048 | 4.87866% |
+------------+---------+-------------------------------------+
Ubuntu 18.04 ARM
Kernel: 4.15.0-132-generic
Compiler: gcc 7.5
NIC: Arm Intel Corporation Ethernet Converged Network Adapter XL710-QDA2 40000 Mbps
Target: x86_64-native-linuxapp-gcc
Fail/Total: 0/2
Detail performance results:
+------------+---------+-------------------------------------+
| frame_size | txd/rxd | throughput difference from expected |
+============+=========+=====================================+
| 64 | 512 | -2.12202% |
+------------+---------+-------------------------------------+
| 64 | 2048 | -2.4669% |
+------------+---------+-------------------------------------+
To view detailed results, visit:
https://lab.dpdk.org/results/dashboard/patchsets/15800/
UNH-IOL DPDK Community Lab
To manage your email subscriptions, visit:
https://lab.dpdk.org/results/dashboard/preferences/subscriptions/
^ permalink raw reply [flat|nested] 5+ messages in thread
* [dpdk-test-report] |SUCCESS| pw88470-88478 [PATCH] [v8, 9/9] kvargs: update parser to support lists
@ 2021-03-04 15:36 dpdklab
0 siblings, 0 replies; 5+ messages in thread
From: dpdklab @ 2021-03-04 15:36 UTC (permalink / raw)
To: Ali Alnubani, Test Report; +Cc: dpdk-test-reports
[-- Attachment #1: Type: text/plain, Size: 4842 bytes --]
Test-Label: iol-mellanox-Performance
Test-Status: SUCCESS
http://dpdk.org/patch/88478
_Performance Testing PASS_
Submitter: Xueming Li <xuemingl@nvidia.com>
Date: Thursday, March 04 2021 14:30:25
DPDK git baseline: Repo:dpdk
Branch: master
CommitID:44db5a5cf23f6157448fdb692efab605544762f3
88470-88478 --> performance testing pass
Test environment and result as below:
Ubuntu 18.04
Kernel: 4.15.0-generic
Compiler: gcc 7.4
NIC: Mellanox ConnectX-5 100000 Mbps
Target: x86_64-native-linuxapp-gcc
Fail/Total: 0/6
Detail performance results:
+------------+---------+-------------------------------------+
| frame_size | txd/rxd | throughput difference from expected |
+============+=========+=====================================+
| 64 | 256 | -0.21844% |
+------------+---------+-------------------------------------+
| 128 | 256 | -0.29908% |
+------------+---------+-------------------------------------+
| 256 | 256 | 0.02743% |
+------------+---------+-------------------------------------+
| 512 | 256 | 0.37504% |
+------------+---------+-------------------------------------+
| 1024 | 256 | -0.77381% |
+------------+---------+-------------------------------------+
| 1518 | 256 | -0.39939% |
+------------+---------+-------------------------------------+
Ubuntu 18.04
Kernel: 4.15.0-generic
Compiler: gcc 7.4
NIC: Mellanox ConnectX-4 Lx 40000 Mbps
Target: x86_64-native-linuxapp-gcc
Fail/Total: 0/6
Detail performance results:
+------------+---------+-------------------------------------+
| frame_size | txd/rxd | throughput difference from expected |
+============+=========+=====================================+
| 64 | 256 | 0.07989% |
+------------+---------+-------------------------------------+
| 128 | 256 | 1.20658% |
+------------+---------+-------------------------------------+
| 256 | 256 | 0.106% |
+------------+---------+-------------------------------------+
| 512 | 256 | -0.02665% |
+------------+---------+-------------------------------------+
| 1024 | 256 | 0.1883% |
+------------+---------+-------------------------------------+
| 1518 | 256 | 0.13872% |
+------------+---------+-------------------------------------+
Ubuntu 18.04 ARM
Kernel: 4.15.0-132-generic
Compiler: gcc 7.5
NIC: Arm Mellanox ConnectX-5 10000 Mbps
Target: x86_64-native-linuxapp-gcc
Fail/Total: 0/4
Detail performance results:
+------------+---------+-------------------------------------+
| frame_size | txd/rxd | throughput difference from expected |
+============+=========+=====================================+
| 64 | 128 | -2.62717% |
+------------+---------+-------------------------------------+
| 64 | 256 | -3.16548% |
+------------+---------+-------------------------------------+
| 64 | 512 | -2.19607% |
+------------+---------+-------------------------------------+
| 64 | 2048 | -3.24296% |
+------------+---------+-------------------------------------+
Ubuntu 18.04
Kernel: 4.15.0-generic
Compiler: gcc 7.4
NIC: Mellanox ConnectX-4 Lx 25000 Mbps
Target: x86_64-native-linuxapp-gcc
Fail/Total: 0/6
Detail performance results:
+------------+---------+-------------------------------------+
| frame_size | txd/rxd | throughput difference from expected |
+============+=========+=====================================+
| 64 | 256 | -0.07673% |
+------------+---------+-------------------------------------+
| 128 | 256 | -0.14846% |
+------------+---------+-------------------------------------+
| 256 | 256 | 0.05948% |
+------------+---------+-------------------------------------+
| 512 | 256 | 1.44389% |
+------------+---------+-------------------------------------+
| 1024 | 256 | 0.01671% |
+------------+---------+-------------------------------------+
| 1518 | 256 | -0.02462% |
+------------+---------+-------------------------------------+
To view detailed results, visit:
https://lab.dpdk.org/results/dashboard/patchsets/15800/
UNH-IOL DPDK Community Lab
To manage your email subscriptions, visit:
https://lab.dpdk.org/results/dashboard/preferences/subscriptions/
^ permalink raw reply [flat|nested] 5+ messages in thread
end of thread, other threads:[~2021-03-04 16:59 UTC | newest]
Thread overview: 5+ messages (download: mbox.gz / follow: Atom feed)
-- links below jump to the message on this page --
2021-03-04 16:59 [dpdk-test-report] |SUCCESS| pw88470-88478 [PATCH] [v8, 9/9] kvargs: update parser to support lists dpdklab
-- strict thread matches above, loose matches on Subject: below --
2021-03-04 16:59 dpdklab
2021-03-04 16:00 dpdklab
2021-03-04 15:46 dpdklab
2021-03-04 15:36 dpdklab
This is a public inbox, see mirroring instructions
for how to clone and mirror all data and code used for this inbox;
as well as URLs for NNTP newsgroup(s).