Test-Label: checkpatch Test-Status: SUCCESS http://dpdk.org/patch/88582 _coding style OK_
[-- Attachment #1: Type: text/plain, Size: 1922 bytes --] Test-Label: iol-intel-Performance Test-Status: SUCCESS http://dpdk.org/patch/88582 _Performance Testing PASS_ Submitter: Churchill Khangar <churchill.khangar@intel.com> Date: Friday, March 05 2021 15:15:30 DPDK git baseline: Repo:dpdk Branch: master CommitID:2a2ebeab9e3309ab332baefdbcc1caa7e62ecc82 88582 --> performance testing pass Test environment and result as below: Ubuntu 18.04 Kernel: 4.15.0-generic Compiler: gcc 7.4 NIC: Intel Corporation Ethernet Converged Network Adapter 82599ES 10000 Mbps Target: x86_64-native-linuxapp-gcc Fail/Total: 0/2 Detail performance results: +------------+---------+-------------------------------------+ | frame_size | txd/rxd | throughput difference from expected | +============+=========+=====================================+ | 64 | 512 | 3.42453% | +------------+---------+-------------------------------------+ | 64 | 2048 | 2.13451% | +------------+---------+-------------------------------------+ Ubuntu 18.04 Kernel: 4.15.0-generic Compiler: gcc 7.4 NIC: Intel Corporation Ethernet Converged Network Adapter XL710-QDA2 40000 Mbps Target: x86_64-native-linuxapp-gcc Fail/Total: 0/2 Detail performance results: +------------+---------+-------------------------------------+ | frame_size | txd/rxd | throughput difference from expected | +============+=========+=====================================+ | 64 | 512 | 5.74784% | +------------+---------+-------------------------------------+ | 64 | 2048 | 5.09316% | +------------+---------+-------------------------------------+ To view detailed results, visit: https://lab.dpdk.org/results/dashboard/patchsets/15817/ UNH-IOL DPDK Community Lab To manage your email subscriptions, visit: https://lab.dpdk.org/results/dashboard/preferences/subscriptions/
[-- Attachment #1: Type: text/plain, Size: 3972 bytes --] Test-Label: iol-mellanox-Performance Test-Status: SUCCESS http://dpdk.org/patch/88582 _Performance Testing PASS_ Submitter: Churchill Khangar <churchill.khangar@intel.com> Date: Friday, March 05 2021 15:15:30 DPDK git baseline: Repo:dpdk Branch: master CommitID:2a2ebeab9e3309ab332baefdbcc1caa7e62ecc82 88582 --> performance testing pass Test environment and result as below: Ubuntu 18.04 Kernel: 4.15.0-generic Compiler: gcc 7.4 NIC: Mellanox ConnectX-5 100000 Mbps Target: x86_64-native-linuxapp-gcc Fail/Total: 0/6 Detail performance results: +------------+---------+-------------------------------------+ | frame_size | txd/rxd | throughput difference from expected | +============+=========+=====================================+ | 64 | 256 | -0.72195% | +------------+---------+-------------------------------------+ | 128 | 256 | 0.0795% | +------------+---------+-------------------------------------+ | 256 | 256 | -0.65148% | +------------+---------+-------------------------------------+ | 512 | 256 | -0.20236% | +------------+---------+-------------------------------------+ | 1024 | 256 | -2.0496% | +------------+---------+-------------------------------------+ | 1518 | 256 | 0.08224% | +------------+---------+-------------------------------------+ Ubuntu 18.04 Kernel: 4.15.0-generic Compiler: gcc 7.4 NIC: Mellanox ConnectX-4 Lx 25000 Mbps Target: x86_64-native-linuxapp-gcc Fail/Total: 0/6 Detail performance results: +------------+---------+-------------------------------------+ | frame_size | txd/rxd | throughput difference from expected | +============+=========+=====================================+ | 64 | 256 | -0.09111% | +------------+---------+-------------------------------------+ | 128 | 256 | 0.12096% | +------------+---------+-------------------------------------+ | 256 | 256 | -1.56327% | +------------+---------+-------------------------------------+ | 512 | 256 | 0.66431% | +------------+---------+-------------------------------------+ | 1024 | 256 | -0.26671% | +------------+---------+-------------------------------------+ | 1518 | 256 | 0.17233% | +------------+---------+-------------------------------------+ Ubuntu 18.04 Kernel: 4.15.0-generic Compiler: gcc 7.4 NIC: Mellanox ConnectX-4 Lx 40000 Mbps Target: x86_64-native-linuxapp-gcc Fail/Total: 0/6 Detail performance results: +------------+---------+-------------------------------------+ | frame_size | txd/rxd | throughput difference from expected | +============+=========+=====================================+ | 64 | 256 | 0.28723% | +------------+---------+-------------------------------------+ | 128 | 256 | 0.67965% | +------------+---------+-------------------------------------+ | 256 | 256 | -0.12029% | +------------+---------+-------------------------------------+ | 512 | 256 | 0.03734% | +------------+---------+-------------------------------------+ | 1024 | 256 | 0.15685% | +------------+---------+-------------------------------------+ | 1518 | 256 | -0.2% | +------------+---------+-------------------------------------+ To view detailed results, visit: https://lab.dpdk.org/results/dashboard/patchsets/15817/ UNH-IOL DPDK Community Lab To manage your email subscriptions, visit: https://lab.dpdk.org/results/dashboard/preferences/subscriptions/
[-- Attachment #1: Type: text/plain, Size: 927 bytes --] Test-Label: iol-abi-testing Test-Status: SUCCESS http://dpdk.org/patch/88582 _Testing PASS_ Submitter: Churchill Khangar <churchill.khangar@intel.com> Date: Friday, March 05 2021 15:15:30 DPDK git baseline: Repo:dpdk Branch: master CommitID:2a2ebeab9e3309ab332baefdbcc1caa7e62ecc82 88582 --> testing pass Test environment and result as below: +------------------+----------+ | Environment | abi_test | +==================+==========+ | Ubuntu 18.04 | PASS | +------------------+----------+ | Ubuntu 18.04 ARM | PASS | +------------------+----------+ Ubuntu 18.04 Kernel: 4.15.0-generic Compiler: gcc 7.5 Ubuntu 18.04 ARM Kernel: 5.4.0-53-generic Compiler: gcc 9.3 To view detailed results, visit: https://lab.dpdk.org/results/dashboard/patchsets/15817/ UNH-IOL DPDK Community Lab To manage your email subscriptions, visit: https://lab.dpdk.org/results/dashboard/preferences/subscriptions/
[-- Attachment #1: Type: text/plain, Size: 3915 bytes --] Test-Label: iol-testing Test-Status: SUCCESS http://dpdk.org/patch/88582 _Testing PASS_ Submitter: Churchill Khangar <churchill.khangar@intel.com> Date: Friday, March 05 2021 15:15:30 DPDK git baseline: Repo:dpdk Branch: master CommitID:2a2ebeab9e3309ab332baefdbcc1caa7e62ecc82 88582 --> testing pass Test environment and result as below: +---------------------+----------------------+--------------------+----------------+-------------------+ | Environment | dpdk_mingw64_compile | dpdk_meson_compile | dpdk_unit_test | dpdk_compile_spdk | +=====================+======================+====================+================+===================+ | Windows Server 2019 | PASS | PASS | SKIPPED | SKIPPED | +---------------------+----------------------+--------------------+----------------+-------------------+ | FreeBSD 11.2 | SKIPPED | PASS | SKIPPED | SKIPPED | +---------------------+----------------------+--------------------+----------------+-------------------+ | CentOS 8 | SKIPPED | PASS | SKIPPED | SKIPPED | +---------------------+----------------------+--------------------+----------------+-------------------+ | Arch Linux | SKIPPED | PASS | SKIPPED | SKIPPED | +---------------------+----------------------+--------------------+----------------+-------------------+ | openSUSE Leap 15 | SKIPPED | PASS | SKIPPED | SKIPPED | +---------------------+----------------------+--------------------+----------------+-------------------+ | Ubuntu 18.04 ARM | SKIPPED | PASS | PASS | SKIPPED | +---------------------+----------------------+--------------------+----------------+-------------------+ | Fedora 31 | SKIPPED | PASS | SKIPPED | PASS | +---------------------+----------------------+--------------------+----------------+-------------------+ | Fedora 32 | SKIPPED | PASS | SKIPPED | SKIPPED | +---------------------+----------------------+--------------------+----------------+-------------------+ | Ubuntu 18.04 | SKIPPED | PASS | PASS | PASS | +---------------------+----------------------+--------------------+----------------+-------------------+ | RHEL 7 | SKIPPED | PASS | SKIPPED | SKIPPED | +---------------------+----------------------+--------------------+----------------+-------------------+ | RHEL8 | SKIPPED | PASS | SKIPPED | SKIPPED | +---------------------+----------------------+--------------------+----------------+-------------------+ Windows Server 2019 Kernel: 10.0 Compiler: clang 9.0 and gcc 8.1.0 (MinGW) FreeBSD 11.2 Kernel: 11.2 Compiler: gcc 8.3 CentOS 8 Kernel: 4.18.0.el8_0 Compiler: gcc 8.3.1 Arch Linux Kernel: latest Compiler: gcc latest openSUSE Leap 15 Kernel: 4.12.14 Compiler: gcc 7.4.1 Ubuntu 18.04 ARM Kernel: 5.4.0-53-generic Compiler: gcc 9.3 Fedora 31 Kernel: 5.3.16 Compiler: gcc 9.2.1 Fedora 32 Kernel: 4.18.0-240.10.1.el8_3.x86_64 Compiler: gcc 10.2.1 Ubuntu 18.04 Kernel: 4.15.0-generic Compiler: gcc 7.5 RHEL 7 Kernel: 4.18.0-240.10.1.el8_3.x86_64 Compiler: gcc 4.8.5 20150623 (Red Hat 4.8.5-44) RHEL8 Kernel: 4.18.0-240.10.1.el8_3.x86_64 Compiler: gcc 8.3.1 20191121 (Red Hat 8.3.1-5) To view detailed results, visit: https://lab.dpdk.org/results/dashboard/patchsets/15817/ UNH-IOL DPDK Community Lab To manage your email subscriptions, visit: https://lab.dpdk.org/results/dashboard/preferences/subscriptions/