* [dpdk-test-report] |SUCCESS| pw88708 [PATCH] [v4] rte_metrics: unconditionally exports rte_metrics_tel_xxx functions
@ 2021-03-08 19:14 dpdklab
0 siblings, 0 replies; 3+ messages in thread
From: dpdklab @ 2021-03-08 19:14 UTC (permalink / raw)
To: Test Report; +Cc: dpdk-test-reports
[-- Attachment #1: Type: text/plain, Size: 3903 bytes --]
Test-Label: iol-testing
Test-Status: SUCCESS
http://dpdk.org/patch/88708
_Testing PASS_
Submitter: Jie Zhou <jizh@linux.microsoft.com>
Date: Monday, March 08 2021 18:05:39
DPDK git baseline: Repo:dpdk
Branch: master
CommitID:2a2ebeab9e3309ab332baefdbcc1caa7e62ecc82
88708 --> testing pass
Test environment and result as below:
+---------------------+----------------------+--------------------+-------------------+----------------+
| Environment | dpdk_mingw64_compile | dpdk_meson_compile | dpdk_compile_spdk | dpdk_unit_test |
+=====================+======================+====================+===================+================+
| Windows Server 2019 | PASS | PASS | SKIPPED | SKIPPED |
+---------------------+----------------------+--------------------+-------------------+----------------+
| FreeBSD 11.2 | SKIPPED | PASS | SKIPPED | SKIPPED |
+---------------------+----------------------+--------------------+-------------------+----------------+
| CentOS 8 | SKIPPED | PASS | SKIPPED | SKIPPED |
+---------------------+----------------------+--------------------+-------------------+----------------+
| openSUSE Leap 15 | SKIPPED | PASS | SKIPPED | SKIPPED |
+---------------------+----------------------+--------------------+-------------------+----------------+
| Arch Linux | SKIPPED | PASS | SKIPPED | SKIPPED |
+---------------------+----------------------+--------------------+-------------------+----------------+
| Fedora 31 | SKIPPED | PASS | PASS | SKIPPED |
+---------------------+----------------------+--------------------+-------------------+----------------+
| Ubuntu 18.04 ARM | SKIPPED | PASS | SKIPPED | PASS |
+---------------------+----------------------+--------------------+-------------------+----------------+
| RHEL 7 | SKIPPED | PASS | SKIPPED | SKIPPED |
+---------------------+----------------------+--------------------+-------------------+----------------+
| Ubuntu 18.04 | SKIPPED | PASS | PASS | PASS |
+---------------------+----------------------+--------------------+-------------------+----------------+
| Fedora 32 | SKIPPED | PASS | SKIPPED | SKIPPED |
+---------------------+----------------------+--------------------+-------------------+----------------+
| RHEL8 | SKIPPED | PASS | SKIPPED | SKIPPED |
+---------------------+----------------------+--------------------+-------------------+----------------+
Windows Server 2019
Kernel: 10.0
Compiler: clang 9.0 and gcc 8.1.0 (MinGW)
FreeBSD 11.2
Kernel: 11.2
Compiler: gcc 8.3
CentOS 8
Kernel: 4.18.0.el8_0
Compiler: gcc 8.3.1
openSUSE Leap 15
Kernel: 4.12.14
Compiler: gcc 7.4.1
Arch Linux
Kernel: latest
Compiler: gcc latest
Fedora 31
Kernel: 5.3.16
Compiler: gcc 9.2.1
Ubuntu 18.04 ARM
Kernel: 5.4.0-53-generic
Compiler: gcc 9.3
RHEL 7
Kernel: 4.18.0-240.10.1.el8_3.x86_64
Compiler: gcc 4.8.5 20150623 (Red Hat 4.8.5-44)
Ubuntu 18.04
Kernel: 4.15.0-generic
Compiler: gcc 7.5
Fedora 32
Kernel: 4.18.0-240.10.1.el8_3.x86_64
Compiler: gcc 10.2.1
RHEL8
Kernel: 4.18.0-240.10.1.el8_3.x86_64
Compiler: gcc 8.3.1 20191121 (Red Hat 8.3.1-5)
To view detailed results, visit:
https://lab.dpdk.org/results/dashboard/patchsets/15835/
UNH-IOL DPDK Community Lab
To manage your email subscriptions, visit:
https://lab.dpdk.org/results/dashboard/preferences/subscriptions/
^ permalink raw reply [flat|nested] 3+ messages in thread
* [dpdk-test-report] |SUCCESS| pw88708 [PATCH] [v4] rte_metrics: unconditionally exports rte_metrics_tel_xxx functions
@ 2021-03-08 19:19 dpdklab
0 siblings, 0 replies; 3+ messages in thread
From: dpdklab @ 2021-03-08 19:19 UTC (permalink / raw)
To: Ali Alnubani, Test Report; +Cc: dpdk-test-reports
[-- Attachment #1: Type: text/plain, Size: 3960 bytes --]
Test-Label: iol-mellanox-Performance
Test-Status: SUCCESS
http://dpdk.org/patch/88708
_Performance Testing PASS_
Submitter: Jie Zhou <jizh@linux.microsoft.com>
Date: Monday, March 08 2021 18:05:39
DPDK git baseline: Repo:dpdk
Branch: master
CommitID:2a2ebeab9e3309ab332baefdbcc1caa7e62ecc82
88708 --> performance testing pass
Test environment and result as below:
Ubuntu 18.04
Kernel: 4.15.0-generic
Compiler: gcc 7.4
NIC: Mellanox ConnectX-5 100000 Mbps
Target: x86_64-native-linuxapp-gcc
Fail/Total: 0/6
Detail performance results:
+------------+---------+-------------------------------------+
| frame_size | txd/rxd | throughput difference from expected |
+============+=========+=====================================+
| 64 | 256 | -0.41346% |
+------------+---------+-------------------------------------+
| 128 | 256 | 0.13497% |
+------------+---------+-------------------------------------+
| 256 | 256 | 0.09698% |
+------------+---------+-------------------------------------+
| 512 | 256 | -0.24635% |
+------------+---------+-------------------------------------+
| 1024 | 256 | -0.00843% |
+------------+---------+-------------------------------------+
| 1518 | 256 | -0.01175% |
+------------+---------+-------------------------------------+
Ubuntu 18.04
Kernel: 4.15.0-generic
Compiler: gcc 7.4
NIC: Mellanox ConnectX-4 Lx 25000 Mbps
Target: x86_64-native-linuxapp-gcc
Fail/Total: 0/6
Detail performance results:
+------------+---------+-------------------------------------+
| frame_size | txd/rxd | throughput difference from expected |
+============+=========+=====================================+
| 64 | 256 | -0.14236% |
+------------+---------+-------------------------------------+
| 128 | 256 | 0.12442% |
+------------+---------+-------------------------------------+
| 256 | 256 | -0.12368% |
+------------+---------+-------------------------------------+
| 512 | 256 | 0.83686% |
+------------+---------+-------------------------------------+
| 1024 | 256 | -0.25004% |
+------------+---------+-------------------------------------+
| 1518 | 256 | -0.19695% |
+------------+---------+-------------------------------------+
Ubuntu 18.04
Kernel: 4.15.0-generic
Compiler: gcc 7.4
NIC: Mellanox ConnectX-4 Lx 40000 Mbps
Target: x86_64-native-linuxapp-gcc
Fail/Total: 0/6
Detail performance results:
+------------+---------+-------------------------------------+
| frame_size | txd/rxd | throughput difference from expected |
+============+=========+=====================================+
| 64 | 256 | -0.48345% |
+------------+---------+-------------------------------------+
| 128 | 256 | -0.20447% |
+------------+---------+-------------------------------------+
| 256 | 256 | 0.05468% |
+------------+---------+-------------------------------------+
| 512 | 256 | 0.04801% |
+------------+---------+-------------------------------------+
| 1024 | 256 | -0.04183% |
+------------+---------+-------------------------------------+
| 1518 | 256 | -0.15385% |
+------------+---------+-------------------------------------+
To view detailed results, visit:
https://lab.dpdk.org/results/dashboard/patchsets/15835/
UNH-IOL DPDK Community Lab
To manage your email subscriptions, visit:
https://lab.dpdk.org/results/dashboard/preferences/subscriptions/
^ permalink raw reply [flat|nested] 3+ messages in thread
* [dpdk-test-report] |SUCCESS| pw88708 [PATCH] [v4] rte_metrics: unconditionally exports rte_metrics_tel_xxx functions
@ 2021-03-08 18:58 dpdklab
0 siblings, 0 replies; 3+ messages in thread
From: dpdklab @ 2021-03-08 18:58 UTC (permalink / raw)
To: Test Report; +Cc: dpdk-test-reports
[-- Attachment #1: Type: text/plain, Size: 1910 bytes --]
Test-Label: iol-intel-Performance
Test-Status: SUCCESS
http://dpdk.org/patch/88708
_Performance Testing PASS_
Submitter: Jie Zhou <jizh@linux.microsoft.com>
Date: Monday, March 08 2021 18:05:39
DPDK git baseline: Repo:dpdk
Branch: master
CommitID:2a2ebeab9e3309ab332baefdbcc1caa7e62ecc82
88708 --> performance testing pass
Test environment and result as below:
Ubuntu 18.04
Kernel: 4.15.0-generic
Compiler: gcc 7.4
NIC: Intel Corporation Ethernet Converged Network Adapter 82599ES 10000 Mbps
Target: x86_64-native-linuxapp-gcc
Fail/Total: 0/2
Detail performance results:
+------------+---------+-------------------------------------+
| frame_size | txd/rxd | throughput difference from expected |
+============+=========+=====================================+
| 64 | 512 | 3.75068% |
+------------+---------+-------------------------------------+
| 64 | 2048 | 2.14887% |
+------------+---------+-------------------------------------+
Ubuntu 18.04
Kernel: 4.15.0-generic
Compiler: gcc 7.4
NIC: Intel Corporation Ethernet Converged Network Adapter XL710-QDA2 40000 Mbps
Target: x86_64-native-linuxapp-gcc
Fail/Total: 0/2
Detail performance results:
+------------+---------+-------------------------------------+
| frame_size | txd/rxd | throughput difference from expected |
+============+=========+=====================================+
| 64 | 512 | 5.62002% |
+------------+---------+-------------------------------------+
| 64 | 2048 | 4.28254% |
+------------+---------+-------------------------------------+
To view detailed results, visit:
https://lab.dpdk.org/results/dashboard/patchsets/15835/
UNH-IOL DPDK Community Lab
To manage your email subscriptions, visit:
https://lab.dpdk.org/results/dashboard/preferences/subscriptions/
^ permalink raw reply [flat|nested] 3+ messages in thread
end of thread, other threads:[~2021-03-08 19:19 UTC | newest]
Thread overview: 3+ messages (download: mbox.gz / follow: Atom feed)
-- links below jump to the message on this page --
2021-03-08 19:14 [dpdk-test-report] |SUCCESS| pw88708 [PATCH] [v4] rte_metrics: unconditionally exports rte_metrics_tel_xxx functions dpdklab
-- strict thread matches above, loose matches on Subject: below --
2021-03-08 19:19 dpdklab
2021-03-08 18:58 dpdklab
This is a public inbox, see mirroring instructions
for how to clone and mirror all data and code used for this inbox;
as well as URLs for NNTP newsgroup(s).