* [dpdk-test-report] |SUCCESS| pw88730-88736 [PATCH] [v13, 7/7] doc: add aarch32 build guidance
@ 2021-03-09 10:04 dpdklab
0 siblings, 0 replies; 3+ messages in thread
From: dpdklab @ 2021-03-09 10:04 UTC (permalink / raw)
To: Ali Alnubani, Test Report; +Cc: dpdk-test-reports
[-- Attachment #1: Type: text/plain, Size: 3974 bytes --]
Test-Label: iol-mellanox-Performance
Test-Status: SUCCESS
http://dpdk.org/patch/88736
_Performance Testing PASS_
Submitter: Juraj Linkeš <juraj.linkes@pantheon.tech>
Date: Tuesday, March 09 2021 08:36:45
DPDK git baseline: Repo:dpdk
Branch: master
CommitID:1e28e842e08428ff5716fbe909bf5acd0365aaf6
88730-88736 --> performance testing pass
Test environment and result as below:
Ubuntu 18.04
Kernel: 4.15.0-generic
Compiler: gcc 7.4
NIC: Mellanox ConnectX-5 100000 Mbps
Target: x86_64-native-linuxapp-gcc
Fail/Total: 0/6
Detail performance results:
+------------+---------+-------------------------------------+
| frame_size | txd/rxd | throughput difference from expected |
+============+=========+=====================================+
| 64 | 256 | -0.39059% |
+------------+---------+-------------------------------------+
| 128 | 256 | 0.22728% |
+------------+---------+-------------------------------------+
| 256 | 256 | -0.05978% |
+------------+---------+-------------------------------------+
| 512 | 256 | -0.24317% |
+------------+---------+-------------------------------------+
| 1024 | 256 | -2.53431% |
+------------+---------+-------------------------------------+
| 1518 | 256 | 0.09445% |
+------------+---------+-------------------------------------+
Ubuntu 18.04
Kernel: 4.15.0-generic
Compiler: gcc 7.4
NIC: Mellanox ConnectX-4 Lx 40000 Mbps
Target: x86_64-native-linuxapp-gcc
Fail/Total: 0/6
Detail performance results:
+------------+---------+-------------------------------------+
| frame_size | txd/rxd | throughput difference from expected |
+============+=========+=====================================+
| 64 | 256 | 0.08555% |
+------------+---------+-------------------------------------+
| 128 | 256 | 1.0253% |
+------------+---------+-------------------------------------+
| 256 | 256 | 0.20126% |
+------------+---------+-------------------------------------+
| 512 | 256 | 0.33579% |
+------------+---------+-------------------------------------+
| 1024 | 256 | 0.08365% |
+------------+---------+-------------------------------------+
| 1518 | 256 | -0.03082% |
+------------+---------+-------------------------------------+
Ubuntu 18.04
Kernel: 4.15.0-generic
Compiler: gcc 7.4
NIC: Mellanox ConnectX-4 Lx 25000 Mbps
Target: x86_64-native-linuxapp-gcc
Fail/Total: 0/6
Detail performance results:
+------------+---------+-------------------------------------+
| frame_size | txd/rxd | throughput difference from expected |
+============+=========+=====================================+
| 64 | 256 | 0.00856% |
+------------+---------+-------------------------------------+
| 128 | 256 | 0.29739% |
+------------+---------+-------------------------------------+
| 256 | 256 | 0.73011% |
+------------+---------+-------------------------------------+
| 512 | 256 | -0.20603% |
+------------+---------+-------------------------------------+
| 1024 | 256 | 0.1171% |
+------------+---------+-------------------------------------+
| 1518 | 256 | -0.17237% |
+------------+---------+-------------------------------------+
To view detailed results, visit:
https://lab.dpdk.org/results/dashboard/patchsets/15844/
UNH-IOL DPDK Community Lab
To manage your email subscriptions, visit:
https://lab.dpdk.org/results/dashboard/preferences/subscriptions/
^ permalink raw reply [flat|nested] 3+ messages in thread
* [dpdk-test-report] |SUCCESS| pw88730-88736 [PATCH] [v13, 7/7] doc: add aarch32 build guidance
@ 2021-03-09 10:05 dpdklab
0 siblings, 0 replies; 3+ messages in thread
From: dpdklab @ 2021-03-09 10:05 UTC (permalink / raw)
To: Test Report; +Cc: dpdk-test-reports
[-- Attachment #1: Type: text/plain, Size: 3917 bytes --]
Test-Label: iol-testing
Test-Status: SUCCESS
http://dpdk.org/patch/88736
_Testing PASS_
Submitter: Juraj Linkeš <juraj.linkes@pantheon.tech>
Date: Tuesday, March 09 2021 08:36:45
DPDK git baseline: Repo:dpdk
Branch: master
CommitID:1e28e842e08428ff5716fbe909bf5acd0365aaf6
88730-88736 --> testing pass
Test environment and result as below:
+---------------------+----------------------+--------------------+-------------------+----------------+
| Environment | dpdk_mingw64_compile | dpdk_meson_compile | dpdk_compile_spdk | dpdk_unit_test |
+=====================+======================+====================+===================+================+
| Windows Server 2019 | PASS | PASS | SKIPPED | SKIPPED |
+---------------------+----------------------+--------------------+-------------------+----------------+
| FreeBSD 11.2 | SKIPPED | PASS | SKIPPED | SKIPPED |
+---------------------+----------------------+--------------------+-------------------+----------------+
| CentOS 8 | SKIPPED | PASS | SKIPPED | SKIPPED |
+---------------------+----------------------+--------------------+-------------------+----------------+
| Arch Linux | SKIPPED | PASS | SKIPPED | SKIPPED |
+---------------------+----------------------+--------------------+-------------------+----------------+
| openSUSE Leap 15 | SKIPPED | PASS | SKIPPED | SKIPPED |
+---------------------+----------------------+--------------------+-------------------+----------------+
| Ubuntu 18.04 ARM | SKIPPED | PASS | SKIPPED | PASS |
+---------------------+----------------------+--------------------+-------------------+----------------+
| Fedora 31 | SKIPPED | PASS | PASS | SKIPPED |
+---------------------+----------------------+--------------------+-------------------+----------------+
| Fedora 32 | SKIPPED | PASS | SKIPPED | SKIPPED |
+---------------------+----------------------+--------------------+-------------------+----------------+
| RHEL 7 | SKIPPED | PASS | SKIPPED | SKIPPED |
+---------------------+----------------------+--------------------+-------------------+----------------+
| Ubuntu 18.04 | SKIPPED | PASS | PASS | PASS |
+---------------------+----------------------+--------------------+-------------------+----------------+
| RHEL8 | SKIPPED | PASS | SKIPPED | SKIPPED |
+---------------------+----------------------+--------------------+-------------------+----------------+
Windows Server 2019
Kernel: 10.0
Compiler: clang 9.0 and gcc 8.1.0 (MinGW)
FreeBSD 11.2
Kernel: 11.2
Compiler: gcc 8.3
CentOS 8
Kernel: 4.18.0.el8_0
Compiler: gcc 8.3.1
Arch Linux
Kernel: latest
Compiler: gcc latest
openSUSE Leap 15
Kernel: 4.12.14
Compiler: gcc 7.4.1
Ubuntu 18.04 ARM
Kernel: 5.4.0-53-generic
Compiler: gcc 9.3
Fedora 31
Kernel: 5.3.16
Compiler: gcc 9.2.1
Fedora 32
Kernel: 4.18.0-240.10.1.el8_3.x86_64
Compiler: gcc 10.2.1
RHEL 7
Kernel: 4.18.0-240.10.1.el8_3.x86_64
Compiler: gcc 4.8.5 20150623 (Red Hat 4.8.5-44)
Ubuntu 18.04
Kernel: 4.15.0-generic
Compiler: gcc 7.5
RHEL8
Kernel: 4.18.0-240.10.1.el8_3.x86_64
Compiler: gcc 8.3.1 20191121 (Red Hat 8.3.1-5)
To view detailed results, visit:
https://lab.dpdk.org/results/dashboard/patchsets/15844/
UNH-IOL DPDK Community Lab
To manage your email subscriptions, visit:
https://lab.dpdk.org/results/dashboard/preferences/subscriptions/
^ permalink raw reply [flat|nested] 3+ messages in thread
* [dpdk-test-report] |SUCCESS| pw88730-88736 [PATCH] [v13, 7/7] doc: add aarch32 build guidance
@ 2021-03-09 9:43 dpdklab
0 siblings, 0 replies; 3+ messages in thread
From: dpdklab @ 2021-03-09 9:43 UTC (permalink / raw)
To: Test Report; +Cc: dpdk-test-reports
[-- Attachment #1: Type: text/plain, Size: 1924 bytes --]
Test-Label: iol-intel-Performance
Test-Status: SUCCESS
http://dpdk.org/patch/88736
_Performance Testing PASS_
Submitter: Juraj Linkeš <juraj.linkes@pantheon.tech>
Date: Tuesday, March 09 2021 08:36:45
DPDK git baseline: Repo:dpdk
Branch: master
CommitID:1e28e842e08428ff5716fbe909bf5acd0365aaf6
88730-88736 --> performance testing pass
Test environment and result as below:
Ubuntu 18.04
Kernel: 4.15.0-generic
Compiler: gcc 7.4
NIC: Intel Corporation Ethernet Converged Network Adapter 82599ES 10000 Mbps
Target: x86_64-native-linuxapp-gcc
Fail/Total: 0/2
Detail performance results:
+------------+---------+-------------------------------------+
| frame_size | txd/rxd | throughput difference from expected |
+============+=========+=====================================+
| 64 | 512 | 3.43812% |
+------------+---------+-------------------------------------+
| 64 | 2048 | 1.92479% |
+------------+---------+-------------------------------------+
Ubuntu 18.04
Kernel: 4.15.0-generic
Compiler: gcc 7.4
NIC: Intel Corporation Ethernet Converged Network Adapter XL710-QDA2 40000 Mbps
Target: x86_64-native-linuxapp-gcc
Fail/Total: 0/2
Detail performance results:
+------------+---------+-------------------------------------+
| frame_size | txd/rxd | throughput difference from expected |
+============+=========+=====================================+
| 64 | 512 | 5.29848% |
+------------+---------+-------------------------------------+
| 64 | 2048 | 5.21787% |
+------------+---------+-------------------------------------+
To view detailed results, visit:
https://lab.dpdk.org/results/dashboard/patchsets/15844/
UNH-IOL DPDK Community Lab
To manage your email subscriptions, visit:
https://lab.dpdk.org/results/dashboard/preferences/subscriptions/
^ permalink raw reply [flat|nested] 3+ messages in thread
end of thread, other threads:[~2021-03-09 10:05 UTC | newest]
Thread overview: 3+ messages (download: mbox.gz / follow: Atom feed)
-- links below jump to the message on this page --
2021-03-09 10:04 [dpdk-test-report] |SUCCESS| pw88730-88736 [PATCH] [v13, 7/7] doc: add aarch32 build guidance dpdklab
-- strict thread matches above, loose matches on Subject: below --
2021-03-09 10:05 dpdklab
2021-03-09 9:43 dpdklab
This is a public inbox, see mirroring instructions
for how to clone and mirror all data and code used for this inbox;
as well as URLs for NNTP newsgroup(s).