Test-Label: checkpatch Test-Status: SUCCESS http://dpdk.org/patch/90799 _coding style OK_
From: robot@bytheb.org Test-Label: travis-robot Test-Status: SUCCESS http://patchwork.dpdk.org/patch/90799/ _travis build: passed_ Build URL: https://travis-ci.com/ovsrobot/dpdk/builds/222379713
From: robot@bytheb.org Test-Label: github-robot Test-Status: SUCCESS http://patchwork.dpdk.org/patch/90799/ _github build: passed_ Build URL: https://github.com/ovsrobot/dpdk/actions/runs/725753166
[-- Attachment #1: Type: text/plain, Size: 1912 bytes --] Test-Label: iol-intel-Performance Test-Status: SUCCESS http://dpdk.org/patch/90799 _Performance Testing PASS_ Submitter: Balazs Nemeth <bnemeth@redhat.com> Date: Wednesday, April 07 2021 09:55:27 DPDK git baseline: Repo:dpdk Branch: master CommitID:5d09be1636cfb06c812edc4b5760aa7cd6866e57 90799 --> performance testing pass Test environment and result as below: Ubuntu 18.04 Kernel: 4.15.0-generic Compiler: gcc 7.4 NIC: Intel Corporation Ethernet Converged Network Adapter 82599ES 10000 Mbps Target: x86_64-native-linuxapp-gcc Fail/Total: 0/2 Detail performance results: +------------+---------+-------------------------------------+ | frame_size | txd/rxd | throughput difference from expected | +============+=========+=====================================+ | 64 | 512 | 3.2071% | +------------+---------+-------------------------------------+ | 64 | 2048 | 2.24367% | +------------+---------+-------------------------------------+ Ubuntu 18.04 Kernel: 4.15.0-generic Compiler: gcc 7.4 NIC: Intel Corporation Ethernet Converged Network Adapter XL710-QDA2 40000 Mbps Target: x86_64-native-linuxapp-gcc Fail/Total: 0/2 Detail performance results: +------------+---------+-------------------------------------+ | frame_size | txd/rxd | throughput difference from expected | +============+=========+=====================================+ | 64 | 512 | 5.51217% | +------------+---------+-------------------------------------+ | 64 | 2048 | 5.08568% | +------------+---------+-------------------------------------+ To view detailed results, visit: https://lab.dpdk.org/results/dashboard/patchsets/16346/ UNH-IOL DPDK Community Lab To manage your email subscriptions, visit: https://lab.dpdk.org/results/dashboard/preferences/subscriptions/
[-- Attachment #1: Type: text/plain, Size: 3962 bytes --] Test-Label: iol-mellanox-Performance Test-Status: SUCCESS http://dpdk.org/patch/90799 _Performance Testing PASS_ Submitter: Balazs Nemeth <bnemeth@redhat.com> Date: Wednesday, April 07 2021 09:55:27 DPDK git baseline: Repo:dpdk Branch: master CommitID:5d09be1636cfb06c812edc4b5760aa7cd6866e57 90799 --> performance testing pass Test environment and result as below: Ubuntu 18.04 Kernel: 4.15.0-generic Compiler: gcc 7.4 NIC: Mellanox ConnectX-4 Lx 25000 Mbps Target: x86_64-native-linuxapp-gcc Fail/Total: 0/6 Detail performance results: +------------+---------+-------------------------------------+ | frame_size | txd/rxd | throughput difference from expected | +============+=========+=====================================+ | 64 | 256 | -0.1225% | +------------+---------+-------------------------------------+ | 128 | 256 | 0.05861% | +------------+---------+-------------------------------------+ | 256 | 256 | -1.42121% | +------------+---------+-------------------------------------+ | 512 | 256 | -0.17973% | +------------+---------+-------------------------------------+ | 1024 | 256 | 0.1338% | +------------+---------+-------------------------------------+ | 1518 | 256 | 0.02465% | +------------+---------+-------------------------------------+ Ubuntu 18.04 Kernel: 4.15.0-generic Compiler: gcc 7.4 NIC: Mellanox ConnectX-4 Lx 40000 Mbps Target: x86_64-native-linuxapp-gcc Fail/Total: 0/6 Detail performance results: +------------+---------+-------------------------------------+ | frame_size | txd/rxd | throughput difference from expected | +============+=========+=====================================+ | 64 | 256 | 0.32113% | +------------+---------+-------------------------------------+ | 128 | 256 | 0.55647% | +------------+---------+-------------------------------------+ | 256 | 256 | -0.2773% | +------------+---------+-------------------------------------+ | 512 | 256 | 0.06397% | +------------+---------+-------------------------------------+ | 1024 | 256 | -0.21918% | +------------+---------+-------------------------------------+ | 1518 | 256 | 0.06155% | +------------+---------+-------------------------------------+ Ubuntu 18.04 Kernel: 4.15.0-generic Compiler: gcc 7.4 NIC: Mellanox ConnectX-5 100000 Mbps Target: x86_64-native-linuxapp-gcc Fail/Total: 0/6 Detail performance results: +------------+---------+-------------------------------------+ | frame_size | txd/rxd | throughput difference from expected | +============+=========+=====================================+ | 64 | 256 | 0.13614% | +------------+---------+-------------------------------------+ | 128 | 256 | -0.45764% | +------------+---------+-------------------------------------+ | 256 | 256 | -0.24135% | +------------+---------+-------------------------------------+ | 512 | 256 | 0.52416% | +------------+---------+-------------------------------------+ | 1024 | 256 | 0.46496% | +------------+---------+-------------------------------------+ | 1518 | 256 | -0.0586% | +------------+---------+-------------------------------------+ To view detailed results, visit: https://lab.dpdk.org/results/dashboard/patchsets/16346/ UNH-IOL DPDK Community Lab To manage your email subscriptions, visit: https://lab.dpdk.org/results/dashboard/preferences/subscriptions/
[-- Attachment #1: Type: text/plain, Size: 948 bytes --] Test-Label: iol-abi-testing Test-Status: SUCCESS http://dpdk.org/patch/90799 _Testing PASS_ Submitter: Balazs Nemeth <bnemeth@redhat.com> Date: Wednesday, April 07 2021 09:55:27 DPDK git baseline: Repo:dpdk Branch: master CommitID:5d09be1636cfb06c812edc4b5760aa7cd6866e57 90799 --> testing pass Test environment and result as below: +------------------+----------+ | Environment | abi_test | +==================+==========+ | Ubuntu 18.04 ARM | PASS | +------------------+----------+ | Ubuntu 18.04 | PASS | +------------------+----------+ Ubuntu 18.04 ARM Kernel: 5.4.0-53-generic Compiler: gcc 9.3 Ubuntu 18.04 Kernel: 4.18.0-240.10.1.el8_3.x86_64 Compiler: gcc 7.5.0-3ubuntu1~18.04 To view detailed results, visit: https://lab.dpdk.org/results/dashboard/patchsets/16346/ UNH-IOL DPDK Community Lab To manage your email subscriptions, visit: https://lab.dpdk.org/results/dashboard/preferences/subscriptions/
[-- Attachment #1: Type: text/plain, Size: 4332 bytes --] Test-Label: iol-testing Test-Status: SUCCESS http://dpdk.org/patch/90799 _Testing PASS_ Submitter: Balazs Nemeth <bnemeth@redhat.com> Date: Wednesday, April 07 2021 09:55:27 DPDK git baseline: Repo:dpdk Branch: master CommitID:5d09be1636cfb06c812edc4b5760aa7cd6866e57 90799 --> testing pass Test environment and result as below: +---------------------+----------------------+--------------------+-------------------+----------------+ | Environment | dpdk_mingw64_compile | dpdk_meson_compile | dpdk_compile_spdk | dpdk_unit_test | +=====================+======================+====================+===================+================+ | Windows Server 2019 | PASS | PASS | SKIPPED | SKIPPED | +---------------------+----------------------+--------------------+-------------------+----------------+ | Ubuntu 18.04 | SKIPPED | PASS | PASS | PASS | +---------------------+----------------------+--------------------+-------------------+----------------+ | CentOS Stream 8 | SKIPPED | PASS | SKIPPED | SKIPPED | +---------------------+----------------------+--------------------+-------------------+----------------+ | Fedora 32 | SKIPPED | PASS | SKIPPED | SKIPPED | +---------------------+----------------------+--------------------+-------------------+----------------+ | Fedora 31 | SKIPPED | PASS | PASS | SKIPPED | +---------------------+----------------------+--------------------+-------------------+----------------+ | Ubuntu 20.04 | SKIPPED | PASS | SKIPPED | SKIPPED | +---------------------+----------------------+--------------------+-------------------+----------------+ | RHEL8 | SKIPPED | PASS | SKIPPED | SKIPPED | +---------------------+----------------------+--------------------+-------------------+----------------+ | RHEL 7 | SKIPPED | PASS | SKIPPED | SKIPPED | +---------------------+----------------------+--------------------+-------------------+----------------+ | FreeBSD 11.2 | SKIPPED | PASS | SKIPPED | SKIPPED | +---------------------+----------------------+--------------------+-------------------+----------------+ | Arch Linux | SKIPPED | PASS | SKIPPED | SKIPPED | +---------------------+----------------------+--------------------+-------------------+----------------+ | openSUSE Leap 15 | SKIPPED | PASS | SKIPPED | SKIPPED | +---------------------+----------------------+--------------------+-------------------+----------------+ | Ubuntu 18.04 ARM | SKIPPED | PASS | SKIPPED | PASS | +---------------------+----------------------+--------------------+-------------------+----------------+ Windows Server 2019 Kernel: 10.0 Compiler: clang 9.0 and gcc 8.1.0 (MinGW) Ubuntu 18.04 Kernel: 4.18.0-240.10.1.el8_3.x86_64 Compiler: gcc 7.5.0-3ubuntu1~18.04 CentOS Stream 8 Kernel: 4.18.0-240.10.1.el8_3.x86_64 Compiler: gcc 8.4.1 20200928 Fedora 32 Kernel: 4.18.0-240.10.1.el8_3.x86_64 Compiler: gcc 10.2.1 Fedora 31 Kernel: 4.18.0-240.10.1.el8_3.x86_64 Compiler: gcc 9.3.1 Ubuntu 20.04 Kernel: 4.18.0-240.10.1.el8_3.x86_64 Compiler: gcc 9.3.0-17ubuntu1~20.04 RHEL8 Kernel: 4.18.0-240.10.1.el8_3.x86_64 Compiler: gcc 8.3.1 20191121 (Red Hat 8.3.1-5) RHEL 7 Kernel: 4.18.0-240.10.1.el8_3.x86_64 Compiler: gcc 4.8.5 20150623 (Red Hat 4.8.5-44) FreeBSD 11.2 Kernel: 11.2 Compiler: gcc 8.3 Arch Linux Kernel: 4.18.0-240.10.1.el8_3.x86_64 Compiler: gcc 10.2.0 openSUSE Leap 15 Kernel: 4.18.0-240.10.1.el8_3.x86_64 Compiler: gcc 7.5.0 Ubuntu 18.04 ARM Kernel: 5.4.0-53-generic Compiler: gcc 9.3 To view detailed results, visit: https://lab.dpdk.org/results/dashboard/patchsets/16346/ UNH-IOL DPDK Community Lab To manage your email subscriptions, visit: https://lab.dpdk.org/results/dashboard/preferences/subscriptions/