* [dpdk-test-report] |SUCCESS| pw90876 [PATCH] examples/helloworld: add eal clean up to the example
[not found] <1617877043-11025-1-git-send-email-humin29@huawei.com>
@ 2021-04-08 10:17 ` checkpatch
2021-04-08 11:56 ` [dpdk-test-report] |SUCCESS| pw90876 " 0-day Robot
2021-04-08 11:57 ` [dpdk-test-report] |SUCCESS| pw90876 [dpdk-dev] [PATCH] " 0-day Robot
2 siblings, 0 replies; 5+ messages in thread
From: checkpatch @ 2021-04-08 10:17 UTC (permalink / raw)
To: test-report
Test-Label: checkpatch
Test-Status: SUCCESS
http://dpdk.org/patch/90876
_coding style OK_
^ permalink raw reply [flat|nested] 5+ messages in thread
* [dpdk-test-report] |SUCCESS| pw90876 examples/helloworld: add eal clean up to the example
[not found] <1617877043-11025-1-git-send-email-humin29@huawei.com>
2021-04-08 10:17 ` [dpdk-test-report] |SUCCESS| pw90876 [PATCH] examples/helloworld: add eal clean up to the example checkpatch
@ 2021-04-08 11:56 ` 0-day Robot
2021-04-08 11:57 ` [dpdk-test-report] |SUCCESS| pw90876 [dpdk-dev] [PATCH] " 0-day Robot
2 siblings, 0 replies; 5+ messages in thread
From: 0-day Robot @ 2021-04-08 11:56 UTC (permalink / raw)
To: test-report; +Cc: robot
From: robot@bytheb.org
Test-Label: travis-robot
Test-Status: SUCCESS
http://patchwork.dpdk.org/patch/90876/
_travis build: passed_
Build URL: https://travis-ci.com/ovsrobot/dpdk/builds/222500004
^ permalink raw reply [flat|nested] 5+ messages in thread
* [dpdk-test-report] |SUCCESS| pw90876 [dpdk-dev] [PATCH] examples/helloworld: add eal clean up to the example
[not found] <1617877043-11025-1-git-send-email-humin29@huawei.com>
2021-04-08 10:17 ` [dpdk-test-report] |SUCCESS| pw90876 [PATCH] examples/helloworld: add eal clean up to the example checkpatch
2021-04-08 11:56 ` [dpdk-test-report] |SUCCESS| pw90876 " 0-day Robot
@ 2021-04-08 11:57 ` 0-day Robot
2 siblings, 0 replies; 5+ messages in thread
From: 0-day Robot @ 2021-04-08 11:57 UTC (permalink / raw)
To: test-report; +Cc: robot
From: robot@bytheb.org
Test-Label: github-robot
Test-Status: SUCCESS
http://patchwork.dpdk.org/patch/90876/
_github build: passed_
Build URL: https://github.com/ovsrobot/dpdk/actions/runs/729266429
^ permalink raw reply [flat|nested] 5+ messages in thread
* [dpdk-test-report] |SUCCESS| pw90876 [PATCH] examples/helloworld: add eal clean up to the example
@ 2021-04-11 20:52 dpdklab
0 siblings, 0 replies; 5+ messages in thread
From: dpdklab @ 2021-04-11 20:52 UTC (permalink / raw)
To: Test Report; +Cc: dpdk-test-reports
[-- Attachment #1: Type: text/plain, Size: 3725 bytes --]
Test-Label: iol-testing
Test-Status: SUCCESS
http://dpdk.org/patch/90876
_Testing PASS_
Submitter: Min Hu (Connor) <humin29@huawei.com>
Date: Thursday, April 08 2021 10:17:23
DPDK git baseline: Repo:dpdk
Branch: master
CommitID:720dfda4551e8185ad34f333e58157a8eb4d02ab
90876 --> testing pass
Test environment and result as below:
+---------------------+----------------------+--------------------+-------------------+----------------+
| Environment | dpdk_mingw64_compile | dpdk_meson_compile | dpdk_compile_spdk | dpdk_unit_test |
+=====================+======================+====================+===================+================+
| Windows Server 2019 | PASS | PASS | SKIPPED | SKIPPED |
+---------------------+----------------------+--------------------+-------------------+----------------+
| FreeBSD 11.2 | SKIPPED | PASS | SKIPPED | SKIPPED |
+---------------------+----------------------+--------------------+-------------------+----------------+
| Ubuntu 18.04 | SKIPPED | PASS | PASS | PASS |
+---------------------+----------------------+--------------------+-------------------+----------------+
| Fedora 32 | SKIPPED | PASS | SKIPPED | SKIPPED |
+---------------------+----------------------+--------------------+-------------------+----------------+
| CentOS Stream 8 | SKIPPED | PASS | SKIPPED | SKIPPED |
+---------------------+----------------------+--------------------+-------------------+----------------+
| Fedora 31 | SKIPPED | PASS | PASS | SKIPPED |
+---------------------+----------------------+--------------------+-------------------+----------------+
| Arch Linux | SKIPPED | PASS | SKIPPED | SKIPPED |
+---------------------+----------------------+--------------------+-------------------+----------------+
| Ubuntu 20.04 | SKIPPED | PASS | SKIPPED | SKIPPED |
+---------------------+----------------------+--------------------+-------------------+----------------+
| openSUSE Leap 15 | SKIPPED | PASS | SKIPPED | SKIPPED |
+---------------------+----------------------+--------------------+-------------------+----------------+
| Ubuntu 18.04 ARM | SKIPPED | PASS | SKIPPED | PASS |
+---------------------+----------------------+--------------------+-------------------+----------------+
Windows Server 2019
Kernel: 10.0
Compiler: clang 9.0 and gcc 8.1.0 (MinGW)
FreeBSD 11.2
Kernel: 11.2
Compiler: gcc 8.3
Ubuntu 18.04
Kernel: 4.18.0-240.10.1.el8_3.x86_64
Compiler: gcc 7.5.0-3ubuntu1~18.04
Fedora 32
Kernel: 4.18.0-240.10.1.el8_3.x86_64
Compiler: gcc 10.2.1
CentOS Stream 8
Kernel: 4.18.0-240.10.1.el8_3.x86_64
Compiler: gcc 8.4.1 20200928
Fedora 31
Kernel: 4.18.0-240.10.1.el8_3.x86_64
Compiler: gcc 9.3.1
Arch Linux
Kernel: 4.18.0-240.10.1.el8_3.x86_64
Compiler: gcc 10.2.0
Ubuntu 20.04
Kernel: 4.18.0-240.10.1.el8_3.x86_64
Compiler: gcc 9.3.0-17ubuntu1~20.04
openSUSE Leap 15
Kernel: 4.18.0-240.10.1.el8_3.x86_64
Compiler: gcc 7.5.0
Ubuntu 18.04 ARM
Kernel: 5.4.0-53-generic
Compiler: gcc 9.3
To view detailed results, visit:
https://lab.dpdk.org/results/dashboard/patchsets/16379/
UNH-IOL DPDK Community Lab
To manage your email subscriptions, visit:
https://lab.dpdk.org/results/dashboard/preferences/subscriptions/
^ permalink raw reply [flat|nested] 5+ messages in thread
* [dpdk-test-report] |SUCCESS| pw90876 [PATCH] examples/helloworld: add eal clean up to the example
@ 2021-04-11 5:49 dpdklab
0 siblings, 0 replies; 5+ messages in thread
From: dpdklab @ 2021-04-11 5:49 UTC (permalink / raw)
To: Test Report; +Cc: dpdk-test-reports
[-- Attachment #1: Type: text/plain, Size: 949 bytes --]
Test-Label: iol-abi-testing
Test-Status: SUCCESS
http://dpdk.org/patch/90876
_Testing PASS_
Submitter: Min Hu (Connor) <humin29@huawei.com>
Date: Thursday, April 08 2021 10:17:23
DPDK git baseline: Repo:dpdk
Branch: master
CommitID:720dfda4551e8185ad34f333e58157a8eb4d02ab
90876 --> testing pass
Test environment and result as below:
+------------------+----------+
| Environment | abi_test |
+==================+==========+
| Ubuntu 18.04 ARM | PASS |
+------------------+----------+
| Ubuntu 18.04 | PASS |
+------------------+----------+
Ubuntu 18.04 ARM
Kernel: 5.4.0-53-generic
Compiler: gcc 9.3
Ubuntu 18.04
Kernel: 4.18.0-240.10.1.el8_3.x86_64
Compiler: gcc 7.5.0-3ubuntu1~18.04
To view detailed results, visit:
https://lab.dpdk.org/results/dashboard/patchsets/16379/
UNH-IOL DPDK Community Lab
To manage your email subscriptions, visit:
https://lab.dpdk.org/results/dashboard/preferences/subscriptions/
^ permalink raw reply [flat|nested] 5+ messages in thread
end of thread, other threads:[~2021-04-11 20:52 UTC | newest]
Thread overview: 5+ messages (download: mbox.gz / follow: Atom feed)
-- links below jump to the message on this page --
[not found] <1617877043-11025-1-git-send-email-humin29@huawei.com>
2021-04-08 10:17 ` [dpdk-test-report] |SUCCESS| pw90876 [PATCH] examples/helloworld: add eal clean up to the example checkpatch
2021-04-08 11:56 ` [dpdk-test-report] |SUCCESS| pw90876 " 0-day Robot
2021-04-08 11:57 ` [dpdk-test-report] |SUCCESS| pw90876 [dpdk-dev] [PATCH] " 0-day Robot
2021-04-11 5:49 [dpdk-test-report] |SUCCESS| pw90876 " dpdklab
2021-04-11 20:52 dpdklab
This is a public inbox, see mirroring instructions
for how to clone and mirror all data and code used for this inbox;
as well as URLs for NNTP newsgroup(s).