* [dpdk-test-report] |SUCCESS| pw90920 [PATCH] net/enic: fix flow initialization error handling
@ 2021-04-09 1:50 dpdklab
0 siblings, 0 replies; 8+ messages in thread
From: dpdklab @ 2021-04-09 1:50 UTC (permalink / raw)
To: Test Report; +Cc: dpdk-test-reports
[-- Attachment #1: Type: text/plain, Size: 1908 bytes --]
Test-Label: iol-intel-Performance
Test-Status: SUCCESS
http://dpdk.org/patch/90920
_Performance Testing PASS_
Submitter: John Daley <johndale@cisco.com>
Date: Thursday, April 08 2021 23:06:31
DPDK git baseline: Repo:dpdk
Branch: master
CommitID:cace2d7ef27995694415ae4bc90f41c9667f3b30
90920 --> performance testing pass
Test environment and result as below:
Ubuntu 18.04
Kernel: 4.15.0-generic
Compiler: gcc 7.4
NIC: Intel Corporation Ethernet Converged Network Adapter 82599ES 10000 Mbps
Target: x86_64-native-linuxapp-gcc
Fail/Total: 0/2
Detail performance results:
+------------+---------+-------------------------------------+
| frame_size | txd/rxd | throughput difference from expected |
+============+=========+=====================================+
| 64 | 512 | 2.97835% |
+------------+---------+-------------------------------------+
| 64 | 2048 | 2.48786% |
+------------+---------+-------------------------------------+
Ubuntu 18.04
Kernel: 4.15.0-generic
Compiler: gcc 7.4
NIC: Intel Corporation Ethernet Converged Network Adapter XL710-QDA2 40000 Mbps
Target: x86_64-native-linuxapp-gcc
Fail/Total: 0/2
Detail performance results:
+------------+---------+-------------------------------------+
| frame_size | txd/rxd | throughput difference from expected |
+============+=========+=====================================+
| 64 | 512 | 5.29448% |
+------------+---------+-------------------------------------+
| 64 | 2048 | 5.375% |
+------------+---------+-------------------------------------+
To view detailed results, visit:
https://lab.dpdk.org/results/dashboard/patchsets/16390/
UNH-IOL DPDK Community Lab
To manage your email subscriptions, visit:
https://lab.dpdk.org/results/dashboard/preferences/subscriptions/
^ permalink raw reply [flat|nested] 8+ messages in thread
* [dpdk-test-report] |SUCCESS| pw90920 [PATCH] net/enic: fix flow initialization error handling
@ 2021-04-09 3:34 dpdklab
0 siblings, 0 replies; 8+ messages in thread
From: dpdklab @ 2021-04-09 3:34 UTC (permalink / raw)
To: Ali Alnubani, Test Report; +Cc: dpdk-test-reports
[-- Attachment #1: Type: text/plain, Size: 3958 bytes --]
Test-Label: iol-mellanox-Performance
Test-Status: SUCCESS
http://dpdk.org/patch/90920
_Performance Testing PASS_
Submitter: John Daley <johndale@cisco.com>
Date: Thursday, April 08 2021 23:06:31
DPDK git baseline: Repo:dpdk
Branch: master
CommitID:cace2d7ef27995694415ae4bc90f41c9667f3b30
90920 --> performance testing pass
Test environment and result as below:
Ubuntu 18.04
Kernel: 4.15.0-generic
Compiler: gcc 7.4
NIC: Mellanox ConnectX-4 Lx 25000 Mbps
Target: x86_64-native-linuxapp-gcc
Fail/Total: 0/6
Detail performance results:
+------------+---------+-------------------------------------+
| frame_size | txd/rxd | throughput difference from expected |
+============+=========+=====================================+
| 64 | 256 | -0.04831% |
+------------+---------+-------------------------------------+
| 128 | 256 | -0.08286% |
+------------+---------+-------------------------------------+
| 256 | 256 | -0.14477% |
+------------+---------+-------------------------------------+
| 512 | 256 | 0.37778% |
+------------+---------+-------------------------------------+
| 1024 | 256 | 0.0% |
+------------+---------+-------------------------------------+
| 1518 | 256 | 0.04933% |
+------------+---------+-------------------------------------+
Ubuntu 18.04
Kernel: 4.15.0-generic
Compiler: gcc 7.4
NIC: Mellanox ConnectX-4 Lx 40000 Mbps
Target: x86_64-native-linuxapp-gcc
Fail/Total: 0/6
Detail performance results:
+------------+---------+-------------------------------------+
| frame_size | txd/rxd | throughput difference from expected |
+============+=========+=====================================+
| 64 | 256 | -0.4562% |
+------------+---------+-------------------------------------+
| 128 | 256 | -0.02582% |
+------------+---------+-------------------------------------+
| 256 | 256 | 0.0073% |
+------------+---------+-------------------------------------+
| 512 | 256 | 0.09602% |
+------------+---------+-------------------------------------+
| 1024 | 256 | -0.22969% |
+------------+---------+-------------------------------------+
| 1518 | 256 | -0.1692% |
+------------+---------+-------------------------------------+
Ubuntu 18.04
Kernel: 4.15.0-generic
Compiler: gcc 7.4
NIC: Mellanox ConnectX-5 100000 Mbps
Target: x86_64-native-linuxapp-gcc
Fail/Total: 0/6
Detail performance results:
+------------+---------+-------------------------------------+
| frame_size | txd/rxd | throughput difference from expected |
+============+=========+=====================================+
| 64 | 256 | -0.25921% |
+------------+---------+-------------------------------------+
| 128 | 256 | 0.10002% |
+------------+---------+-------------------------------------+
| 256 | 256 | -0.23217% |
+------------+---------+-------------------------------------+
| 512 | 256 | -0.03978% |
+------------+---------+-------------------------------------+
| 1024 | 256 | -1.18289% |
+------------+---------+-------------------------------------+
| 1518 | 256 | -0.05867% |
+------------+---------+-------------------------------------+
To view detailed results, visit:
https://lab.dpdk.org/results/dashboard/patchsets/16390/
UNH-IOL DPDK Community Lab
To manage your email subscriptions, visit:
https://lab.dpdk.org/results/dashboard/preferences/subscriptions/
^ permalink raw reply [flat|nested] 8+ messages in thread
* [dpdk-test-report] |SUCCESS| pw90920 [PATCH] net/enic: fix flow initialization error handling
@ 2021-04-09 6:05 dpdklab
0 siblings, 0 replies; 8+ messages in thread
From: dpdklab @ 2021-04-09 6:05 UTC (permalink / raw)
To: Ali Alnubani, Test Report; +Cc: dpdk-test-reports
[-- Attachment #1: Type: text/plain, Size: 752 bytes --]
Test-Label: iol-mellanox-Functional
Test-Status: SUCCESS
http://dpdk.org/patch/90920
_Functional Testing PASS_
Submitter: John Daley <johndale@cisco.com>
Date: Thursday, April 08 2021 23:06:31
DPDK git baseline: Repo:dpdk
Branch: master
CommitID:cace2d7ef27995694415ae4bc90f41c9667f3b30
90920 --> functional testing pass
Test environment and result as below:
Ubuntu 18.04 ARM
Kernel: 4.15.0-132-generic
Compiler: gcc 7.5
NIC: Arm Mellanox ConnectX-5 10000 Mbps
Target: x86_64-native-linuxapp-gcc
Fail/Total: 0/4
To view detailed results, visit:
https://lab.dpdk.org/results/dashboard/patchsets/16390/
UNH-IOL DPDK Community Lab
To manage your email subscriptions, visit:
https://lab.dpdk.org/results/dashboard/preferences/subscriptions/
^ permalink raw reply [flat|nested] 8+ messages in thread
* [dpdk-test-report] |SUCCESS| pw90920 [PATCH] net/enic: fix flow initialization error handling
@ 2021-04-09 14:51 dpdklab
0 siblings, 0 replies; 8+ messages in thread
From: dpdklab @ 2021-04-09 14:51 UTC (permalink / raw)
To: Test Report; +Cc: dpdk-test-reports
[-- Attachment #1: Type: text/plain, Size: 944 bytes --]
Test-Label: iol-abi-testing
Test-Status: SUCCESS
http://dpdk.org/patch/90920
_Testing PASS_
Submitter: John Daley <johndale@cisco.com>
Date: Thursday, April 08 2021 23:06:31
DPDK git baseline: Repo:dpdk
Branch: master
CommitID:cace2d7ef27995694415ae4bc90f41c9667f3b30
90920 --> testing pass
Test environment and result as below:
+------------------+----------+
| Environment | abi_test |
+==================+==========+
| Ubuntu 18.04 ARM | PASS |
+------------------+----------+
| Ubuntu 18.04 | PASS |
+------------------+----------+
Ubuntu 18.04 ARM
Kernel: 5.4.0-53-generic
Compiler: gcc 9.3
Ubuntu 18.04
Kernel: 4.18.0-240.10.1.el8_3.x86_64
Compiler: gcc 7.5.0-3ubuntu1~18.04
To view detailed results, visit:
https://lab.dpdk.org/results/dashboard/patchsets/16390/
UNH-IOL DPDK Community Lab
To manage your email subscriptions, visit:
https://lab.dpdk.org/results/dashboard/preferences/subscriptions/
^ permalink raw reply [flat|nested] 8+ messages in thread
* [dpdk-test-report] |SUCCESS| pw90920 [PATCH] net/enic: fix flow initialization error handling
@ 2021-04-10 16:37 dpdklab
0 siblings, 0 replies; 8+ messages in thread
From: dpdklab @ 2021-04-10 16:37 UTC (permalink / raw)
To: Test Report; +Cc: dpdk-test-reports
[-- Attachment #1: Type: text/plain, Size: 3720 bytes --]
Test-Label: iol-testing
Test-Status: SUCCESS
http://dpdk.org/patch/90920
_Testing PASS_
Submitter: John Daley <johndale@cisco.com>
Date: Thursday, April 08 2021 23:06:31
DPDK git baseline: Repo:dpdk
Branch: master
CommitID:cace2d7ef27995694415ae4bc90f41c9667f3b30
90920 --> testing pass
Test environment and result as below:
+---------------------+----------------------+--------------------+----------------+-------------------+
| Environment | dpdk_mingw64_compile | dpdk_meson_compile | dpdk_unit_test | dpdk_compile_spdk |
+=====================+======================+====================+================+===================+
| Windows Server 2019 | PASS | PASS | SKIPPED | SKIPPED |
+---------------------+----------------------+--------------------+----------------+-------------------+
| Ubuntu 18.04 | SKIPPED | PASS | PASS | PASS |
+---------------------+----------------------+--------------------+----------------+-------------------+
| Fedora 31 | SKIPPED | PASS | SKIPPED | PASS |
+---------------------+----------------------+--------------------+----------------+-------------------+
| Fedora 32 | SKIPPED | PASS | SKIPPED | SKIPPED |
+---------------------+----------------------+--------------------+----------------+-------------------+
| openSUSE Leap 15 | SKIPPED | PASS | SKIPPED | SKIPPED |
+---------------------+----------------------+--------------------+----------------+-------------------+
| FreeBSD 11.2 | SKIPPED | PASS | SKIPPED | SKIPPED |
+---------------------+----------------------+--------------------+----------------+-------------------+
| Arch Linux | SKIPPED | PASS | SKIPPED | SKIPPED |
+---------------------+----------------------+--------------------+----------------+-------------------+
| Ubuntu 20.04 | SKIPPED | PASS | SKIPPED | SKIPPED |
+---------------------+----------------------+--------------------+----------------+-------------------+
| CentOS Stream 8 | SKIPPED | PASS | SKIPPED | SKIPPED |
+---------------------+----------------------+--------------------+----------------+-------------------+
| Ubuntu 18.04 ARM | SKIPPED | PASS | PASS | SKIPPED |
+---------------------+----------------------+--------------------+----------------+-------------------+
Windows Server 2019
Kernel: 10.0
Compiler: clang 9.0 and gcc 8.1.0 (MinGW)
Ubuntu 18.04
Kernel: 4.18.0-240.10.1.el8_3.x86_64
Compiler: gcc 7.5.0-3ubuntu1~18.04
Fedora 31
Kernel: 4.18.0-240.10.1.el8_3.x86_64
Compiler: gcc 9.3.1
Fedora 32
Kernel: 4.18.0-240.10.1.el8_3.x86_64
Compiler: gcc 10.2.1
openSUSE Leap 15
Kernel: 4.18.0-240.10.1.el8_3.x86_64
Compiler: gcc 7.5.0
FreeBSD 11.2
Kernel: 11.2
Compiler: gcc 8.3
Arch Linux
Kernel: 4.18.0-240.10.1.el8_3.x86_64
Compiler: gcc 10.2.0
Ubuntu 20.04
Kernel: 4.18.0-240.10.1.el8_3.x86_64
Compiler: gcc 9.3.0-17ubuntu1~20.04
CentOS Stream 8
Kernel: 4.18.0-240.10.1.el8_3.x86_64
Compiler: gcc 8.4.1 20200928
Ubuntu 18.04 ARM
Kernel: 5.4.0-53-generic
Compiler: gcc 9.3
To view detailed results, visit:
https://lab.dpdk.org/results/dashboard/patchsets/16390/
UNH-IOL DPDK Community Lab
To manage your email subscriptions, visit:
https://lab.dpdk.org/results/dashboard/preferences/subscriptions/
^ permalink raw reply [flat|nested] 8+ messages in thread
end of thread, other threads:[~2021-04-10 16:37 UTC | newest]
Thread overview: 8+ messages (download: mbox.gz / follow: Atom feed)
-- links below jump to the message on this page --
[not found] <20210408230631.2648-1-johndale@cisco.com>
2021-04-08 23:07 ` [dpdk-test-report] |SUCCESS| pw90920 [PATCH] net/enic: fix flow initialization error handling checkpatch
2021-04-09 0:55 ` [dpdk-test-report] |SUCCESS| pw90920 " 0-day Robot
2021-04-09 0:57 ` [dpdk-test-report] |SUCCESS| pw90920 [dpdk-dev] [PATCH] " 0-day Robot
2021-04-09 1:50 [dpdk-test-report] |SUCCESS| pw90920 " dpdklab
2021-04-09 3:34 dpdklab
2021-04-09 6:05 dpdklab
2021-04-09 14:51 dpdklab
2021-04-10 16:37 dpdklab
This is a public inbox, see mirroring instructions
for how to clone and mirror all data and code used for this inbox;
as well as URLs for NNTP newsgroup(s).