* [dpdk-test-report] |SUCCESS| pw90965 [PATCH] net/hns3: support trace Rx/Tx burst function
@ 2021-04-11 6:24 dpdklab
0 siblings, 0 replies; 9+ messages in thread
From: dpdklab @ 2021-04-11 6:24 UTC (permalink / raw)
To: Test Report; +Cc: dpdk-test-reports
[-- Attachment #1: Type: text/plain, Size: 3723 bytes --]
Test-Label: iol-testing
Test-Status: SUCCESS
http://dpdk.org/patch/90965
_Testing PASS_
Submitter: Min Hu (Connor) <humin29@huawei.com>
Date: Friday, April 09 2021 10:26:43
DPDK git baseline: Repo:dpdk
Branch: master
CommitID:cace2d7ef27995694415ae4bc90f41c9667f3b30
90965 --> testing pass
Test environment and result as below:
+---------------------+----------------------+--------------------+-------------------+----------------+
| Environment | dpdk_mingw64_compile | dpdk_meson_compile | dpdk_compile_spdk | dpdk_unit_test |
+=====================+======================+====================+===================+================+
| Windows Server 2019 | PASS | PASS | SKIPPED | SKIPPED |
+---------------------+----------------------+--------------------+-------------------+----------------+
| Ubuntu 18.04 | SKIPPED | PASS | PASS | PASS |
+---------------------+----------------------+--------------------+-------------------+----------------+
| Fedora 31 | SKIPPED | PASS | PASS | SKIPPED |
+---------------------+----------------------+--------------------+-------------------+----------------+
| Fedora 32 | SKIPPED | PASS | SKIPPED | SKIPPED |
+---------------------+----------------------+--------------------+-------------------+----------------+
| CentOS Stream 8 | SKIPPED | PASS | SKIPPED | SKIPPED |
+---------------------+----------------------+--------------------+-------------------+----------------+
| Arch Linux | SKIPPED | PASS | SKIPPED | SKIPPED |
+---------------------+----------------------+--------------------+-------------------+----------------+
| Ubuntu 20.04 | SKIPPED | PASS | SKIPPED | SKIPPED |
+---------------------+----------------------+--------------------+-------------------+----------------+
| openSUSE Leap 15 | SKIPPED | PASS | SKIPPED | SKIPPED |
+---------------------+----------------------+--------------------+-------------------+----------------+
| FreeBSD 11.2 | SKIPPED | PASS | SKIPPED | SKIPPED |
+---------------------+----------------------+--------------------+-------------------+----------------+
| Ubuntu 18.04 ARM | SKIPPED | PASS | SKIPPED | PASS |
+---------------------+----------------------+--------------------+-------------------+----------------+
Windows Server 2019
Kernel: 10.0
Compiler: clang 9.0 and gcc 8.1.0 (MinGW)
Ubuntu 18.04
Kernel: 4.18.0-240.10.1.el8_3.x86_64
Compiler: gcc 7.5.0-3ubuntu1~18.04
Fedora 31
Kernel: 4.18.0-240.10.1.el8_3.x86_64
Compiler: gcc 9.3.1
Fedora 32
Kernel: 4.18.0-240.10.1.el8_3.x86_64
Compiler: gcc 10.2.1
CentOS Stream 8
Kernel: 4.18.0-240.10.1.el8_3.x86_64
Compiler: gcc 8.4.1 20200928
Arch Linux
Kernel: 4.18.0-240.10.1.el8_3.x86_64
Compiler: gcc 10.2.0
Ubuntu 20.04
Kernel: 4.18.0-240.10.1.el8_3.x86_64
Compiler: gcc 9.3.0-17ubuntu1~20.04
openSUSE Leap 15
Kernel: 4.18.0-240.10.1.el8_3.x86_64
Compiler: gcc 7.5.0
FreeBSD 11.2
Kernel: 11.2
Compiler: gcc 8.3
Ubuntu 18.04 ARM
Kernel: 5.4.0-53-generic
Compiler: gcc 9.3
To view detailed results, visit:
https://lab.dpdk.org/results/dashboard/patchsets/16403/
UNH-IOL DPDK Community Lab
To manage your email subscriptions, visit:
https://lab.dpdk.org/results/dashboard/preferences/subscriptions/
^ permalink raw reply [flat|nested] 9+ messages in thread
* [dpdk-test-report] |SUCCESS| pw90965 [PATCH] net/hns3: support trace Rx/Tx burst function
@ 2021-04-11 5:47 dpdklab
0 siblings, 0 replies; 9+ messages in thread
From: dpdklab @ 2021-04-11 5:47 UTC (permalink / raw)
To: Test Report; +Cc: dpdk-test-reports
[-- Attachment #1: Type: text/plain, Size: 3723 bytes --]
Test-Label: iol-testing
Test-Status: SUCCESS
http://dpdk.org/patch/90965
_Testing PASS_
Submitter: Min Hu (Connor) <humin29@huawei.com>
Date: Friday, April 09 2021 10:26:43
DPDK git baseline: Repo:dpdk
Branch: master
CommitID:cace2d7ef27995694415ae4bc90f41c9667f3b30
90965 --> testing pass
Test environment and result as below:
+---------------------+----------------------+--------------------+-------------------+----------------+
| Environment | dpdk_mingw64_compile | dpdk_meson_compile | dpdk_compile_spdk | dpdk_unit_test |
+=====================+======================+====================+===================+================+
| Windows Server 2019 | PASS | PASS | SKIPPED | SKIPPED |
+---------------------+----------------------+--------------------+-------------------+----------------+
| CentOS Stream 8 | SKIPPED | PASS | SKIPPED | SKIPPED |
+---------------------+----------------------+--------------------+-------------------+----------------+
| Fedora 32 | SKIPPED | PASS | SKIPPED | SKIPPED |
+---------------------+----------------------+--------------------+-------------------+----------------+
| FreeBSD 11.2 | SKIPPED | PASS | SKIPPED | SKIPPED |
+---------------------+----------------------+--------------------+-------------------+----------------+
| Arch Linux | SKIPPED | PASS | SKIPPED | SKIPPED |
+---------------------+----------------------+--------------------+-------------------+----------------+
| Ubuntu 18.04 | SKIPPED | PASS | PASS | PASS |
+---------------------+----------------------+--------------------+-------------------+----------------+
| openSUSE Leap 15 | SKIPPED | PASS | SKIPPED | SKIPPED |
+---------------------+----------------------+--------------------+-------------------+----------------+
| Fedora 31 | SKIPPED | PASS | PASS | SKIPPED |
+---------------------+----------------------+--------------------+-------------------+----------------+
| Ubuntu 20.04 | SKIPPED | PASS | SKIPPED | SKIPPED |
+---------------------+----------------------+--------------------+-------------------+----------------+
| Ubuntu 18.04 ARM | SKIPPED | PASS | SKIPPED | PASS |
+---------------------+----------------------+--------------------+-------------------+----------------+
Windows Server 2019
Kernel: 10.0
Compiler: clang 9.0 and gcc 8.1.0 (MinGW)
CentOS Stream 8
Kernel: 4.18.0-240.10.1.el8_3.x86_64
Compiler: gcc 8.4.1 20200928
Fedora 32
Kernel: 4.18.0-240.10.1.el8_3.x86_64
Compiler: gcc 10.2.1
FreeBSD 11.2
Kernel: 11.2
Compiler: gcc 8.3
Arch Linux
Kernel: 4.18.0-240.10.1.el8_3.x86_64
Compiler: gcc 10.2.0
Ubuntu 18.04
Kernel: 4.18.0-240.10.1.el8_3.x86_64
Compiler: gcc 7.5.0-3ubuntu1~18.04
openSUSE Leap 15
Kernel: 4.18.0-240.10.1.el8_3.x86_64
Compiler: gcc 7.5.0
Fedora 31
Kernel: 4.18.0-240.10.1.el8_3.x86_64
Compiler: gcc 9.3.1
Ubuntu 20.04
Kernel: 4.18.0-240.10.1.el8_3.x86_64
Compiler: gcc 9.3.0-17ubuntu1~20.04
Ubuntu 18.04 ARM
Kernel: 5.4.0-53-generic
Compiler: gcc 9.3
To view detailed results, visit:
https://lab.dpdk.org/results/dashboard/patchsets/16403/
UNH-IOL DPDK Community Lab
To manage your email subscriptions, visit:
https://lab.dpdk.org/results/dashboard/preferences/subscriptions/
^ permalink raw reply [flat|nested] 9+ messages in thread
* [dpdk-test-report] |SUCCESS| pw90965 [PATCH] net/hns3: support trace Rx/Tx burst function
@ 2021-04-10 13:59 dpdklab
0 siblings, 0 replies; 9+ messages in thread
From: dpdklab @ 2021-04-10 13:59 UTC (permalink / raw)
To: Test Report; +Cc: dpdk-test-reports
[-- Attachment #1: Type: text/plain, Size: 947 bytes --]
Test-Label: iol-abi-testing
Test-Status: SUCCESS
http://dpdk.org/patch/90965
_Testing PASS_
Submitter: Min Hu (Connor) <humin29@huawei.com>
Date: Friday, April 09 2021 10:26:43
DPDK git baseline: Repo:dpdk
Branch: master
CommitID:cace2d7ef27995694415ae4bc90f41c9667f3b30
90965 --> testing pass
Test environment and result as below:
+------------------+----------+
| Environment | abi_test |
+==================+==========+
| Ubuntu 18.04 ARM | PASS |
+------------------+----------+
| Ubuntu 18.04 | PASS |
+------------------+----------+
Ubuntu 18.04 ARM
Kernel: 5.4.0-53-generic
Compiler: gcc 9.3
Ubuntu 18.04
Kernel: 4.18.0-240.10.1.el8_3.x86_64
Compiler: gcc 7.5.0-3ubuntu1~18.04
To view detailed results, visit:
https://lab.dpdk.org/results/dashboard/patchsets/16403/
UNH-IOL DPDK Community Lab
To manage your email subscriptions, visit:
https://lab.dpdk.org/results/dashboard/preferences/subscriptions/
^ permalink raw reply [flat|nested] 9+ messages in thread
* [dpdk-test-report] |SUCCESS| pw90965 [PATCH] net/hns3: support trace Rx/Tx burst function
@ 2021-04-10 13:16 dpdklab
0 siblings, 0 replies; 9+ messages in thread
From: dpdklab @ 2021-04-10 13:16 UTC (permalink / raw)
To: Test Report; +Cc: dpdk-test-reports
[-- Attachment #1: Type: text/plain, Size: 947 bytes --]
Test-Label: iol-abi-testing
Test-Status: SUCCESS
http://dpdk.org/patch/90965
_Testing PASS_
Submitter: Min Hu (Connor) <humin29@huawei.com>
Date: Friday, April 09 2021 10:26:43
DPDK git baseline: Repo:dpdk
Branch: master
CommitID:cace2d7ef27995694415ae4bc90f41c9667f3b30
90965 --> testing pass
Test environment and result as below:
+------------------+----------+
| Environment | abi_test |
+==================+==========+
| Ubuntu 18.04 ARM | PASS |
+------------------+----------+
| Ubuntu 18.04 | PASS |
+------------------+----------+
Ubuntu 18.04 ARM
Kernel: 5.4.0-53-generic
Compiler: gcc 9.3
Ubuntu 18.04
Kernel: 4.18.0-240.10.1.el8_3.x86_64
Compiler: gcc 7.5.0-3ubuntu1~18.04
To view detailed results, visit:
https://lab.dpdk.org/results/dashboard/patchsets/16403/
UNH-IOL DPDK Community Lab
To manage your email subscriptions, visit:
https://lab.dpdk.org/results/dashboard/preferences/subscriptions/
^ permalink raw reply [flat|nested] 9+ messages in thread
* [dpdk-test-report] |SUCCESS| pw90965 [PATCH] net/hns3: support trace Rx/Tx burst function
@ 2021-04-10 2:46 dpdklab
0 siblings, 0 replies; 9+ messages in thread
From: dpdklab @ 2021-04-10 2:46 UTC (permalink / raw)
To: Ali Alnubani, Test Report; +Cc: dpdk-test-reports
[-- Attachment #1: Type: text/plain, Size: 3961 bytes --]
Test-Label: iol-mellanox-Performance
Test-Status: SUCCESS
http://dpdk.org/patch/90965
_Performance Testing PASS_
Submitter: Min Hu (Connor) <humin29@huawei.com>
Date: Friday, April 09 2021 10:26:43
DPDK git baseline: Repo:dpdk
Branch: master
CommitID:cace2d7ef27995694415ae4bc90f41c9667f3b30
90965 --> performance testing pass
Test environment and result as below:
Ubuntu 18.04
Kernel: 4.15.0-generic
Compiler: gcc 7.4
NIC: Mellanox ConnectX-5 100000 Mbps
Target: x86_64-native-linuxapp-gcc
Fail/Total: 0/6
Detail performance results:
+------------+---------+-------------------------------------+
| frame_size | txd/rxd | throughput difference from expected |
+============+=========+=====================================+
| 64 | 256 | 0.01458% |
+------------+---------+-------------------------------------+
| 128 | 256 | 0.163% |
+------------+---------+-------------------------------------+
| 256 | 256 | 0.4244% |
+------------+---------+-------------------------------------+
| 512 | 256 | 0.41543% |
+------------+---------+-------------------------------------+
| 1024 | 256 | -0.26846% |
+------------+---------+-------------------------------------+
| 1518 | 256 | -0.12908% |
+------------+---------+-------------------------------------+
Ubuntu 18.04
Kernel: 4.15.0-generic
Compiler: gcc 7.4
NIC: Mellanox ConnectX-4 Lx 25000 Mbps
Target: x86_64-native-linuxapp-gcc
Fail/Total: 0/6
Detail performance results:
+------------+---------+-------------------------------------+
| frame_size | txd/rxd | throughput difference from expected |
+============+=========+=====================================+
| 64 | 256 | 0.02558% |
+------------+---------+-------------------------------------+
| 128 | 256 | 0.06905% |
+------------+---------+-------------------------------------+
| 256 | 256 | 0.49421% |
+------------+---------+-------------------------------------+
| 512 | 256 | 0.36061% |
+------------+---------+-------------------------------------+
| 1024 | 256 | 0.13396% |
+------------+---------+-------------------------------------+
| 1518 | 256 | 0.39467% |
+------------+---------+-------------------------------------+
Ubuntu 18.04
Kernel: 4.15.0-generic
Compiler: gcc 7.4
NIC: Mellanox ConnectX-4 Lx 40000 Mbps
Target: x86_64-native-linuxapp-gcc
Fail/Total: 0/6
Detail performance results:
+------------+---------+-------------------------------------+
| frame_size | txd/rxd | throughput difference from expected |
+============+=========+=====================================+
| 64 | 256 | -0.52749% |
+------------+---------+-------------------------------------+
| 128 | 256 | 1.34538% |
+------------+---------+-------------------------------------+
| 256 | 256 | -0.28453% |
+------------+---------+-------------------------------------+
| 512 | 256 | 0.41609% |
+------------+---------+-------------------------------------+
| 1024 | 256 | 0.15661% |
+------------+---------+-------------------------------------+
| 1518 | 256 | -0.2615% |
+------------+---------+-------------------------------------+
To view detailed results, visit:
https://lab.dpdk.org/results/dashboard/patchsets/16403/
UNH-IOL DPDK Community Lab
To manage your email subscriptions, visit:
https://lab.dpdk.org/results/dashboard/preferences/subscriptions/
^ permalink raw reply [flat|nested] 9+ messages in thread
* [dpdk-test-report] |SUCCESS| pw90965 [PATCH] net/hns3: support trace Rx/Tx burst function
@ 2021-04-10 1:54 dpdklab
0 siblings, 0 replies; 9+ messages in thread
From: dpdklab @ 2021-04-10 1:54 UTC (permalink / raw)
To: Ali Alnubani, Test Report; +Cc: dpdk-test-reports
[-- Attachment #1: Type: text/plain, Size: 3961 bytes --]
Test-Label: iol-mellanox-Performance
Test-Status: SUCCESS
http://dpdk.org/patch/90965
_Performance Testing PASS_
Submitter: Min Hu (Connor) <humin29@huawei.com>
Date: Friday, April 09 2021 10:26:43
DPDK git baseline: Repo:dpdk
Branch: master
CommitID:cace2d7ef27995694415ae4bc90f41c9667f3b30
90965 --> performance testing pass
Test environment and result as below:
Ubuntu 18.04
Kernel: 4.15.0-generic
Compiler: gcc 7.4
NIC: Mellanox ConnectX-5 100000 Mbps
Target: x86_64-native-linuxapp-gcc
Fail/Total: 0/6
Detail performance results:
+------------+---------+-------------------------------------+
| frame_size | txd/rxd | throughput difference from expected |
+============+=========+=====================================+
| 64 | 256 | -0.09234% |
+------------+---------+-------------------------------------+
| 128 | 256 | 0.27413% |
+------------+---------+-------------------------------------+
| 256 | 256 | 0.40942% |
+------------+---------+-------------------------------------+
| 512 | 256 | 0.3624% |
+------------+---------+-------------------------------------+
| 1024 | 256 | -0.44463% |
+------------+---------+-------------------------------------+
| 1518 | 256 | 0.0% |
+------------+---------+-------------------------------------+
Ubuntu 18.04
Kernel: 4.15.0-generic
Compiler: gcc 7.4
NIC: Mellanox ConnectX-4 Lx 25000 Mbps
Target: x86_64-native-linuxapp-gcc
Fail/Total: 0/6
Detail performance results:
+------------+---------+-------------------------------------+
| frame_size | txd/rxd | throughput difference from expected |
+============+=========+=====================================+
| 64 | 256 | -0.27568% |
+------------+---------+-------------------------------------+
| 128 | 256 | -0.02071% |
+------------+---------+-------------------------------------+
| 256 | 256 | 0.29453% |
+------------+---------+-------------------------------------+
| 512 | 256 | 0.26616% |
+------------+---------+-------------------------------------+
| 1024 | 256 | 0.20094% |
+------------+---------+-------------------------------------+
| 1518 | 256 | 0.148% |
+------------+---------+-------------------------------------+
Ubuntu 18.04
Kernel: 4.15.0-generic
Compiler: gcc 7.4
NIC: Mellanox ConnectX-4 Lx 40000 Mbps
Target: x86_64-native-linuxapp-gcc
Fail/Total: 0/6
Detail performance results:
+------------+---------+-------------------------------------+
| frame_size | txd/rxd | throughput difference from expected |
+============+=========+=====================================+
| 64 | 256 | -0.17678% |
+------------+---------+-------------------------------------+
| 128 | 256 | -0.42169% |
+------------+---------+-------------------------------------+
| 256 | 256 | -0.04377% |
+------------+---------+-------------------------------------+
| 512 | 256 | 0.10669% |
+------------+---------+-------------------------------------+
| 1024 | 256 | -0.25057% |
+------------+---------+-------------------------------------+
| 1518 | 256 | -0.15382% |
+------------+---------+-------------------------------------+
To view detailed results, visit:
https://lab.dpdk.org/results/dashboard/patchsets/16403/
UNH-IOL DPDK Community Lab
To manage your email subscriptions, visit:
https://lab.dpdk.org/results/dashboard/preferences/subscriptions/
^ permalink raw reply [flat|nested] 9+ messages in thread
* [dpdk-test-report] |SUCCESS| pw90965 [PATCH] net/hns3: support trace Rx/Tx burst function
@ 2021-04-10 0:04 dpdklab
0 siblings, 0 replies; 9+ messages in thread
From: dpdklab @ 2021-04-10 0:04 UTC (permalink / raw)
To: Test Report; +Cc: dpdk-test-reports
[-- Attachment #1: Type: text/plain, Size: 1911 bytes --]
Test-Label: iol-intel-Performance
Test-Status: SUCCESS
http://dpdk.org/patch/90965
_Performance Testing PASS_
Submitter: Min Hu (Connor) <humin29@huawei.com>
Date: Friday, April 09 2021 10:26:43
DPDK git baseline: Repo:dpdk
Branch: master
CommitID:cace2d7ef27995694415ae4bc90f41c9667f3b30
90965 --> performance testing pass
Test environment and result as below:
Ubuntu 18.04
Kernel: 4.15.0-generic
Compiler: gcc 7.4
NIC: Intel Corporation Ethernet Converged Network Adapter 82599ES 10000 Mbps
Target: x86_64-native-linuxapp-gcc
Fail/Total: 0/2
Detail performance results:
+------------+---------+-------------------------------------+
| frame_size | txd/rxd | throughput difference from expected |
+============+=========+=====================================+
| 64 | 512 | 3.46983% |
+------------+---------+-------------------------------------+
| 64 | 2048 | 2.7062% |
+------------+---------+-------------------------------------+
Ubuntu 18.04
Kernel: 4.15.0-generic
Compiler: gcc 7.4
NIC: Intel Corporation Ethernet Converged Network Adapter XL710-QDA2 40000 Mbps
Target: x86_64-native-linuxapp-gcc
Fail/Total: 0/2
Detail performance results:
+------------+---------+-------------------------------------+
| frame_size | txd/rxd | throughput difference from expected |
+============+=========+=====================================+
| 64 | 512 | 5.58008% |
+------------+---------+-------------------------------------+
| 64 | 2048 | 5.34507% |
+------------+---------+-------------------------------------+
To view detailed results, visit:
https://lab.dpdk.org/results/dashboard/patchsets/16403/
UNH-IOL DPDK Community Lab
To manage your email subscriptions, visit:
https://lab.dpdk.org/results/dashboard/preferences/subscriptions/
^ permalink raw reply [flat|nested] 9+ messages in thread
* [dpdk-test-report] |SUCCESS| pw90965 [PATCH] net/hns3: support trace Rx/Tx burst function
@ 2021-04-09 23:21 dpdklab
0 siblings, 0 replies; 9+ messages in thread
From: dpdklab @ 2021-04-09 23:21 UTC (permalink / raw)
To: Test Report; +Cc: dpdk-test-reports
[-- Attachment #1: Type: text/plain, Size: 1911 bytes --]
Test-Label: iol-intel-Performance
Test-Status: SUCCESS
http://dpdk.org/patch/90965
_Performance Testing PASS_
Submitter: Min Hu (Connor) <humin29@huawei.com>
Date: Friday, April 09 2021 10:26:43
DPDK git baseline: Repo:dpdk
Branch: master
CommitID:cace2d7ef27995694415ae4bc90f41c9667f3b30
90965 --> performance testing pass
Test environment and result as below:
Ubuntu 18.04
Kernel: 4.15.0-generic
Compiler: gcc 7.4
NIC: Intel Corporation Ethernet Converged Network Adapter 82599ES 10000 Mbps
Target: x86_64-native-linuxapp-gcc
Fail/Total: 0/2
Detail performance results:
+------------+---------+-------------------------------------+
| frame_size | txd/rxd | throughput difference from expected |
+============+=========+=====================================+
| 64 | 512 | 3.56269% |
+------------+---------+-------------------------------------+
| 64 | 2048 | 2.44477% |
+------------+---------+-------------------------------------+
Ubuntu 18.04
Kernel: 4.15.0-generic
Compiler: gcc 7.4
NIC: Intel Corporation Ethernet Converged Network Adapter XL710-QDA2 40000 Mbps
Target: x86_64-native-linuxapp-gcc
Fail/Total: 0/2
Detail performance results:
+------------+---------+-------------------------------------+
| frame_size | txd/rxd | throughput difference from expected |
+============+=========+=====================================+
| 64 | 512 | 5.55411% |
+------------+---------+-------------------------------------+
| 64 | 2048 | 5.01833% |
+------------+---------+-------------------------------------+
To view detailed results, visit:
https://lab.dpdk.org/results/dashboard/patchsets/16403/
UNH-IOL DPDK Community Lab
To manage your email subscriptions, visit:
https://lab.dpdk.org/results/dashboard/preferences/subscriptions/
^ permalink raw reply [flat|nested] 9+ messages in thread
* [dpdk-test-report] |SUCCESS| pw90965 [PATCH] net/hns3: support trace Rx/Tx burst function
[not found] <1617964003-62711-1-git-send-email-humin29@huawei.com>
@ 2021-04-09 10:27 ` checkpatch
0 siblings, 0 replies; 9+ messages in thread
From: checkpatch @ 2021-04-09 10:27 UTC (permalink / raw)
To: test-report
Test-Label: checkpatch
Test-Status: SUCCESS
http://dpdk.org/patch/90965
_coding style OK_
^ permalink raw reply [flat|nested] 9+ messages in thread
end of thread, other threads:[~2021-04-11 6:24 UTC | newest]
Thread overview: 9+ messages (download: mbox.gz / follow: Atom feed)
-- links below jump to the message on this page --
2021-04-11 6:24 [dpdk-test-report] |SUCCESS| pw90965 [PATCH] net/hns3: support trace Rx/Tx burst function dpdklab
-- strict thread matches above, loose matches on Subject: below --
2021-04-11 5:47 dpdklab
2021-04-10 13:59 dpdklab
2021-04-10 13:16 dpdklab
2021-04-10 2:46 dpdklab
2021-04-10 1:54 dpdklab
2021-04-10 0:04 dpdklab
2021-04-09 23:21 dpdklab
[not found] <1617964003-62711-1-git-send-email-humin29@huawei.com>
2021-04-09 10:27 ` checkpatch
This is a public inbox, see mirroring instructions
for how to clone and mirror all data and code used for this inbox;
as well as URLs for NNTP newsgroup(s).