* [dpdk-test-report] |SUCCESS| pw91215-91217 [PATCH] [v4, 3/3] net/ice: support FDIR for IP fragment packet
@ 2021-04-14 4:32 dpdklab
0 siblings, 0 replies; 2+ messages in thread
From: dpdklab @ 2021-04-14 4:32 UTC (permalink / raw)
To: Test Report; +Cc: dpdk-test-reports
[-- Attachment #1: Type: text/plain, Size: 946 bytes --]
Test-Label: iol-abi-testing
Test-Status: SUCCESS
http://dpdk.org/patch/91217
_Testing PASS_
Submitter: Jeff Guo <jia.guo@intel.com>
Date: Tuesday, April 13 2021 08:48:12
DPDK git baseline: Repo:dpdk
Branch: master
CommitID:13e06abc9d316a9e8931de996c160c0359857415
91215-91217 --> testing pass
Test environment and result as below:
+------------------+----------+
| Environment | abi_test |
+==================+==========+
| Ubuntu 18.04 ARM | PASS |
+------------------+----------+
| Ubuntu 18.04 | PASS |
+------------------+----------+
Ubuntu 18.04 ARM
Kernel: 5.4.0-53-generic
Compiler: gcc 9.3
Ubuntu 18.04
Kernel: 4.18.0-240.10.1.el8_3.x86_64
Compiler: gcc 7.5.0-3ubuntu1~18.04
To view detailed results, visit:
https://lab.dpdk.org/results/dashboard/patchsets/16479/
UNH-IOL DPDK Community Lab
To manage your email subscriptions, visit:
https://lab.dpdk.org/results/dashboard/preferences/subscriptions/
^ permalink raw reply [flat|nested] 2+ messages in thread
* [dpdk-test-report] |SUCCESS| pw91215-91217 [PATCH] [v4, 3/3] net/ice: support FDIR for IP fragment packet
@ 2021-04-14 4:48 dpdklab
0 siblings, 0 replies; 2+ messages in thread
From: dpdklab @ 2021-04-14 4:48 UTC (permalink / raw)
To: Test Report; +Cc: dpdk-test-reports
[-- Attachment #1: Type: text/plain, Size: 946 bytes --]
Test-Label: iol-abi-testing
Test-Status: SUCCESS
http://dpdk.org/patch/91217
_Testing PASS_
Submitter: Jeff Guo <jia.guo@intel.com>
Date: Tuesday, April 13 2021 08:48:12
DPDK git baseline: Repo:dpdk
Branch: master
CommitID:13e06abc9d316a9e8931de996c160c0359857415
91215-91217 --> testing pass
Test environment and result as below:
+------------------+----------+
| Environment | abi_test |
+==================+==========+
| Ubuntu 18.04 | PASS |
+------------------+----------+
| Ubuntu 18.04 ARM | PASS |
+------------------+----------+
Ubuntu 18.04
Kernel: 4.18.0-240.10.1.el8_3.x86_64
Compiler: gcc 7.5.0-3ubuntu1~18.04
Ubuntu 18.04 ARM
Kernel: 5.4.0-53-generic
Compiler: gcc 9.3
To view detailed results, visit:
https://lab.dpdk.org/results/dashboard/patchsets/16479/
UNH-IOL DPDK Community Lab
To manage your email subscriptions, visit:
https://lab.dpdk.org/results/dashboard/preferences/subscriptions/
^ permalink raw reply [flat|nested] 2+ messages in thread
end of thread, other threads:[~2021-04-14 4:49 UTC | newest]
Thread overview: 2+ messages (download: mbox.gz / follow: Atom feed)
-- links below jump to the message on this page --
2021-04-14 4:32 [dpdk-test-report] |SUCCESS| pw91215-91217 [PATCH] [v4, 3/3] net/ice: support FDIR for IP fragment packet dpdklab
2021-04-14 4:48 dpdklab
This is a public inbox, see mirroring instructions
for how to clone and mirror all data and code used for this inbox;
as well as URLs for NNTP newsgroup(s).