* [dpdk-test-report] |SUCCESS| pw93044 [PATCH] net/mlx5: fix RSS expansion for GRE KEY
@ 2021-05-07 18:01 dpdklab
0 siblings, 0 replies; 8+ messages in thread
From: dpdklab @ 2021-05-07 18:01 UTC (permalink / raw)
To: Test Report; +Cc: dpdklab
[-- Attachment #1: Type: text/plain, Size: 2265 bytes --]
Test-Label: iol-abi-testing
Test-Status: SUCCESS
http://dpdk.org/patch/93044
_Testing PASS_
Submitter: Jiawei Wang <jiaweiw@nvidia.com>
Date: Friday, May 07 2021 09:42:12
DPDK git baseline: Repo:dpdk
Branch: master
CommitID:7fb41a8cbe2108a7634343c3abb7f9d01aed3777
93044 --> testing pass
Test environment and result as below:
+------------------+----------+
| Environment | abi_test |
+==================+==========+
| Ubuntu 18.04 ARM | PASS |
+------------------+----------+
| Arch Linux | PASS |
+------------------+----------+
| Ubuntu 18.04 | PASS |
+------------------+----------+
| openSUSE Leap 15 | PASS |
+------------------+----------+
| Fedora 32 | PASS |
+------------------+----------+
| Fedora 31 | PASS |
+------------------+----------+
| RHEL8 | PASS |
+------------------+----------+
| CentOS 8 | PASS |
+------------------+----------+
| Ubuntu 20.04 | PASS |
+------------------+----------+
| RHEL 7 | PASS |
+------------------+----------+
| CentOS Stream 8 | PASS |
+------------------+----------+
Ubuntu 18.04 ARM
Kernel: 5.4.0-53-generic
Compiler: gcc 9.3
Arch Linux
Kernel: 4.18.0-240.10.1.el8_3.x86_64
Compiler: gcc 10.2.0
Ubuntu 18.04
Kernel: 4.18.0-240.10.1.el8_3.x86_64
Compiler: gcc 7.5.0-3ubuntu1~18.04
openSUSE Leap 15
Kernel: 4.18.0-240.10.1.el8_3.x86_64
Compiler: gcc 7.5.0
Fedora 32
Kernel: 4.18.0-240.10.1.el8_3.x86_64
Compiler: gcc 10.2.1
Fedora 31
Kernel: 4.18.0-240.10.1.el8_3.x86_64
Compiler: gcc 9.3.1
RHEL8
Kernel: 4.18.0-240.10.1.el8_3.x86_64
Compiler: gcc 8.3.1 20191121 (Red Hat 8.3.1-5)
CentOS 8
Kernel: 4.18.0-240.10.1.el8_3.x86_64
Compiler: gcc 8.3.1 20191121 (Red Hat 8.3.1-5)
Ubuntu 20.04
Kernel: 4.18.0-240.10.1.el8_3.x86_64
Compiler: gcc 9.3.0-17ubuntu1~20.04
RHEL 7
Kernel: 4.18.0-240.10.1.el8_3.x86_64
Compiler: gcc 4.8.5 20150623 (Red Hat 4.8.5-44)
CentOS Stream 8
Kernel: 4.18.0-240.10.1.el8_3.x86_64
Compiler: gcc 8.4.1 20200928
To view detailed results, visit:
https://lab.dpdk.org/results/dashboard/patchsets/16984/
UNH-IOL DPDK Community Lab
To manage your email subscriptions, visit:
https://lab.dpdk.org/results/dashboard/preferences/subscriptions/
^ permalink raw reply [flat|nested] 8+ messages in thread
* [dpdk-test-report] |SUCCESS| pw93044 [PATCH] net/mlx5: fix RSS expansion for GRE KEY
@ 2021-05-14 19:05 dpdklab
0 siblings, 0 replies; 8+ messages in thread
From: dpdklab @ 2021-05-14 19:05 UTC (permalink / raw)
To: Ali Alnubani, Test Report; +Cc: dpdk-test-reports
[-- Attachment #1: Type: text/plain, Size: 1041 bytes --]
Test-Label: iol-mellanox-Functional
Test-Status: SUCCESS
http://dpdk.org/patch/93044
_Functional Testing PASS_
Submitter: Jiawei Wang <jiaweiw@nvidia.com>
Date: Friday, May 07 2021 09:42:12
DPDK git baseline: Repo:dpdk
Branch: master
CommitID:7fb41a8cbe2108a7634343c3abb7f9d01aed3777
93044 --> functional testing pass
Test environment and result as below:
Ubuntu 18.04
Kernel: 4.15.0-generic
Compiler: gcc 7.4
NIC: Mellanox ConnectX-4 Lx 40000 Mbps
Target: x86_64-native-linuxapp-gcc
Fail/Total: 0/5
Ubuntu 18.04
Kernel: 4.15.0-generic
Compiler: gcc 7.4
NIC: Mellanox ConnectX-4 Lx 25000 Mbps
Target: x86_64-native-linuxapp-gcc
Fail/Total: 0/5
Ubuntu 18.04 ARM
Kernel: 4.15.0-132-generic
Compiler: gcc 7.5
NIC: Arm Mellanox ConnectX-5 10000 Mbps
Target: x86_64-native-linuxapp-gcc
Fail/Total: 0/4
To view detailed results, visit:
https://lab.dpdk.org/results/dashboard/patchsets/16984/
UNH-IOL DPDK Community Lab
To manage your email subscriptions, visit:
https://lab.dpdk.org/results/dashboard/preferences/subscriptions/
^ permalink raw reply [flat|nested] 8+ messages in thread
* [dpdk-test-report] |SUCCESS| pw93044 [PATCH] net/mlx5: fix RSS expansion for GRE KEY
@ 2021-05-08 5:34 dpdklab
0 siblings, 0 replies; 8+ messages in thread
From: dpdklab @ 2021-05-08 5:34 UTC (permalink / raw)
To: Ali Alnubani, Test Report; +Cc: dpdk-test-reports
[-- Attachment #1: Type: text/plain, Size: 4832 bytes --]
Test-Label: iol-mellanox-Performance
Test-Status: SUCCESS
http://dpdk.org/patch/93044
_Performance Testing PASS_
Submitter: Jiawei Wang <jiaweiw@nvidia.com>
Date: Friday, May 07 2021 09:42:12
DPDK git baseline: Repo:dpdk
Branch: master
CommitID:7fb41a8cbe2108a7634343c3abb7f9d01aed3777
93044 --> performance testing pass
Test environment and result as below:
Ubuntu 18.04
Kernel: 4.15.0-generic
Compiler: gcc 7.4
NIC: Mellanox ConnectX-4 Lx 40000 Mbps
Target: x86_64-native-linuxapp-gcc
Fail/Total: 0/6
Detail performance results:
+------------+---------+-------------------------------------+
| frame_size | txd/rxd | throughput difference from expected |
+============+=========+=====================================+
| 64 | 256 | 1.06468% |
+------------+---------+-------------------------------------+
| 128 | 256 | 1.9233% |
+------------+---------+-------------------------------------+
| 256 | 256 | 0.31828% |
+------------+---------+-------------------------------------+
| 512 | 256 | 0.13314% |
+------------+---------+-------------------------------------+
| 1024 | 256 | -0.15661% |
+------------+---------+-------------------------------------+
| 1518 | 256 | 0.01538% |
+------------+---------+-------------------------------------+
Ubuntu 18.04
Kernel: 4.15.0-generic
Compiler: gcc 7.4
NIC: Mellanox ConnectX-4 Lx 25000 Mbps
Target: x86_64-native-linuxapp-gcc
Fail/Total: 0/6
Detail performance results:
+------------+---------+-------------------------------------+
| frame_size | txd/rxd | throughput difference from expected |
+============+=========+=====================================+
| 64 | 256 | 0.19225% |
+------------+---------+-------------------------------------+
| 128 | 256 | 0.1313% |
+------------+---------+-------------------------------------+
| 256 | 256 | 0.20806% |
+------------+---------+-------------------------------------+
| 512 | 256 | 0.0% |
+------------+---------+-------------------------------------+
| 1024 | 256 | 0.15058% |
+------------+---------+-------------------------------------+
| 1518 | 256 | -0.19685% |
+------------+---------+-------------------------------------+
Ubuntu 18.04
Kernel: 4.15.0-generic
Compiler: gcc 7.4
NIC: Mellanox ConnectX-5 100000 Mbps
Target: x86_64-native-linuxapp-gcc
Fail/Total: 0/6
Detail performance results:
+------------+---------+-------------------------------------+
| frame_size | txd/rxd | throughput difference from expected |
+============+=========+=====================================+
| 64 | 256 | -0.41712% |
+------------+---------+-------------------------------------+
| 128 | 256 | -0.11965% |
+------------+---------+-------------------------------------+
| 256 | 256 | 0.39194% |
+------------+---------+-------------------------------------+
| 512 | 256 | -0.09325% |
+------------+---------+-------------------------------------+
| 1024 | 256 | 1.12683% |
+------------+---------+-------------------------------------+
| 1518 | 256 | -0.04692% |
+------------+---------+-------------------------------------+
Ubuntu 18.04 ARM
Kernel: 4.15.0-132-generic
Compiler: gcc 7.5
NIC: Arm Mellanox ConnectX-5 10000 Mbps
Target: x86_64-native-linuxapp-gcc
Fail/Total: 0/4
Detail performance results:
+------------+---------+-------------------------------------+
| frame_size | txd/rxd | throughput difference from expected |
+============+=========+=====================================+
| 64 | 128 | -0.03217% |
+------------+---------+-------------------------------------+
| 64 | 256 | 0.59089% |
+------------+---------+-------------------------------------+
| 64 | 512 | 1.96337% |
+------------+---------+-------------------------------------+
| 64 | 2048 | -0.19338% |
+------------+---------+-------------------------------------+
To view detailed results, visit:
https://lab.dpdk.org/results/dashboard/patchsets/16984/
UNH-IOL DPDK Community Lab
To manage your email subscriptions, visit:
https://lab.dpdk.org/results/dashboard/preferences/subscriptions/
^ permalink raw reply [flat|nested] 8+ messages in thread
* [dpdk-test-report] |SUCCESS| pw93044 [PATCH] net/mlx5: fix RSS expansion for GRE KEY
@ 2021-05-07 23:52 dpdklab
0 siblings, 0 replies; 8+ messages in thread
From: dpdklab @ 2021-05-07 23:52 UTC (permalink / raw)
To: Ali Alnubani, Test Report; +Cc: dpdk-test-reports
[-- Attachment #1: Type: text/plain, Size: 3955 bytes --]
Test-Label: iol-mellanox-Performance
Test-Status: SUCCESS
http://dpdk.org/patch/93044
_Performance Testing PASS_
Submitter: Jiawei Wang <jiaweiw@nvidia.com>
Date: Friday, May 07 2021 09:42:12
DPDK git baseline: Repo:dpdk
Branch: master
CommitID:7fb41a8cbe2108a7634343c3abb7f9d01aed3777
93044 --> performance testing pass
Test environment and result as below:
Ubuntu 18.04
Kernel: 4.15.0-generic
Compiler: gcc 7.4
NIC: Mellanox ConnectX-4 Lx 40000 Mbps
Target: x86_64-native-linuxapp-gcc
Fail/Total: 0/6
Detail performance results:
+------------+---------+-------------------------------------+
| frame_size | txd/rxd | throughput difference from expected |
+============+=========+=====================================+
| 64 | 256 | 1.06468% |
+------------+---------+-------------------------------------+
| 128 | 256 | 1.9233% |
+------------+---------+-------------------------------------+
| 256 | 256 | 0.31828% |
+------------+---------+-------------------------------------+
| 512 | 256 | 0.13314% |
+------------+---------+-------------------------------------+
| 1024 | 256 | -0.15661% |
+------------+---------+-------------------------------------+
| 1518 | 256 | 0.01538% |
+------------+---------+-------------------------------------+
Ubuntu 18.04
Kernel: 4.15.0-generic
Compiler: gcc 7.4
NIC: Mellanox ConnectX-4 Lx 25000 Mbps
Target: x86_64-native-linuxapp-gcc
Fail/Total: 0/6
Detail performance results:
+------------+---------+-------------------------------------+
| frame_size | txd/rxd | throughput difference from expected |
+============+=========+=====================================+
| 64 | 256 | 0.19225% |
+------------+---------+-------------------------------------+
| 128 | 256 | 0.1313% |
+------------+---------+-------------------------------------+
| 256 | 256 | 0.20806% |
+------------+---------+-------------------------------------+
| 512 | 256 | 0.0% |
+------------+---------+-------------------------------------+
| 1024 | 256 | 0.15058% |
+------------+---------+-------------------------------------+
| 1518 | 256 | -0.19685% |
+------------+---------+-------------------------------------+
Ubuntu 18.04
Kernel: 4.15.0-generic
Compiler: gcc 7.4
NIC: Mellanox ConnectX-5 100000 Mbps
Target: x86_64-native-linuxapp-gcc
Fail/Total: 0/6
Detail performance results:
+------------+---------+-------------------------------------+
| frame_size | txd/rxd | throughput difference from expected |
+============+=========+=====================================+
| 64 | 256 | -0.41712% |
+------------+---------+-------------------------------------+
| 128 | 256 | -0.11965% |
+------------+---------+-------------------------------------+
| 256 | 256 | 0.39194% |
+------------+---------+-------------------------------------+
| 512 | 256 | -0.09325% |
+------------+---------+-------------------------------------+
| 1024 | 256 | 1.12683% |
+------------+---------+-------------------------------------+
| 1518 | 256 | -0.04692% |
+------------+---------+-------------------------------------+
To view detailed results, visit:
https://lab.dpdk.org/results/dashboard/patchsets/16984/
UNH-IOL DPDK Community Lab
To manage your email subscriptions, visit:
https://lab.dpdk.org/results/dashboard/preferences/subscriptions/
^ permalink raw reply [flat|nested] 8+ messages in thread
* [dpdk-test-report] |SUCCESS| pw93044 [PATCH] net/mlx5: fix RSS expansion for GRE KEY
@ 2021-05-07 23:01 dpdklab
0 siblings, 0 replies; 8+ messages in thread
From: dpdklab @ 2021-05-07 23:01 UTC (permalink / raw)
To: Ali Alnubani, Test Report; +Cc: dpdk-test-reports
[-- Attachment #1: Type: text/plain, Size: 2837 bytes --]
Test-Label: iol-mellanox-Performance
Test-Status: SUCCESS
http://dpdk.org/patch/93044
_Performance Testing PASS_
Submitter: Jiawei Wang <jiaweiw@nvidia.com>
Date: Friday, May 07 2021 09:42:12
DPDK git baseline: Repo:dpdk
Branch: master
CommitID:7fb41a8cbe2108a7634343c3abb7f9d01aed3777
93044 --> performance testing pass
Test environment and result as below:
Ubuntu 18.04
Kernel: 4.15.0-generic
Compiler: gcc 7.4
NIC: Mellanox ConnectX-4 Lx 40000 Mbps
Target: x86_64-native-linuxapp-gcc
Fail/Total: 0/6
Detail performance results:
+------------+---------+-------------------------------------+
| frame_size | txd/rxd | throughput difference from expected |
+============+=========+=====================================+
| 64 | 256 | 1.06468% |
+------------+---------+-------------------------------------+
| 128 | 256 | 1.9233% |
+------------+---------+-------------------------------------+
| 256 | 256 | 0.31828% |
+------------+---------+-------------------------------------+
| 512 | 256 | 0.13314% |
+------------+---------+-------------------------------------+
| 1024 | 256 | -0.15661% |
+------------+---------+-------------------------------------+
| 1518 | 256 | 0.01538% |
+------------+---------+-------------------------------------+
Ubuntu 18.04
Kernel: 4.15.0-generic
Compiler: gcc 7.4
NIC: Mellanox ConnectX-4 Lx 25000 Mbps
Target: x86_64-native-linuxapp-gcc
Fail/Total: 0/6
Detail performance results:
+------------+---------+-------------------------------------+
| frame_size | txd/rxd | throughput difference from expected |
+============+=========+=====================================+
| 64 | 256 | 0.19225% |
+------------+---------+-------------------------------------+
| 128 | 256 | 0.1313% |
+------------+---------+-------------------------------------+
| 256 | 256 | 0.20806% |
+------------+---------+-------------------------------------+
| 512 | 256 | 0.0% |
+------------+---------+-------------------------------------+
| 1024 | 256 | 0.15058% |
+------------+---------+-------------------------------------+
| 1518 | 256 | -0.19685% |
+------------+---------+-------------------------------------+
To view detailed results, visit:
https://lab.dpdk.org/results/dashboard/patchsets/16984/
UNH-IOL DPDK Community Lab
To manage your email subscriptions, visit:
https://lab.dpdk.org/results/dashboard/preferences/subscriptions/
^ permalink raw reply [flat|nested] 8+ messages in thread
* [dpdk-test-report] |SUCCESS| pw93044 [PATCH] net/mlx5: fix RSS expansion for GRE KEY
@ 2021-05-07 22:09 dpdklab
0 siblings, 0 replies; 8+ messages in thread
From: dpdklab @ 2021-05-07 22:09 UTC (permalink / raw)
To: Ali Alnubani, Test Report; +Cc: dpdk-test-reports
[-- Attachment #1: Type: text/plain, Size: 1717 bytes --]
Test-Label: iol-mellanox-Performance
Test-Status: SUCCESS
http://dpdk.org/patch/93044
_Performance Testing PASS_
Submitter: Jiawei Wang <jiaweiw@nvidia.com>
Date: Friday, May 07 2021 09:42:12
DPDK git baseline: Repo:dpdk
Branch: master
CommitID:7fb41a8cbe2108a7634343c3abb7f9d01aed3777
93044 --> performance testing pass
Test environment and result as below:
Ubuntu 18.04
Kernel: 4.15.0-generic
Compiler: gcc 7.4
NIC: Mellanox ConnectX-4 Lx 40000 Mbps
Target: x86_64-native-linuxapp-gcc
Fail/Total: 0/6
Detail performance results:
+------------+---------+-------------------------------------+
| frame_size | txd/rxd | throughput difference from expected |
+============+=========+=====================================+
| 64 | 256 | 1.06468% |
+------------+---------+-------------------------------------+
| 128 | 256 | 1.9233% |
+------------+---------+-------------------------------------+
| 256 | 256 | 0.31828% |
+------------+---------+-------------------------------------+
| 512 | 256 | 0.13314% |
+------------+---------+-------------------------------------+
| 1024 | 256 | -0.15661% |
+------------+---------+-------------------------------------+
| 1518 | 256 | 0.01538% |
+------------+---------+-------------------------------------+
To view detailed results, visit:
https://lab.dpdk.org/results/dashboard/patchsets/16984/
UNH-IOL DPDK Community Lab
To manage your email subscriptions, visit:
https://lab.dpdk.org/results/dashboard/preferences/subscriptions/
^ permalink raw reply [flat|nested] 8+ messages in thread
* [dpdk-test-report] |SUCCESS| pw93044 [PATCH] net/mlx5: fix RSS expansion for GRE KEY
@ 2021-05-07 17:20 dpdklab
0 siblings, 0 replies; 8+ messages in thread
From: dpdklab @ 2021-05-07 17:20 UTC (permalink / raw)
To: Test Report; +Cc: dpdk-test-reports
[-- Attachment #1: Type: text/plain, Size: 4631 bytes --]
Test-Label: iol-testing
Test-Status: SUCCESS
http://dpdk.org/patch/93044
_Testing PASS_
Submitter: Jiawei Wang <jiaweiw@nvidia.com>
Date: Friday, May 07 2021 09:42:12
DPDK git baseline: Repo:dpdk
Branch: master
CommitID:7fb41a8cbe2108a7634343c3abb7f9d01aed3777
93044 --> testing pass
Test environment and result as below:
+---------------------+----------------------+-------------------+--------------------+----------------+
| Environment | dpdk_mingw64_compile | dpdk_compile_spdk | dpdk_meson_compile | dpdk_unit_test |
+=====================+======================+===================+====================+================+
| Windows Server 2019 | PASS | SKIPPED | PASS | SKIPPED |
+---------------------+----------------------+-------------------+--------------------+----------------+
| Ubuntu 18.04 | SKIPPED | PASS | PASS | PASS |
+---------------------+----------------------+-------------------+--------------------+----------------+
| CentOS 8 | SKIPPED | SKIPPED | PASS | SKIPPED |
+---------------------+----------------------+-------------------+--------------------+----------------+
| Ubuntu 18.04 ARM | SKIPPED | SKIPPED | PASS | SKIPPED |
+---------------------+----------------------+-------------------+--------------------+----------------+
| Fedora 31 | SKIPPED | SKIPPED | PASS | SKIPPED |
+---------------------+----------------------+-------------------+--------------------+----------------+
| CentOS Stream 8 | SKIPPED | SKIPPED | PASS | SKIPPED |
+---------------------+----------------------+-------------------+--------------------+----------------+
| Fedora 32 | SKIPPED | SKIPPED | PASS | SKIPPED |
+---------------------+----------------------+-------------------+--------------------+----------------+
| RHEL 7 | SKIPPED | SKIPPED | PASS | SKIPPED |
+---------------------+----------------------+-------------------+--------------------+----------------+
| Ubuntu 20.04 | SKIPPED | SKIPPED | PASS | SKIPPED |
+---------------------+----------------------+-------------------+--------------------+----------------+
| RHEL8 | SKIPPED | SKIPPED | PASS | SKIPPED |
+---------------------+----------------------+-------------------+--------------------+----------------+
| FreeBSD 11.2 | SKIPPED | SKIPPED | PASS | SKIPPED |
+---------------------+----------------------+-------------------+--------------------+----------------+
| Arch Linux | SKIPPED | SKIPPED | PASS | SKIPPED |
+---------------------+----------------------+-------------------+--------------------+----------------+
| openSUSE Leap 15 | SKIPPED | SKIPPED | PASS | SKIPPED |
+---------------------+----------------------+-------------------+--------------------+----------------+
Windows Server 2019
Kernel: 10.0
Compiler: clang 9.0 and gcc 8.1.0 (MinGW)
Ubuntu 18.04
Kernel: 4.18.0-240.10.1.el8_3.x86_64
Compiler: gcc 7.5.0-3ubuntu1~18.04
CentOS 8
Kernel: 4.18.0-240.10.1.el8_3.x86_64
Compiler: gcc 8.3.1 20191121 (Red Hat 8.3.1-5)
Ubuntu 18.04 ARM
Kernel: 5.4.0-53-generic
Compiler: gcc 9.3
Fedora 31
Kernel: 4.18.0-240.10.1.el8_3.x86_64
Compiler: gcc 9.3.1
CentOS Stream 8
Kernel: 4.18.0-240.10.1.el8_3.x86_64
Compiler: gcc 8.4.1 20200928
Fedora 32
Kernel: 4.18.0-240.10.1.el8_3.x86_64
Compiler: gcc 10.2.1
RHEL 7
Kernel: 4.18.0-240.10.1.el8_3.x86_64
Compiler: gcc 4.8.5 20150623 (Red Hat 4.8.5-44)
Ubuntu 20.04
Kernel: 4.18.0-240.10.1.el8_3.x86_64
Compiler: gcc 9.3.0-17ubuntu1~20.04
RHEL8
Kernel: 4.18.0-240.10.1.el8_3.x86_64
Compiler: gcc 8.3.1 20191121 (Red Hat 8.3.1-5)
FreeBSD 11.2
Kernel: 11.2
Compiler: gcc 8.3
Arch Linux
Kernel: 4.18.0-240.10.1.el8_3.x86_64
Compiler: gcc 10.2.0
openSUSE Leap 15
Kernel: 4.18.0-240.10.1.el8_3.x86_64
Compiler: gcc 7.5.0
To view detailed results, visit:
https://lab.dpdk.org/results/dashboard/patchsets/16984/
UNH-IOL DPDK Community Lab
To manage your email subscriptions, visit:
https://lab.dpdk.org/results/dashboard/preferences/subscriptions/
^ permalink raw reply [flat|nested] 8+ messages in thread
* [dpdk-test-report] |SUCCESS| pw93044 [PATCH] net/mlx5: fix RSS expansion for GRE KEY
[not found] <20210507094212.39250-1-jiaweiw@nvidia.com>
@ 2021-05-07 9:43 ` checkpatch
0 siblings, 0 replies; 8+ messages in thread
From: checkpatch @ 2021-05-07 9:43 UTC (permalink / raw)
To: test-report
Test-Label: checkpatch
Test-Status: SUCCESS
http://dpdk.org/patch/93044
_coding style OK_
^ permalink raw reply [flat|nested] 8+ messages in thread
end of thread, other threads:[~2021-05-14 19:05 UTC | newest]
Thread overview: 8+ messages (download: mbox.gz / follow: Atom feed)
-- links below jump to the message on this page --
2021-05-07 18:01 [dpdk-test-report] |SUCCESS| pw93044 [PATCH] net/mlx5: fix RSS expansion for GRE KEY dpdklab
-- strict thread matches above, loose matches on Subject: below --
2021-05-14 19:05 dpdklab
2021-05-08 5:34 dpdklab
2021-05-07 23:52 dpdklab
2021-05-07 23:01 dpdklab
2021-05-07 22:09 dpdklab
2021-05-07 17:20 dpdklab
[not found] <20210507094212.39250-1-jiaweiw@nvidia.com>
2021-05-07 9:43 ` checkpatch
This is a public inbox, see mirroring instructions
for how to clone and mirror all data and code used for this inbox;
as well as URLs for NNTP newsgroup(s).