* [dpdk-test-report] |SUCCESS| pw93048 [PATCH] net/hns3: fix debug build
@ 2021-05-07 19:04 dpdklab
0 siblings, 0 replies; 7+ messages in thread
From: dpdklab @ 2021-05-07 19:04 UTC (permalink / raw)
To: Test Report; +Cc: dpdk-test-reports
[-- Attachment #1: Type: text/plain, Size: 2270 bytes --]
Test-Label: iol-abi-testing
Test-Status: SUCCESS
http://dpdk.org/patch/93048
_Testing PASS_
Submitter: Thomas Monjalon <thomas@monjalon.net>
Date: Friday, May 07 2021 12:20:04
DPDK git baseline: Repo:dpdk
Branch: master
CommitID:7fb41a8cbe2108a7634343c3abb7f9d01aed3777
93048 --> testing pass
Test environment and result as below:
+------------------+----------+
| Environment | abi_test |
+==================+==========+
| Ubuntu 18.04 ARM | PASS |
+------------------+----------+
| Ubuntu 18.04 | PASS |
+------------------+----------+
| Arch Linux | PASS |
+------------------+----------+
| CentOS Stream 8 | PASS |
+------------------+----------+
| Fedora 32 | PASS |
+------------------+----------+
| RHEL 7 | PASS |
+------------------+----------+
| RHEL8 | PASS |
+------------------+----------+
| CentOS 8 | PASS |
+------------------+----------+
| Fedora 31 | PASS |
+------------------+----------+
| Ubuntu 20.04 | PASS |
+------------------+----------+
| openSUSE Leap 15 | PASS |
+------------------+----------+
Ubuntu 18.04 ARM
Kernel: 5.4.0-53-generic
Compiler: gcc 9.3
Ubuntu 18.04
Kernel: 4.18.0-240.10.1.el8_3.x86_64
Compiler: gcc 7.5.0-3ubuntu1~18.04
Arch Linux
Kernel: 4.18.0-240.10.1.el8_3.x86_64
Compiler: gcc 10.2.0
CentOS Stream 8
Kernel: 4.18.0-240.10.1.el8_3.x86_64
Compiler: gcc 8.4.1 20200928
Fedora 32
Kernel: 4.18.0-240.10.1.el8_3.x86_64
Compiler: gcc 10.2.1
RHEL 7
Kernel: 4.18.0-240.10.1.el8_3.x86_64
Compiler: gcc 4.8.5 20150623 (Red Hat 4.8.5-44)
RHEL8
Kernel: 4.18.0-240.10.1.el8_3.x86_64
Compiler: gcc 8.3.1 20191121 (Red Hat 8.3.1-5)
CentOS 8
Kernel: 4.18.0-240.10.1.el8_3.x86_64
Compiler: gcc 8.3.1 20191121 (Red Hat 8.3.1-5)
Fedora 31
Kernel: 4.18.0-240.10.1.el8_3.x86_64
Compiler: gcc 9.3.1
Ubuntu 20.04
Kernel: 4.18.0-240.10.1.el8_3.x86_64
Compiler: gcc 9.3.0-17ubuntu1~20.04
openSUSE Leap 15
Kernel: 4.18.0-240.10.1.el8_3.x86_64
Compiler: gcc 7.5.0
To view detailed results, visit:
https://lab.dpdk.org/results/dashboard/patchsets/16988/
UNH-IOL DPDK Community Lab
To manage your email subscriptions, visit:
https://lab.dpdk.org/results/dashboard/preferences/subscriptions/
^ permalink raw reply [flat|nested] 7+ messages in thread
* [dpdk-test-report] |SUCCESS| pw93048 [PATCH] net/hns3: fix debug build
@ 2021-05-08 15:19 dpdklab
0 siblings, 0 replies; 7+ messages in thread
From: dpdklab @ 2021-05-08 15:19 UTC (permalink / raw)
To: Ali Alnubani, Test Report; +Cc: dpdk-test-reports
[-- Attachment #1: Type: text/plain, Size: 4837 bytes --]
Test-Label: iol-mellanox-Performance
Test-Status: SUCCESS
http://dpdk.org/patch/93048
_Performance Testing PASS_
Submitter: Thomas Monjalon <thomas@monjalon.net>
Date: Friday, May 07 2021 12:20:04
DPDK git baseline: Repo:dpdk
Branch: master
CommitID:7fb41a8cbe2108a7634343c3abb7f9d01aed3777
93048 --> performance testing pass
Test environment and result as below:
Ubuntu 18.04
Kernel: 4.15.0-generic
Compiler: gcc 7.4
NIC: Mellanox ConnectX-4 Lx 40000 Mbps
Target: x86_64-native-linuxapp-gcc
Fail/Total: 0/6
Detail performance results:
+------------+---------+-------------------------------------+
| frame_size | txd/rxd | throughput difference from expected |
+============+=========+=====================================+
| 64 | 256 | -0.23691% |
+------------+---------+-------------------------------------+
| 128 | 256 | 1.15341% |
+------------+---------+-------------------------------------+
| 256 | 256 | 0.07683% |
+------------+---------+-------------------------------------+
| 512 | 256 | -0.07456% |
+------------+---------+-------------------------------------+
| 1024 | 256 | -0.04176% |
+------------+---------+-------------------------------------+
| 1518 | 256 | -0.24604% |
+------------+---------+-------------------------------------+
Ubuntu 18.04
Kernel: 4.15.0-generic
Compiler: gcc 7.4
NIC: Mellanox ConnectX-4 Lx 25000 Mbps
Target: x86_64-native-linuxapp-gcc
Fail/Total: 0/6
Detail performance results:
+------------+---------+-------------------------------------+
| frame_size | txd/rxd | throughput difference from expected |
+============+=========+=====================================+
| 64 | 256 | -0.18942% |
+------------+---------+-------------------------------------+
| 128 | 256 | 0.09329% |
+------------+---------+-------------------------------------+
| 256 | 256 | -0.13376% |
+------------+---------+-------------------------------------+
| 512 | 256 | 0.0856% |
+------------+---------+-------------------------------------+
| 1024 | 256 | -0.20077% |
+------------+---------+-------------------------------------+
| 1518 | 256 | 0.0% |
+------------+---------+-------------------------------------+
Ubuntu 18.04
Kernel: 4.15.0-generic
Compiler: gcc 7.4
NIC: Mellanox ConnectX-5 100000 Mbps
Target: x86_64-native-linuxapp-gcc
Fail/Total: 0/6
Detail performance results:
+------------+---------+-------------------------------------+
| frame_size | txd/rxd | throughput difference from expected |
+============+=========+=====================================+
| 64 | 256 | -0.00647% |
+------------+---------+-------------------------------------+
| 128 | 256 | -0.21536% |
+------------+---------+-------------------------------------+
| 256 | 256 | 0.46933% |
+------------+---------+-------------------------------------+
| 512 | 256 | 0.47515% |
+------------+---------+-------------------------------------+
| 1024 | 256 | -1.49115% |
+------------+---------+-------------------------------------+
| 1518 | 256 | -0.03519% |
+------------+---------+-------------------------------------+
Ubuntu 18.04 ARM
Kernel: 4.15.0-132-generic
Compiler: gcc 7.5
NIC: Arm Mellanox ConnectX-5 10000 Mbps
Target: x86_64-native-linuxapp-gcc
Fail/Total: 0/4
Detail performance results:
+------------+---------+-------------------------------------+
| frame_size | txd/rxd | throughput difference from expected |
+============+=========+=====================================+
| 64 | 128 | 0.09651% |
+------------+---------+-------------------------------------+
| 64 | 256 | -0.35453% |
+------------+---------+-------------------------------------+
| 64 | 512 | 1.99627% |
+------------+---------+-------------------------------------+
| 64 | 2048 | -1.04211% |
+------------+---------+-------------------------------------+
To view detailed results, visit:
https://lab.dpdk.org/results/dashboard/patchsets/16988/
UNH-IOL DPDK Community Lab
To manage your email subscriptions, visit:
https://lab.dpdk.org/results/dashboard/preferences/subscriptions/
^ permalink raw reply [flat|nested] 7+ messages in thread
* [dpdk-test-report] |SUCCESS| pw93048 [PATCH] net/hns3: fix debug build
@ 2021-05-08 5:01 dpdklab
0 siblings, 0 replies; 7+ messages in thread
From: dpdklab @ 2021-05-08 5:01 UTC (permalink / raw)
To: Ali Alnubani, Test Report; +Cc: dpdk-test-reports
[-- Attachment #1: Type: text/plain, Size: 3960 bytes --]
Test-Label: iol-mellanox-Performance
Test-Status: SUCCESS
http://dpdk.org/patch/93048
_Performance Testing PASS_
Submitter: Thomas Monjalon <thomas@monjalon.net>
Date: Friday, May 07 2021 12:20:04
DPDK git baseline: Repo:dpdk
Branch: master
CommitID:7fb41a8cbe2108a7634343c3abb7f9d01aed3777
93048 --> performance testing pass
Test environment and result as below:
Ubuntu 18.04
Kernel: 4.15.0-generic
Compiler: gcc 7.4
NIC: Mellanox ConnectX-4 Lx 40000 Mbps
Target: x86_64-native-linuxapp-gcc
Fail/Total: 0/6
Detail performance results:
+------------+---------+-------------------------------------+
| frame_size | txd/rxd | throughput difference from expected |
+============+=========+=====================================+
| 64 | 256 | -0.23691% |
+------------+---------+-------------------------------------+
| 128 | 256 | 1.15341% |
+------------+---------+-------------------------------------+
| 256 | 256 | 0.07683% |
+------------+---------+-------------------------------------+
| 512 | 256 | -0.07456% |
+------------+---------+-------------------------------------+
| 1024 | 256 | -0.04176% |
+------------+---------+-------------------------------------+
| 1518 | 256 | -0.24604% |
+------------+---------+-------------------------------------+
Ubuntu 18.04
Kernel: 4.15.0-generic
Compiler: gcc 7.4
NIC: Mellanox ConnectX-4 Lx 25000 Mbps
Target: x86_64-native-linuxapp-gcc
Fail/Total: 0/6
Detail performance results:
+------------+---------+-------------------------------------+
| frame_size | txd/rxd | throughput difference from expected |
+============+=========+=====================================+
| 64 | 256 | -0.18942% |
+------------+---------+-------------------------------------+
| 128 | 256 | 0.09329% |
+------------+---------+-------------------------------------+
| 256 | 256 | -0.13376% |
+------------+---------+-------------------------------------+
| 512 | 256 | 0.0856% |
+------------+---------+-------------------------------------+
| 1024 | 256 | -0.20077% |
+------------+---------+-------------------------------------+
| 1518 | 256 | 0.0% |
+------------+---------+-------------------------------------+
Ubuntu 18.04
Kernel: 4.15.0-generic
Compiler: gcc 7.4
NIC: Mellanox ConnectX-5 100000 Mbps
Target: x86_64-native-linuxapp-gcc
Fail/Total: 0/6
Detail performance results:
+------------+---------+-------------------------------------+
| frame_size | txd/rxd | throughput difference from expected |
+============+=========+=====================================+
| 64 | 256 | -0.00647% |
+------------+---------+-------------------------------------+
| 128 | 256 | -0.21536% |
+------------+---------+-------------------------------------+
| 256 | 256 | 0.46933% |
+------------+---------+-------------------------------------+
| 512 | 256 | 0.47515% |
+------------+---------+-------------------------------------+
| 1024 | 256 | -1.49115% |
+------------+---------+-------------------------------------+
| 1518 | 256 | -0.03519% |
+------------+---------+-------------------------------------+
To view detailed results, visit:
https://lab.dpdk.org/results/dashboard/patchsets/16988/
UNH-IOL DPDK Community Lab
To manage your email subscriptions, visit:
https://lab.dpdk.org/results/dashboard/preferences/subscriptions/
^ permalink raw reply [flat|nested] 7+ messages in thread
* [dpdk-test-report] |SUCCESS| pw93048 [PATCH] net/hns3: fix debug build
@ 2021-05-08 4:48 dpdklab
0 siblings, 0 replies; 7+ messages in thread
From: dpdklab @ 2021-05-08 4:48 UTC (permalink / raw)
To: Ali Alnubani, Test Report; +Cc: dpdk-test-reports
[-- Attachment #1: Type: text/plain, Size: 2842 bytes --]
Test-Label: iol-mellanox-Performance
Test-Status: SUCCESS
http://dpdk.org/patch/93048
_Performance Testing PASS_
Submitter: Thomas Monjalon <thomas@monjalon.net>
Date: Friday, May 07 2021 12:20:04
DPDK git baseline: Repo:dpdk
Branch: master
CommitID:7fb41a8cbe2108a7634343c3abb7f9d01aed3777
93048 --> performance testing pass
Test environment and result as below:
Ubuntu 18.04
Kernel: 4.15.0-generic
Compiler: gcc 7.4
NIC: Mellanox ConnectX-4 Lx 40000 Mbps
Target: x86_64-native-linuxapp-gcc
Fail/Total: 0/6
Detail performance results:
+------------+---------+-------------------------------------+
| frame_size | txd/rxd | throughput difference from expected |
+============+=========+=====================================+
| 64 | 256 | -0.23691% |
+------------+---------+-------------------------------------+
| 128 | 256 | 1.15341% |
+------------+---------+-------------------------------------+
| 256 | 256 | 0.07683% |
+------------+---------+-------------------------------------+
| 512 | 256 | -0.07456% |
+------------+---------+-------------------------------------+
| 1024 | 256 | -0.04176% |
+------------+---------+-------------------------------------+
| 1518 | 256 | -0.24604% |
+------------+---------+-------------------------------------+
Ubuntu 18.04
Kernel: 4.15.0-generic
Compiler: gcc 7.4
NIC: Mellanox ConnectX-4 Lx 25000 Mbps
Target: x86_64-native-linuxapp-gcc
Fail/Total: 0/6
Detail performance results:
+------------+---------+-------------------------------------+
| frame_size | txd/rxd | throughput difference from expected |
+============+=========+=====================================+
| 64 | 256 | -0.18942% |
+------------+---------+-------------------------------------+
| 128 | 256 | 0.09329% |
+------------+---------+-------------------------------------+
| 256 | 256 | -0.13376% |
+------------+---------+-------------------------------------+
| 512 | 256 | 0.0856% |
+------------+---------+-------------------------------------+
| 1024 | 256 | -0.20077% |
+------------+---------+-------------------------------------+
| 1518 | 256 | 0.0% |
+------------+---------+-------------------------------------+
To view detailed results, visit:
https://lab.dpdk.org/results/dashboard/patchsets/16988/
UNH-IOL DPDK Community Lab
To manage your email subscriptions, visit:
https://lab.dpdk.org/results/dashboard/preferences/subscriptions/
^ permalink raw reply [flat|nested] 7+ messages in thread
* [dpdk-test-report] |SUCCESS| pw93048 [PATCH] net/hns3: fix debug build
@ 2021-05-08 3:57 dpdklab
0 siblings, 0 replies; 7+ messages in thread
From: dpdklab @ 2021-05-08 3:57 UTC (permalink / raw)
To: Ali Alnubani, Test Report; +Cc: dpdk-test-reports
[-- Attachment #1: Type: text/plain, Size: 1722 bytes --]
Test-Label: iol-mellanox-Performance
Test-Status: SUCCESS
http://dpdk.org/patch/93048
_Performance Testing PASS_
Submitter: Thomas Monjalon <thomas@monjalon.net>
Date: Friday, May 07 2021 12:20:04
DPDK git baseline: Repo:dpdk
Branch: master
CommitID:7fb41a8cbe2108a7634343c3abb7f9d01aed3777
93048 --> performance testing pass
Test environment and result as below:
Ubuntu 18.04
Kernel: 4.15.0-generic
Compiler: gcc 7.4
NIC: Mellanox ConnectX-4 Lx 40000 Mbps
Target: x86_64-native-linuxapp-gcc
Fail/Total: 0/6
Detail performance results:
+------------+---------+-------------------------------------+
| frame_size | txd/rxd | throughput difference from expected |
+============+=========+=====================================+
| 64 | 256 | -0.23691% |
+------------+---------+-------------------------------------+
| 128 | 256 | 1.15341% |
+------------+---------+-------------------------------------+
| 256 | 256 | 0.07683% |
+------------+---------+-------------------------------------+
| 512 | 256 | -0.07456% |
+------------+---------+-------------------------------------+
| 1024 | 256 | -0.04176% |
+------------+---------+-------------------------------------+
| 1518 | 256 | -0.24604% |
+------------+---------+-------------------------------------+
To view detailed results, visit:
https://lab.dpdk.org/results/dashboard/patchsets/16988/
UNH-IOL DPDK Community Lab
To manage your email subscriptions, visit:
https://lab.dpdk.org/results/dashboard/preferences/subscriptions/
^ permalink raw reply [flat|nested] 7+ messages in thread
* [dpdk-test-report] |SUCCESS| pw93048 [PATCH] net/hns3: fix debug build
@ 2021-05-07 18:03 dpdklab
0 siblings, 0 replies; 7+ messages in thread
From: dpdklab @ 2021-05-07 18:03 UTC (permalink / raw)
To: Test Report; +Cc: dpdk-test-reports
[-- Attachment #1: Type: text/plain, Size: 4636 bytes --]
Test-Label: iol-testing
Test-Status: SUCCESS
http://dpdk.org/patch/93048
_Testing PASS_
Submitter: Thomas Monjalon <thomas@monjalon.net>
Date: Friday, May 07 2021 12:20:04
DPDK git baseline: Repo:dpdk
Branch: master
CommitID:7fb41a8cbe2108a7634343c3abb7f9d01aed3777
93048 --> testing pass
Test environment and result as below:
+---------------------+----------------------+--------------------+----------------+-------------------+
| Environment | dpdk_mingw64_compile | dpdk_meson_compile | dpdk_unit_test | dpdk_compile_spdk |
+=====================+======================+====================+================+===================+
| Windows Server 2019 | PASS | PASS | SKIPPED | SKIPPED |
+---------------------+----------------------+--------------------+----------------+-------------------+
| Ubuntu 18.04 ARM | SKIPPED | PASS | SKIPPED | SKIPPED |
+---------------------+----------------------+--------------------+----------------+-------------------+
| FreeBSD 11.2 | SKIPPED | PASS | SKIPPED | SKIPPED |
+---------------------+----------------------+--------------------+----------------+-------------------+
| Fedora 31 | SKIPPED | PASS | SKIPPED | SKIPPED |
+---------------------+----------------------+--------------------+----------------+-------------------+
| CentOS Stream 8 | SKIPPED | PASS | SKIPPED | SKIPPED |
+---------------------+----------------------+--------------------+----------------+-------------------+
| CentOS 8 | SKIPPED | PASS | SKIPPED | SKIPPED |
+---------------------+----------------------+--------------------+----------------+-------------------+
| Ubuntu 18.04 | SKIPPED | PASS | PASS | PASS |
+---------------------+----------------------+--------------------+----------------+-------------------+
| RHEL8 | SKIPPED | PASS | SKIPPED | SKIPPED |
+---------------------+----------------------+--------------------+----------------+-------------------+
| Ubuntu 20.04 | SKIPPED | PASS | SKIPPED | SKIPPED |
+---------------------+----------------------+--------------------+----------------+-------------------+
| Fedora 32 | SKIPPED | PASS | SKIPPED | SKIPPED |
+---------------------+----------------------+--------------------+----------------+-------------------+
| RHEL 7 | SKIPPED | PASS | SKIPPED | SKIPPED |
+---------------------+----------------------+--------------------+----------------+-------------------+
| openSUSE Leap 15 | SKIPPED | PASS | SKIPPED | SKIPPED |
+---------------------+----------------------+--------------------+----------------+-------------------+
| Arch Linux | SKIPPED | PASS | SKIPPED | SKIPPED |
+---------------------+----------------------+--------------------+----------------+-------------------+
Windows Server 2019
Kernel: 10.0
Compiler: clang 9.0 and gcc 8.1.0 (MinGW)
Ubuntu 18.04 ARM
Kernel: 5.4.0-53-generic
Compiler: gcc 9.3
FreeBSD 11.2
Kernel: 11.2
Compiler: gcc 8.3
Fedora 31
Kernel: 4.18.0-240.10.1.el8_3.x86_64
Compiler: gcc 9.3.1
CentOS Stream 8
Kernel: 4.18.0-240.10.1.el8_3.x86_64
Compiler: gcc 8.4.1 20200928
CentOS 8
Kernel: 4.18.0-240.10.1.el8_3.x86_64
Compiler: gcc 8.3.1 20191121 (Red Hat 8.3.1-5)
Ubuntu 18.04
Kernel: 4.18.0-240.10.1.el8_3.x86_64
Compiler: gcc 7.5.0-3ubuntu1~18.04
RHEL8
Kernel: 4.18.0-240.10.1.el8_3.x86_64
Compiler: gcc 8.3.1 20191121 (Red Hat 8.3.1-5)
Ubuntu 20.04
Kernel: 4.18.0-240.10.1.el8_3.x86_64
Compiler: gcc 9.3.0-17ubuntu1~20.04
Fedora 32
Kernel: 4.18.0-240.10.1.el8_3.x86_64
Compiler: gcc 10.2.1
RHEL 7
Kernel: 4.18.0-240.10.1.el8_3.x86_64
Compiler: gcc 4.8.5 20150623 (Red Hat 4.8.5-44)
openSUSE Leap 15
Kernel: 4.18.0-240.10.1.el8_3.x86_64
Compiler: gcc 7.5.0
Arch Linux
Kernel: 4.18.0-240.10.1.el8_3.x86_64
Compiler: gcc 10.2.0
To view detailed results, visit:
https://lab.dpdk.org/results/dashboard/patchsets/16988/
UNH-IOL DPDK Community Lab
To manage your email subscriptions, visit:
https://lab.dpdk.org/results/dashboard/preferences/subscriptions/
^ permalink raw reply [flat|nested] 7+ messages in thread
[parent not found: <20210507122004.683239-1-thomas@monjalon.net>]
end of thread, other threads:[~2021-05-08 15:19 UTC | newest]
Thread overview: 7+ messages (download: mbox.gz / follow: Atom feed)
-- links below jump to the message on this page --
2021-05-07 19:04 [dpdk-test-report] |SUCCESS| pw93048 [PATCH] net/hns3: fix debug build dpdklab
-- strict thread matches above, loose matches on Subject: below --
2021-05-08 15:19 dpdklab
2021-05-08 5:01 dpdklab
2021-05-08 4:48 dpdklab
2021-05-08 3:57 dpdklab
2021-05-07 18:03 dpdklab
[not found] <20210507122004.683239-1-thomas@monjalon.net>
2021-05-07 12:21 ` checkpatch
This is a public inbox, see mirroring instructions
for how to clone and mirror all data and code used for this inbox;
as well as URLs for NNTP newsgroup(s).