* [dpdk-test-report] |SUCCESS| pw93051 [PATCH] [v2] eal: fix memory mapping for 32-bit targets
@ 2021-05-07 19:59 dpdklab
0 siblings, 0 replies; 12+ messages in thread
From: dpdklab @ 2021-05-07 19:59 UTC (permalink / raw)
To: Test Report; +Cc: dpdk-test-reports
[-- Attachment #1: Type: text/plain, Size: 2281 bytes --]
Test-Label: iol-abi-testing
Test-Status: SUCCESS
http://dpdk.org/patch/93051
_Testing PASS_
Submitter: Lance Richardson <lance.richardson@broadcom.com>
Date: Friday, May 07 2021 19:06:57
DPDK git baseline: Repo:dpdk
Branch: master
CommitID:7fb41a8cbe2108a7634343c3abb7f9d01aed3777
93051 --> testing pass
Test environment and result as below:
+------------------+----------+
| Environment | abi_test |
+==================+==========+
| Ubuntu 18.04 ARM | PASS |
+------------------+----------+
| Ubuntu 20.04 | PASS |
+------------------+----------+
| RHEL 7 | PASS |
+------------------+----------+
| RHEL8 | PASS |
+------------------+----------+
| Ubuntu 18.04 | PASS |
+------------------+----------+
| CentOS 8 | PASS |
+------------------+----------+
| Fedora 32 | PASS |
+------------------+----------+
| Arch Linux | PASS |
+------------------+----------+
| CentOS Stream 8 | PASS |
+------------------+----------+
| Fedora 31 | PASS |
+------------------+----------+
| openSUSE Leap 15 | PASS |
+------------------+----------+
Ubuntu 18.04 ARM
Kernel: 5.4.0-53-generic
Compiler: gcc 9.3
Ubuntu 20.04
Kernel: 4.18.0-240.10.1.el8_3.x86_64
Compiler: gcc 9.3.0-17ubuntu1~20.04
RHEL 7
Kernel: 4.18.0-240.10.1.el8_3.x86_64
Compiler: gcc 4.8.5 20150623 (Red Hat 4.8.5-44)
RHEL8
Kernel: 4.18.0-240.10.1.el8_3.x86_64
Compiler: gcc 8.3.1 20191121 (Red Hat 8.3.1-5)
Ubuntu 18.04
Kernel: 4.18.0-240.10.1.el8_3.x86_64
Compiler: gcc 7.5.0-3ubuntu1~18.04
CentOS 8
Kernel: 4.18.0-240.10.1.el8_3.x86_64
Compiler: gcc 8.3.1 20191121 (Red Hat 8.3.1-5)
Fedora 32
Kernel: 4.18.0-240.10.1.el8_3.x86_64
Compiler: gcc 10.2.1
Arch Linux
Kernel: 4.18.0-240.10.1.el8_3.x86_64
Compiler: gcc 10.2.0
CentOS Stream 8
Kernel: 4.18.0-240.10.1.el8_3.x86_64
Compiler: gcc 8.4.1 20200928
Fedora 31
Kernel: 4.18.0-240.10.1.el8_3.x86_64
Compiler: gcc 9.3.1
openSUSE Leap 15
Kernel: 4.18.0-240.10.1.el8_3.x86_64
Compiler: gcc 7.5.0
To view detailed results, visit:
https://lab.dpdk.org/results/dashboard/patchsets/16991/
UNH-IOL DPDK Community Lab
To manage your email subscriptions, visit:
https://lab.dpdk.org/results/dashboard/preferences/subscriptions/
^ permalink raw reply [flat|nested] 12+ messages in thread
* [dpdk-test-report] |SUCCESS| pw93051 [PATCH] [v2] eal: fix memory mapping for 32-bit targets
@ 2021-05-12 11:06 dpdklab
0 siblings, 0 replies; 12+ messages in thread
From: dpdklab @ 2021-05-12 11:06 UTC (permalink / raw)
To: Ali Alnubani, Test Report; +Cc: dpdk-test-reports
[-- Attachment #1: Type: text/plain, Size: 1057 bytes --]
Test-Label: iol-mellanox-Functional
Test-Status: SUCCESS
http://dpdk.org/patch/93051
_Functional Testing PASS_
Submitter: Lance Richardson <lance.richardson@broadcom.com>
Date: Friday, May 07 2021 19:06:57
DPDK git baseline: Repo:dpdk
Branch: master
CommitID:7fb41a8cbe2108a7634343c3abb7f9d01aed3777
93051 --> functional testing pass
Test environment and result as below:
Ubuntu 18.04
Kernel: 4.15.0-generic
Compiler: gcc 7.4
NIC: Mellanox ConnectX-4 Lx 25000 Mbps
Target: x86_64-native-linuxapp-gcc
Fail/Total: 0/5
Ubuntu 18.04
Kernel: 4.15.0-generic
Compiler: gcc 7.4
NIC: Mellanox ConnectX-4 Lx 40000 Mbps
Target: x86_64-native-linuxapp-gcc
Fail/Total: 0/5
Ubuntu 18.04 ARM
Kernel: 4.15.0-132-generic
Compiler: gcc 7.5
NIC: Arm Mellanox ConnectX-5 10000 Mbps
Target: x86_64-native-linuxapp-gcc
Fail/Total: 0/4
To view detailed results, visit:
https://lab.dpdk.org/results/dashboard/patchsets/16991/
UNH-IOL DPDK Community Lab
To manage your email subscriptions, visit:
https://lab.dpdk.org/results/dashboard/preferences/subscriptions/
^ permalink raw reply [flat|nested] 12+ messages in thread
* [dpdk-test-report] |SUCCESS| pw93051 [PATCH] [v2] eal: fix memory mapping for 32-bit targets
@ 2021-05-09 1:52 dpdklab
0 siblings, 0 replies; 12+ messages in thread
From: dpdklab @ 2021-05-09 1:52 UTC (permalink / raw)
To: Test Report; +Cc: dpdk-test-reports
[-- Attachment #1: Type: text/plain, Size: 990 bytes --]
Test-Label: iol-intel-Functional
Test-Status: SUCCESS
http://dpdk.org/patch/93051
_Functional Testing PASS_
Submitter: Lance Richardson <lance.richardson@broadcom.com>
Date: Friday, May 07 2021 19:06:57
DPDK git baseline: Repo:dpdk
Branch: master
CommitID:7fb41a8cbe2108a7634343c3abb7f9d01aed3777
93051 --> functional testing pass
Test environment and result as below:
Ubuntu 18.04
Kernel: 4.15.0-generic
Compiler: gcc 7.4
NIC: Intel Corporation Ethernet Converged Network Adapter 82599ES 10000 Mbps
Target: x86_64-native-linuxapp-gcc
Fail/Total: 0/5
Ubuntu 18.04 ARM
Kernel: 4.15.0-132-generic
Compiler: gcc 7.5
NIC: Arm Intel Corporation Ethernet Converged Network Adapter XL710-QDA2 40000 Mbps
Target: x86_64-native-linuxapp-gcc
Fail/Total: 0/5
To view detailed results, visit:
https://lab.dpdk.org/results/dashboard/patchsets/16991/
UNH-IOL DPDK Community Lab
To manage your email subscriptions, visit:
https://lab.dpdk.org/results/dashboard/preferences/subscriptions/
^ permalink raw reply [flat|nested] 12+ messages in thread
* [dpdk-test-report] |SUCCESS| pw93051 [PATCH] [v2] eal: fix memory mapping for 32-bit targets
@ 2021-05-09 1:37 dpdklab
0 siblings, 0 replies; 12+ messages in thread
From: dpdklab @ 2021-05-09 1:37 UTC (permalink / raw)
To: Ali Alnubani, Test Report; +Cc: dpdk-test-reports
[-- Attachment #1: Type: text/plain, Size: 4848 bytes --]
Test-Label: iol-mellanox-Performance
Test-Status: SUCCESS
http://dpdk.org/patch/93051
_Performance Testing PASS_
Submitter: Lance Richardson <lance.richardson@broadcom.com>
Date: Friday, May 07 2021 19:06:57
DPDK git baseline: Repo:dpdk
Branch: master
CommitID:7fb41a8cbe2108a7634343c3abb7f9d01aed3777
93051 --> performance testing pass
Test environment and result as below:
Ubuntu 18.04
Kernel: 4.15.0-generic
Compiler: gcc 7.4
NIC: Mellanox ConnectX-4 Lx 40000 Mbps
Target: x86_64-native-linuxapp-gcc
Fail/Total: 0/6
Detail performance results:
+------------+---------+-------------------------------------+
| frame_size | txd/rxd | throughput difference from expected |
+============+=========+=====================================+
| 64 | 256 | 0.32254% |
+------------+---------+-------------------------------------+
| 128 | 256 | 1.49113% |
+------------+---------+-------------------------------------+
| 256 | 256 | 0.20487% |
+------------+---------+-------------------------------------+
| 512 | 256 | -0.04261% |
+------------+---------+-------------------------------------+
| 1024 | 256 | -0.16705% |
+------------+---------+-------------------------------------+
| 1518 | 256 | -0.23066% |
+------------+---------+-------------------------------------+
Ubuntu 18.04
Kernel: 4.15.0-generic
Compiler: gcc 7.4
NIC: Mellanox ConnectX-4 Lx 25000 Mbps
Target: x86_64-native-linuxapp-gcc
Fail/Total: 0/6
Detail performance results:
+------------+---------+-------------------------------------+
| frame_size | txd/rxd | throughput difference from expected |
+============+=========+=====================================+
| 64 | 256 | -0.23748% |
+------------+---------+-------------------------------------+
| 128 | 256 | 0.00346% |
+------------+---------+-------------------------------------+
| 256 | 256 | -1.13445% |
+------------+---------+-------------------------------------+
| 512 | 256 | 0.19688% |
+------------+---------+-------------------------------------+
| 1024 | 256 | 0.20077% |
+------------+---------+-------------------------------------+
| 1518 | 256 | -0.19685% |
+------------+---------+-------------------------------------+
Ubuntu 18.04
Kernel: 4.15.0-generic
Compiler: gcc 7.4
NIC: Mellanox ConnectX-5 100000 Mbps
Target: x86_64-native-linuxapp-gcc
Fail/Total: 0/6
Detail performance results:
+------------+---------+-------------------------------------+
| frame_size | txd/rxd | throughput difference from expected |
+============+=========+=====================================+
| 64 | 256 | -0.0776% |
+------------+---------+-------------------------------------+
| 128 | 256 | -0.10308% |
+------------+---------+-------------------------------------+
| 256 | 256 | -0.18474% |
+------------+---------+-------------------------------------+
| 512 | 256 | 0.82153% |
+------------+---------+-------------------------------------+
| 1024 | 256 | 0.5846% |
+------------+---------+-------------------------------------+
| 1518 | 256 | -0.16422% |
+------------+---------+-------------------------------------+
Ubuntu 18.04 ARM
Kernel: 4.15.0-132-generic
Compiler: gcc 7.5
NIC: Arm Mellanox ConnectX-5 10000 Mbps
Target: x86_64-native-linuxapp-gcc
Fail/Total: 0/4
Detail performance results:
+------------+---------+-------------------------------------+
| frame_size | txd/rxd | throughput difference from expected |
+============+=========+=====================================+
| 64 | 128 | -0.05362% |
+------------+---------+-------------------------------------+
| 64 | 256 | -0.0752% |
+------------+---------+-------------------------------------+
| 64 | 512 | 2.08402% |
+------------+---------+-------------------------------------+
| 64 | 2048 | 0.44048% |
+------------+---------+-------------------------------------+
To view detailed results, visit:
https://lab.dpdk.org/results/dashboard/patchsets/16991/
UNH-IOL DPDK Community Lab
To manage your email subscriptions, visit:
https://lab.dpdk.org/results/dashboard/preferences/subscriptions/
^ permalink raw reply [flat|nested] 12+ messages in thread
* [dpdk-test-report] |SUCCESS| pw93051 [PATCH] [v2] eal: fix memory mapping for 32-bit targets
@ 2021-05-09 1:11 dpdklab
0 siblings, 0 replies; 12+ messages in thread
From: dpdklab @ 2021-05-09 1:11 UTC (permalink / raw)
To: Test Report; +Cc: dpdk-test-reports
[-- Attachment #1: Type: text/plain, Size: 1933 bytes --]
Test-Label: iol-intel-Performance
Test-Status: SUCCESS
http://dpdk.org/patch/93051
_Performance Testing PASS_
Submitter: Lance Richardson <lance.richardson@broadcom.com>
Date: Friday, May 07 2021 19:06:57
DPDK git baseline: Repo:dpdk
Branch: master
CommitID:7fb41a8cbe2108a7634343c3abb7f9d01aed3777
93051 --> performance testing pass
Test environment and result as below:
Ubuntu 18.04
Kernel: 4.15.0-generic
Compiler: gcc 7.4
NIC: Intel Corporation Ethernet Converged Network Adapter 82599ES 10000 Mbps
Target: x86_64-native-linuxapp-gcc
Fail/Total: 0/2
Detail performance results:
+------------+---------+-------------------------------------+
| frame_size | txd/rxd | throughput difference from expected |
+============+=========+=====================================+
| 64 | 512 | -0.26631% |
+------------+---------+-------------------------------------+
| 64 | 2048 | 0.58951% |
+------------+---------+-------------------------------------+
Ubuntu 18.04 ARM
Kernel: 4.15.0-132-generic
Compiler: gcc 7.5
NIC: Arm Intel Corporation Ethernet Converged Network Adapter XL710-QDA2 40000 Mbps
Target: x86_64-native-linuxapp-gcc
Fail/Total: 0/2
Detail performance results:
+------------+---------+-------------------------------------+
| frame_size | txd/rxd | throughput difference from expected |
+============+=========+=====================================+
| 64 | 512 | -0.51246% |
+------------+---------+-------------------------------------+
| 64 | 2048 | 0.71337% |
+------------+---------+-------------------------------------+
To view detailed results, visit:
https://lab.dpdk.org/results/dashboard/patchsets/16991/
UNH-IOL DPDK Community Lab
To manage your email subscriptions, visit:
https://lab.dpdk.org/results/dashboard/preferences/subscriptions/
^ permalink raw reply [flat|nested] 12+ messages in thread
* [dpdk-test-report] |SUCCESS| pw93051 [PATCH] [v2] eal: fix memory mapping for 32-bit targets
@ 2021-05-08 10:49 dpdklab
0 siblings, 0 replies; 12+ messages in thread
From: dpdklab @ 2021-05-08 10:49 UTC (permalink / raw)
To: Ali Alnubani, Test Report; +Cc: dpdk-test-reports
[-- Attachment #1: Type: text/plain, Size: 3971 bytes --]
Test-Label: iol-mellanox-Performance
Test-Status: SUCCESS
http://dpdk.org/patch/93051
_Performance Testing PASS_
Submitter: Lance Richardson <lance.richardson@broadcom.com>
Date: Friday, May 07 2021 19:06:57
DPDK git baseline: Repo:dpdk
Branch: master
CommitID:7fb41a8cbe2108a7634343c3abb7f9d01aed3777
93051 --> performance testing pass
Test environment and result as below:
Ubuntu 18.04
Kernel: 4.15.0-generic
Compiler: gcc 7.4
NIC: Mellanox ConnectX-4 Lx 40000 Mbps
Target: x86_64-native-linuxapp-gcc
Fail/Total: 0/6
Detail performance results:
+------------+---------+-------------------------------------+
| frame_size | txd/rxd | throughput difference from expected |
+============+=========+=====================================+
| 64 | 256 | 0.32254% |
+------------+---------+-------------------------------------+
| 128 | 256 | 1.49113% |
+------------+---------+-------------------------------------+
| 256 | 256 | 0.20487% |
+------------+---------+-------------------------------------+
| 512 | 256 | -0.04261% |
+------------+---------+-------------------------------------+
| 1024 | 256 | -0.16705% |
+------------+---------+-------------------------------------+
| 1518 | 256 | -0.23066% |
+------------+---------+-------------------------------------+
Ubuntu 18.04
Kernel: 4.15.0-generic
Compiler: gcc 7.4
NIC: Mellanox ConnectX-4 Lx 25000 Mbps
Target: x86_64-native-linuxapp-gcc
Fail/Total: 0/6
Detail performance results:
+------------+---------+-------------------------------------+
| frame_size | txd/rxd | throughput difference from expected |
+============+=========+=====================================+
| 64 | 256 | -0.23748% |
+------------+---------+-------------------------------------+
| 128 | 256 | 0.00346% |
+------------+---------+-------------------------------------+
| 256 | 256 | -1.13445% |
+------------+---------+-------------------------------------+
| 512 | 256 | 0.19688% |
+------------+---------+-------------------------------------+
| 1024 | 256 | 0.20077% |
+------------+---------+-------------------------------------+
| 1518 | 256 | -0.19685% |
+------------+---------+-------------------------------------+
Ubuntu 18.04
Kernel: 4.15.0-generic
Compiler: gcc 7.4
NIC: Mellanox ConnectX-5 100000 Mbps
Target: x86_64-native-linuxapp-gcc
Fail/Total: 0/6
Detail performance results:
+------------+---------+-------------------------------------+
| frame_size | txd/rxd | throughput difference from expected |
+============+=========+=====================================+
| 64 | 256 | -0.0776% |
+------------+---------+-------------------------------------+
| 128 | 256 | -0.10308% |
+------------+---------+-------------------------------------+
| 256 | 256 | -0.18474% |
+------------+---------+-------------------------------------+
| 512 | 256 | 0.82153% |
+------------+---------+-------------------------------------+
| 1024 | 256 | 0.5846% |
+------------+---------+-------------------------------------+
| 1518 | 256 | -0.16422% |
+------------+---------+-------------------------------------+
To view detailed results, visit:
https://lab.dpdk.org/results/dashboard/patchsets/16991/
UNH-IOL DPDK Community Lab
To manage your email subscriptions, visit:
https://lab.dpdk.org/results/dashboard/preferences/subscriptions/
^ permalink raw reply [flat|nested] 12+ messages in thread
* [dpdk-test-report] |SUCCESS| pw93051 [PATCH] [v2] eal: fix memory mapping for 32-bit targets
@ 2021-05-08 10:37 dpdklab
0 siblings, 0 replies; 12+ messages in thread
From: dpdklab @ 2021-05-08 10:37 UTC (permalink / raw)
To: Ali Alnubani, Test Report; +Cc: dpdk-test-reports
[-- Attachment #1: Type: text/plain, Size: 2853 bytes --]
Test-Label: iol-mellanox-Performance
Test-Status: SUCCESS
http://dpdk.org/patch/93051
_Performance Testing PASS_
Submitter: Lance Richardson <lance.richardson@broadcom.com>
Date: Friday, May 07 2021 19:06:57
DPDK git baseline: Repo:dpdk
Branch: master
CommitID:7fb41a8cbe2108a7634343c3abb7f9d01aed3777
93051 --> performance testing pass
Test environment and result as below:
Ubuntu 18.04
Kernel: 4.15.0-generic
Compiler: gcc 7.4
NIC: Mellanox ConnectX-4 Lx 40000 Mbps
Target: x86_64-native-linuxapp-gcc
Fail/Total: 0/6
Detail performance results:
+------------+---------+-------------------------------------+
| frame_size | txd/rxd | throughput difference from expected |
+============+=========+=====================================+
| 64 | 256 | 0.32254% |
+------------+---------+-------------------------------------+
| 128 | 256 | 1.49113% |
+------------+---------+-------------------------------------+
| 256 | 256 | 0.20487% |
+------------+---------+-------------------------------------+
| 512 | 256 | -0.04261% |
+------------+---------+-------------------------------------+
| 1024 | 256 | -0.16705% |
+------------+---------+-------------------------------------+
| 1518 | 256 | -0.23066% |
+------------+---------+-------------------------------------+
Ubuntu 18.04
Kernel: 4.15.0-generic
Compiler: gcc 7.4
NIC: Mellanox ConnectX-4 Lx 25000 Mbps
Target: x86_64-native-linuxapp-gcc
Fail/Total: 0/6
Detail performance results:
+------------+---------+-------------------------------------+
| frame_size | txd/rxd | throughput difference from expected |
+============+=========+=====================================+
| 64 | 256 | -0.23748% |
+------------+---------+-------------------------------------+
| 128 | 256 | 0.00346% |
+------------+---------+-------------------------------------+
| 256 | 256 | -1.13445% |
+------------+---------+-------------------------------------+
| 512 | 256 | 0.19688% |
+------------+---------+-------------------------------------+
| 1024 | 256 | 0.20077% |
+------------+---------+-------------------------------------+
| 1518 | 256 | -0.19685% |
+------------+---------+-------------------------------------+
To view detailed results, visit:
https://lab.dpdk.org/results/dashboard/patchsets/16991/
UNH-IOL DPDK Community Lab
To manage your email subscriptions, visit:
https://lab.dpdk.org/results/dashboard/preferences/subscriptions/
^ permalink raw reply [flat|nested] 12+ messages in thread
* [dpdk-test-report] |SUCCESS| pw93051 [PATCH] [v2] eal: fix memory mapping for 32-bit targets
@ 2021-05-08 10:24 dpdklab
0 siblings, 0 replies; 12+ messages in thread
From: dpdklab @ 2021-05-08 10:24 UTC (permalink / raw)
To: Ali Alnubani, Test Report; +Cc: dpdk-test-reports
[-- Attachment #1: Type: text/plain, Size: 1733 bytes --]
Test-Label: iol-mellanox-Performance
Test-Status: SUCCESS
http://dpdk.org/patch/93051
_Performance Testing PASS_
Submitter: Lance Richardson <lance.richardson@broadcom.com>
Date: Friday, May 07 2021 19:06:57
DPDK git baseline: Repo:dpdk
Branch: master
CommitID:7fb41a8cbe2108a7634343c3abb7f9d01aed3777
93051 --> performance testing pass
Test environment and result as below:
Ubuntu 18.04
Kernel: 4.15.0-generic
Compiler: gcc 7.4
NIC: Mellanox ConnectX-4 Lx 40000 Mbps
Target: x86_64-native-linuxapp-gcc
Fail/Total: 0/6
Detail performance results:
+------------+---------+-------------------------------------+
| frame_size | txd/rxd | throughput difference from expected |
+============+=========+=====================================+
| 64 | 256 | 0.32254% |
+------------+---------+-------------------------------------+
| 128 | 256 | 1.49113% |
+------------+---------+-------------------------------------+
| 256 | 256 | 0.20487% |
+------------+---------+-------------------------------------+
| 512 | 256 | -0.04261% |
+------------+---------+-------------------------------------+
| 1024 | 256 | -0.16705% |
+------------+---------+-------------------------------------+
| 1518 | 256 | -0.23066% |
+------------+---------+-------------------------------------+
To view detailed results, visit:
https://lab.dpdk.org/results/dashboard/patchsets/16991/
UNH-IOL DPDK Community Lab
To manage your email subscriptions, visit:
https://lab.dpdk.org/results/dashboard/preferences/subscriptions/
^ permalink raw reply [flat|nested] 12+ messages in thread
* [dpdk-test-report] |SUCCESS| pw93051 [PATCH] [v2] eal: fix memory mapping for 32-bit targets
@ 2021-05-07 19:48 dpdklab
0 siblings, 0 replies; 12+ messages in thread
From: dpdklab @ 2021-05-07 19:48 UTC (permalink / raw)
To: Test Report; +Cc: dpdk-test-reports
[-- Attachment #1: Type: text/plain, Size: 1264 bytes --]
Test-Label: iol-intel-Performance
Test-Status: SUCCESS
http://dpdk.org/patch/93051
_Performance Testing PASS_
Submitter: Lance Richardson <lance.richardson@broadcom.com>
Date: Friday, May 07 2021 19:06:57
DPDK git baseline: Repo:dpdk
Branch: master
CommitID:7fb41a8cbe2108a7634343c3abb7f9d01aed3777
93051 --> performance testing pass
Test environment and result as below:
Ubuntu 18.04
Kernel: 4.15.0-generic
Compiler: gcc 7.4
NIC: Intel Corporation Ethernet Converged Network Adapter 82599ES 10000 Mbps
Target: x86_64-native-linuxapp-gcc
Fail/Total: 0/2
Detail performance results:
+------------+---------+-------------------------------------+
| frame_size | txd/rxd | throughput difference from expected |
+============+=========+=====================================+
| 64 | 512 | -0.26631% |
+------------+---------+-------------------------------------+
| 64 | 2048 | 0.58951% |
+------------+---------+-------------------------------------+
To view detailed results, visit:
https://lab.dpdk.org/results/dashboard/patchsets/16991/
UNH-IOL DPDK Community Lab
To manage your email subscriptions, visit:
https://lab.dpdk.org/results/dashboard/preferences/subscriptions/
^ permalink raw reply [flat|nested] 12+ messages in thread
* [dpdk-test-report] |SUCCESS| pw93051 [PATCH] [v2] eal: fix memory mapping for 32-bit targets
@ 2021-05-07 19:46 dpdklab
0 siblings, 0 replies; 12+ messages in thread
From: dpdklab @ 2021-05-07 19:46 UTC (permalink / raw)
To: Test Report; +Cc: dpdk-test-reports
[-- Attachment #1: Type: text/plain, Size: 4647 bytes --]
Test-Label: iol-testing
Test-Status: SUCCESS
http://dpdk.org/patch/93051
_Testing PASS_
Submitter: Lance Richardson <lance.richardson@broadcom.com>
Date: Friday, May 07 2021 19:06:57
DPDK git baseline: Repo:dpdk
Branch: master
CommitID:7fb41a8cbe2108a7634343c3abb7f9d01aed3777
93051 --> testing pass
Test environment and result as below:
+---------------------+----------------------+-------------------+--------------------+----------------+
| Environment | dpdk_mingw64_compile | dpdk_compile_spdk | dpdk_meson_compile | dpdk_unit_test |
+=====================+======================+===================+====================+================+
| Windows Server 2019 | PASS | SKIPPED | PASS | SKIPPED |
+---------------------+----------------------+-------------------+--------------------+----------------+
| Ubuntu 18.04 | SKIPPED | PASS | PASS | PASS |
+---------------------+----------------------+-------------------+--------------------+----------------+
| Ubuntu 18.04 ARM | SKIPPED | SKIPPED | PASS | SKIPPED |
+---------------------+----------------------+-------------------+--------------------+----------------+
| Fedora 31 | SKIPPED | SKIPPED | PASS | SKIPPED |
+---------------------+----------------------+-------------------+--------------------+----------------+
| CentOS 8 | SKIPPED | SKIPPED | PASS | SKIPPED |
+---------------------+----------------------+-------------------+--------------------+----------------+
| CentOS Stream 8 | SKIPPED | SKIPPED | PASS | SKIPPED |
+---------------------+----------------------+-------------------+--------------------+----------------+
| Fedora 32 | SKIPPED | SKIPPED | PASS | SKIPPED |
+---------------------+----------------------+-------------------+--------------------+----------------+
| Ubuntu 20.04 | SKIPPED | SKIPPED | PASS | SKIPPED |
+---------------------+----------------------+-------------------+--------------------+----------------+
| RHEL8 | SKIPPED | SKIPPED | PASS | SKIPPED |
+---------------------+----------------------+-------------------+--------------------+----------------+
| Arch Linux | SKIPPED | SKIPPED | PASS | SKIPPED |
+---------------------+----------------------+-------------------+--------------------+----------------+
| RHEL 7 | SKIPPED | SKIPPED | PASS | SKIPPED |
+---------------------+----------------------+-------------------+--------------------+----------------+
| FreeBSD 11.2 | SKIPPED | SKIPPED | PASS | SKIPPED |
+---------------------+----------------------+-------------------+--------------------+----------------+
| openSUSE Leap 15 | SKIPPED | SKIPPED | PASS | SKIPPED |
+---------------------+----------------------+-------------------+--------------------+----------------+
Windows Server 2019
Kernel: 10.0
Compiler: clang 9.0 and gcc 8.1.0 (MinGW)
Ubuntu 18.04
Kernel: 4.18.0-240.10.1.el8_3.x86_64
Compiler: gcc 7.5.0-3ubuntu1~18.04
Ubuntu 18.04 ARM
Kernel: 5.4.0-53-generic
Compiler: gcc 9.3
Fedora 31
Kernel: 4.18.0-240.10.1.el8_3.x86_64
Compiler: gcc 9.3.1
CentOS 8
Kernel: 4.18.0-240.10.1.el8_3.x86_64
Compiler: gcc 8.3.1 20191121 (Red Hat 8.3.1-5)
CentOS Stream 8
Kernel: 4.18.0-240.10.1.el8_3.x86_64
Compiler: gcc 8.4.1 20200928
Fedora 32
Kernel: 4.18.0-240.10.1.el8_3.x86_64
Compiler: gcc 10.2.1
Ubuntu 20.04
Kernel: 4.18.0-240.10.1.el8_3.x86_64
Compiler: gcc 9.3.0-17ubuntu1~20.04
RHEL8
Kernel: 4.18.0-240.10.1.el8_3.x86_64
Compiler: gcc 8.3.1 20191121 (Red Hat 8.3.1-5)
Arch Linux
Kernel: 4.18.0-240.10.1.el8_3.x86_64
Compiler: gcc 10.2.0
RHEL 7
Kernel: 4.18.0-240.10.1.el8_3.x86_64
Compiler: gcc 4.8.5 20150623 (Red Hat 4.8.5-44)
FreeBSD 11.2
Kernel: 11.2
Compiler: gcc 8.3
openSUSE Leap 15
Kernel: 4.18.0-240.10.1.el8_3.x86_64
Compiler: gcc 7.5.0
To view detailed results, visit:
https://lab.dpdk.org/results/dashboard/patchsets/16991/
UNH-IOL DPDK Community Lab
To manage your email subscriptions, visit:
https://lab.dpdk.org/results/dashboard/preferences/subscriptions/
^ permalink raw reply [flat|nested] 12+ messages in thread
* [dpdk-test-report] |SUCCESS| pw93051 [PATCH] [v2] eal: fix memory mapping for 32-bit targets
@ 2021-05-07 19:41 dpdklab
0 siblings, 0 replies; 12+ messages in thread
From: dpdklab @ 2021-05-07 19:41 UTC (permalink / raw)
To: Test Report; +Cc: dpdk-test-reports
[-- Attachment #1: Type: text/plain, Size: 791 bytes --]
Test-Label: iol-intel-Functional
Test-Status: SUCCESS
http://dpdk.org/patch/93051
_Functional Testing PASS_
Submitter: Lance Richardson <lance.richardson@broadcom.com>
Date: Friday, May 07 2021 19:06:57
DPDK git baseline: Repo:dpdk
Branch: master
CommitID:7fb41a8cbe2108a7634343c3abb7f9d01aed3777
93051 --> functional testing pass
Test environment and result as below:
Ubuntu 18.04
Kernel: 4.15.0-generic
Compiler: gcc 7.4
NIC: Intel Corporation Ethernet Converged Network Adapter 82599ES 10000 Mbps
Target: x86_64-native-linuxapp-gcc
Fail/Total: 0/5
To view detailed results, visit:
https://lab.dpdk.org/results/dashboard/patchsets/16991/
UNH-IOL DPDK Community Lab
To manage your email subscriptions, visit:
https://lab.dpdk.org/results/dashboard/preferences/subscriptions/
^ permalink raw reply [flat|nested] 12+ messages in thread
* [dpdk-test-report] |SUCCESS| pw93051 [PATCH v2] eal: fix memory mapping for 32-bit targets
[not found] <20210507190657.84927-1-lance.richardson@broadcom.com>
@ 2021-05-07 19:07 ` checkpatch
0 siblings, 0 replies; 12+ messages in thread
From: checkpatch @ 2021-05-07 19:07 UTC (permalink / raw)
To: test-report
Test-Label: checkpatch
Test-Status: SUCCESS
http://dpdk.org/patch/93051
_coding style OK_
^ permalink raw reply [flat|nested] 12+ messages in thread
end of thread, other threads:[~2021-05-12 11:06 UTC | newest]
Thread overview: 12+ messages (download: mbox.gz / follow: Atom feed)
-- links below jump to the message on this page --
2021-05-07 19:59 [dpdk-test-report] |SUCCESS| pw93051 [PATCH] [v2] eal: fix memory mapping for 32-bit targets dpdklab
-- strict thread matches above, loose matches on Subject: below --
2021-05-12 11:06 dpdklab
2021-05-09 1:52 dpdklab
2021-05-09 1:37 dpdklab
2021-05-09 1:11 dpdklab
2021-05-08 10:49 dpdklab
2021-05-08 10:37 dpdklab
2021-05-08 10:24 dpdklab
2021-05-07 19:48 dpdklab
2021-05-07 19:46 dpdklab
2021-05-07 19:41 dpdklab
[not found] <20210507190657.84927-1-lance.richardson@broadcom.com>
2021-05-07 19:07 ` [dpdk-test-report] |SUCCESS| pw93051 [PATCH v2] " checkpatch
This is a public inbox, see mirroring instructions
for how to clone and mirror all data and code used for this inbox;
as well as URLs for NNTP newsgroup(s).