* [dpdk-test-report] |SUCCESS| pw93056 [PATCH] net/hns3: fix TM QCN error event report by MSIX
@ 2021-05-08 22:50 dpdklab
0 siblings, 0 replies; 10+ messages in thread
From: dpdklab @ 2021-05-08 22:50 UTC (permalink / raw)
To: Ali Alnubani, Test Report; +Cc: dpdk-test-reports
[-- Attachment #1: Type: text/plain, Size: 1723 bytes --]
Test-Label: iol-mellanox-Performance
Test-Status: SUCCESS
http://dpdk.org/patch/93056
_Performance Testing PASS_
Submitter: Min Hu (Connor) <humin29@huawei.com>
Date: Saturday, May 08 2021 07:40:57
DPDK git baseline: Repo:dpdk
Branch: master
CommitID:627c5b41bb14a1afbd1489b0fc4b8224532a823d
93056 --> performance testing pass
Test environment and result as below:
Ubuntu 18.04
Kernel: 4.15.0-generic
Compiler: gcc 7.4
NIC: Mellanox ConnectX-4 Lx 40000 Mbps
Target: x86_64-native-linuxapp-gcc
Fail/Total: 0/6
Detail performance results:
+------------+---------+-------------------------------------+
| frame_size | txd/rxd | throughput difference from expected |
+============+=========+=====================================+
| 64 | 256 | 0.49951% |
+------------+---------+-------------------------------------+
| 128 | 256 | 1.55695% |
+------------+---------+-------------------------------------+
| 256 | 256 | 0.06585% |
+------------+---------+-------------------------------------+
| 512 | 256 | -0.06391% |
+------------+---------+-------------------------------------+
| 1024 | 256 | -0.01044% |
+------------+---------+-------------------------------------+
| 1518 | 256 | -0.04613% |
+------------+---------+-------------------------------------+
To view detailed results, visit:
https://lab.dpdk.org/results/dashboard/patchsets/16996/
UNH-IOL DPDK Community Lab
To manage your email subscriptions, visit:
https://lab.dpdk.org/results/dashboard/preferences/subscriptions/
^ permalink raw reply [flat|nested] 10+ messages in thread
* [dpdk-test-report] |SUCCESS| pw93056 [PATCH] net/hns3: fix TM QCN error event report by MSIX
@ 2021-05-09 21:33 dpdklab
0 siblings, 0 replies; 10+ messages in thread
From: dpdklab @ 2021-05-09 21:33 UTC (permalink / raw)
To: Ali Alnubani, Test Report; +Cc: dpdk-test-reports
[-- Attachment #1: Type: text/plain, Size: 4838 bytes --]
Test-Label: iol-mellanox-Performance
Test-Status: SUCCESS
http://dpdk.org/patch/93056
_Performance Testing PASS_
Submitter: Min Hu (Connor) <humin29@huawei.com>
Date: Saturday, May 08 2021 07:40:57
DPDK git baseline: Repo:dpdk
Branch: master
CommitID:627c5b41bb14a1afbd1489b0fc4b8224532a823d
93056 --> performance testing pass
Test environment and result as below:
Ubuntu 18.04
Kernel: 4.15.0-generic
Compiler: gcc 7.4
NIC: Mellanox ConnectX-4 Lx 40000 Mbps
Target: x86_64-native-linuxapp-gcc
Fail/Total: 0/6
Detail performance results:
+------------+---------+-------------------------------------+
| frame_size | txd/rxd | throughput difference from expected |
+============+=========+=====================================+
| 64 | 256 | 0.49951% |
+------------+---------+-------------------------------------+
| 128 | 256 | 1.55695% |
+------------+---------+-------------------------------------+
| 256 | 256 | 0.06585% |
+------------+---------+-------------------------------------+
| 512 | 256 | -0.06391% |
+------------+---------+-------------------------------------+
| 1024 | 256 | -0.01044% |
+------------+---------+-------------------------------------+
| 1518 | 256 | -0.04613% |
+------------+---------+-------------------------------------+
Ubuntu 18.04
Kernel: 4.15.0-generic
Compiler: gcc 7.4
NIC: Mellanox ConnectX-5 100000 Mbps
Target: x86_64-native-linuxapp-gcc
Fail/Total: 0/6
Detail performance results:
+------------+---------+-------------------------------------+
| frame_size | txd/rxd | throughput difference from expected |
+============+=========+=====================================+
| 64 | 256 | -0.06305% |
+------------+---------+-------------------------------------+
| 128 | 256 | 0.24481% |
+------------+---------+-------------------------------------+
| 256 | 256 | 0.38695% |
+------------+---------+-------------------------------------+
| 512 | 256 | 1.55424% |
+------------+---------+-------------------------------------+
| 1024 | 256 | 0.86419% |
+------------+---------+-------------------------------------+
| 1518 | 256 | -0.09384% |
+------------+---------+-------------------------------------+
Ubuntu 18.04
Kernel: 4.15.0-generic
Compiler: gcc 7.4
NIC: Mellanox ConnectX-4 Lx 25000 Mbps
Target: x86_64-native-linuxapp-gcc
Fail/Total: 0/6
Detail performance results:
+------------+---------+-------------------------------------+
| frame_size | txd/rxd | throughput difference from expected |
+============+=========+=====================================+
| 64 | 256 | -0.40429% |
+------------+---------+-------------------------------------+
| 128 | 256 | 0.30061% |
+------------+---------+-------------------------------------+
| 256 | 256 | -0.65887% |
+------------+---------+-------------------------------------+
| 512 | 256 | 0.24825% |
+------------+---------+-------------------------------------+
| 1024 | 256 | 0.05019% |
+------------+---------+-------------------------------------+
| 1518 | 256 | -0.22146% |
+------------+---------+-------------------------------------+
Ubuntu 18.04 ARM
Kernel: 4.15.0-132-generic
Compiler: gcc 7.5
NIC: Arm Mellanox ConnectX-5 10000 Mbps
Target: x86_64-native-linuxapp-gcc
Fail/Total: 0/4
Detail performance results:
+------------+---------+-------------------------------------+
| frame_size | txd/rxd | throughput difference from expected |
+============+=========+=====================================+
| 64 | 128 | 0.05362% |
+------------+---------+-------------------------------------+
| 64 | 256 | 0.63386% |
+------------+---------+-------------------------------------+
| 64 | 512 | 1.89755% |
+------------+---------+-------------------------------------+
| 64 | 2048 | -0.1719% |
+------------+---------+-------------------------------------+
To view detailed results, visit:
https://lab.dpdk.org/results/dashboard/patchsets/16996/
UNH-IOL DPDK Community Lab
To manage your email subscriptions, visit:
https://lab.dpdk.org/results/dashboard/preferences/subscriptions/
^ permalink raw reply [flat|nested] 10+ messages in thread
* [dpdk-test-report] |SUCCESS| pw93056 [PATCH] net/hns3: fix TM QCN error event report by MSIX
@ 2021-05-09 21:08 dpdklab
0 siblings, 0 replies; 10+ messages in thread
From: dpdklab @ 2021-05-09 21:08 UTC (permalink / raw)
To: Test Report; +Cc: dpdk-test-reports
[-- Attachment #1: Type: text/plain, Size: 1923 bytes --]
Test-Label: iol-intel-Performance
Test-Status: SUCCESS
http://dpdk.org/patch/93056
_Performance Testing PASS_
Submitter: Min Hu (Connor) <humin29@huawei.com>
Date: Saturday, May 08 2021 07:40:57
DPDK git baseline: Repo:dpdk
Branch: master
CommitID:627c5b41bb14a1afbd1489b0fc4b8224532a823d
93056 --> performance testing pass
Test environment and result as below:
Ubuntu 18.04
Kernel: 4.15.0-generic
Compiler: gcc 7.4
NIC: Intel Corporation Ethernet Converged Network Adapter 82599ES 10000 Mbps
Target: x86_64-native-linuxapp-gcc
Fail/Total: 0/2
Detail performance results:
+------------+---------+-------------------------------------+
| frame_size | txd/rxd | throughput difference from expected |
+============+=========+=====================================+
| 64 | 512 | -0.28377% |
+------------+---------+-------------------------------------+
| 64 | 2048 | 0.67695% |
+------------+---------+-------------------------------------+
Ubuntu 18.04 ARM
Kernel: 4.15.0-132-generic
Compiler: gcc 7.5
NIC: Arm Intel Corporation Ethernet Converged Network Adapter XL710-QDA2 40000 Mbps
Target: x86_64-native-linuxapp-gcc
Fail/Total: 0/2
Detail performance results:
+------------+---------+-------------------------------------+
| frame_size | txd/rxd | throughput difference from expected |
+============+=========+=====================================+
| 64 | 512 | -0.31317% |
+------------+---------+-------------------------------------+
| 64 | 2048 | 0.54216% |
+------------+---------+-------------------------------------+
To view detailed results, visit:
https://lab.dpdk.org/results/dashboard/patchsets/16996/
UNH-IOL DPDK Community Lab
To manage your email subscriptions, visit:
https://lab.dpdk.org/results/dashboard/preferences/subscriptions/
^ permalink raw reply [flat|nested] 10+ messages in thread
* [dpdk-test-report] |SUCCESS| pw93056 [PATCH] net/hns3: fix TM QCN error event report by MSIX
@ 2021-05-08 23:15 dpdklab
0 siblings, 0 replies; 10+ messages in thread
From: dpdklab @ 2021-05-08 23:15 UTC (permalink / raw)
To: Ali Alnubani, Test Report; +Cc: dpdk-test-reports
[-- Attachment #1: Type: text/plain, Size: 3961 bytes --]
Test-Label: iol-mellanox-Performance
Test-Status: SUCCESS
http://dpdk.org/patch/93056
_Performance Testing PASS_
Submitter: Min Hu (Connor) <humin29@huawei.com>
Date: Saturday, May 08 2021 07:40:57
DPDK git baseline: Repo:dpdk
Branch: master
CommitID:627c5b41bb14a1afbd1489b0fc4b8224532a823d
93056 --> performance testing pass
Test environment and result as below:
Ubuntu 18.04
Kernel: 4.15.0-generic
Compiler: gcc 7.4
NIC: Mellanox ConnectX-4 Lx 40000 Mbps
Target: x86_64-native-linuxapp-gcc
Fail/Total: 0/6
Detail performance results:
+------------+---------+-------------------------------------+
| frame_size | txd/rxd | throughput difference from expected |
+============+=========+=====================================+
| 64 | 256 | 0.49951% |
+------------+---------+-------------------------------------+
| 128 | 256 | 1.55695% |
+------------+---------+-------------------------------------+
| 256 | 256 | 0.06585% |
+------------+---------+-------------------------------------+
| 512 | 256 | -0.06391% |
+------------+---------+-------------------------------------+
| 1024 | 256 | -0.01044% |
+------------+---------+-------------------------------------+
| 1518 | 256 | -0.04613% |
+------------+---------+-------------------------------------+
Ubuntu 18.04
Kernel: 4.15.0-generic
Compiler: gcc 7.4
NIC: Mellanox ConnectX-5 100000 Mbps
Target: x86_64-native-linuxapp-gcc
Fail/Total: 0/6
Detail performance results:
+------------+---------+-------------------------------------+
| frame_size | txd/rxd | throughput difference from expected |
+============+=========+=====================================+
| 64 | 256 | -0.06305% |
+------------+---------+-------------------------------------+
| 128 | 256 | 0.24481% |
+------------+---------+-------------------------------------+
| 256 | 256 | 0.38695% |
+------------+---------+-------------------------------------+
| 512 | 256 | 1.55424% |
+------------+---------+-------------------------------------+
| 1024 | 256 | 0.86419% |
+------------+---------+-------------------------------------+
| 1518 | 256 | -0.09384% |
+------------+---------+-------------------------------------+
Ubuntu 18.04
Kernel: 4.15.0-generic
Compiler: gcc 7.4
NIC: Mellanox ConnectX-4 Lx 25000 Mbps
Target: x86_64-native-linuxapp-gcc
Fail/Total: 0/6
Detail performance results:
+------------+---------+-------------------------------------+
| frame_size | txd/rxd | throughput difference from expected |
+============+=========+=====================================+
| 64 | 256 | -0.40429% |
+------------+---------+-------------------------------------+
| 128 | 256 | 0.30061% |
+------------+---------+-------------------------------------+
| 256 | 256 | -0.65887% |
+------------+---------+-------------------------------------+
| 512 | 256 | 0.24825% |
+------------+---------+-------------------------------------+
| 1024 | 256 | 0.05019% |
+------------+---------+-------------------------------------+
| 1518 | 256 | -0.22146% |
+------------+---------+-------------------------------------+
To view detailed results, visit:
https://lab.dpdk.org/results/dashboard/patchsets/16996/
UNH-IOL DPDK Community Lab
To manage your email subscriptions, visit:
https://lab.dpdk.org/results/dashboard/preferences/subscriptions/
^ permalink raw reply [flat|nested] 10+ messages in thread
* [dpdk-test-report] |SUCCESS| pw93056 [PATCH] net/hns3: fix TM QCN error event report by MSIX
@ 2021-05-08 23:03 dpdklab
0 siblings, 0 replies; 10+ messages in thread
From: dpdklab @ 2021-05-08 23:03 UTC (permalink / raw)
To: Ali Alnubani, Test Report; +Cc: dpdk-test-reports
[-- Attachment #1: Type: text/plain, Size: 2841 bytes --]
Test-Label: iol-mellanox-Performance
Test-Status: SUCCESS
http://dpdk.org/patch/93056
_Performance Testing PASS_
Submitter: Min Hu (Connor) <humin29@huawei.com>
Date: Saturday, May 08 2021 07:40:57
DPDK git baseline: Repo:dpdk
Branch: master
CommitID:627c5b41bb14a1afbd1489b0fc4b8224532a823d
93056 --> performance testing pass
Test environment and result as below:
Ubuntu 18.04
Kernel: 4.15.0-generic
Compiler: gcc 7.4
NIC: Mellanox ConnectX-4 Lx 40000 Mbps
Target: x86_64-native-linuxapp-gcc
Fail/Total: 0/6
Detail performance results:
+------------+---------+-------------------------------------+
| frame_size | txd/rxd | throughput difference from expected |
+============+=========+=====================================+
| 64 | 256 | 0.49951% |
+------------+---------+-------------------------------------+
| 128 | 256 | 1.55695% |
+------------+---------+-------------------------------------+
| 256 | 256 | 0.06585% |
+------------+---------+-------------------------------------+
| 512 | 256 | -0.06391% |
+------------+---------+-------------------------------------+
| 1024 | 256 | -0.01044% |
+------------+---------+-------------------------------------+
| 1518 | 256 | -0.04613% |
+------------+---------+-------------------------------------+
Ubuntu 18.04
Kernel: 4.15.0-generic
Compiler: gcc 7.4
NIC: Mellanox ConnectX-5 100000 Mbps
Target: x86_64-native-linuxapp-gcc
Fail/Total: 0/6
Detail performance results:
+------------+---------+-------------------------------------+
| frame_size | txd/rxd | throughput difference from expected |
+============+=========+=====================================+
| 64 | 256 | -0.06305% |
+------------+---------+-------------------------------------+
| 128 | 256 | 0.24481% |
+------------+---------+-------------------------------------+
| 256 | 256 | 0.38695% |
+------------+---------+-------------------------------------+
| 512 | 256 | 1.55424% |
+------------+---------+-------------------------------------+
| 1024 | 256 | 0.86419% |
+------------+---------+-------------------------------------+
| 1518 | 256 | -0.09384% |
+------------+---------+-------------------------------------+
To view detailed results, visit:
https://lab.dpdk.org/results/dashboard/patchsets/16996/
UNH-IOL DPDK Community Lab
To manage your email subscriptions, visit:
https://lab.dpdk.org/results/dashboard/preferences/subscriptions/
^ permalink raw reply [flat|nested] 10+ messages in thread
* [dpdk-test-report] |SUCCESS| pw93056 [PATCH] net/hns3: fix TM QCN error event report by MSIX
@ 2021-05-08 8:38 dpdklab
0 siblings, 0 replies; 10+ messages in thread
From: dpdklab @ 2021-05-08 8:38 UTC (permalink / raw)
To: Test Report; +Cc: dpdk-test-reports
[-- Attachment #1: Type: text/plain, Size: 2271 bytes --]
Test-Label: iol-abi-testing
Test-Status: SUCCESS
http://dpdk.org/patch/93056
_Testing PASS_
Submitter: Min Hu (Connor) <humin29@huawei.com>
Date: Saturday, May 08 2021 07:40:57
DPDK git baseline: Repo:dpdk
Branch: master
CommitID:627c5b41bb14a1afbd1489b0fc4b8224532a823d
93056 --> testing pass
Test environment and result as below:
+------------------+----------+
| Environment | abi_test |
+==================+==========+
| Ubuntu 18.04 ARM | PASS |
+------------------+----------+
| Ubuntu 20.04 | PASS |
+------------------+----------+
| RHEL 7 | PASS |
+------------------+----------+
| Arch Linux | PASS |
+------------------+----------+
| Ubuntu 18.04 | PASS |
+------------------+----------+
| Fedora 32 | PASS |
+------------------+----------+
| Fedora 31 | PASS |
+------------------+----------+
| CentOS 8 | PASS |
+------------------+----------+
| CentOS Stream 8 | PASS |
+------------------+----------+
| RHEL8 | PASS |
+------------------+----------+
| openSUSE Leap 15 | PASS |
+------------------+----------+
Ubuntu 18.04 ARM
Kernel: 5.4.0-53-generic
Compiler: gcc 9.3
Ubuntu 20.04
Kernel: 4.18.0-240.10.1.el8_3.x86_64
Compiler: gcc 9.3.0-17ubuntu1~20.04
RHEL 7
Kernel: 4.18.0-240.10.1.el8_3.x86_64
Compiler: gcc 4.8.5 20150623 (Red Hat 4.8.5-44)
Arch Linux
Kernel: 4.18.0-240.10.1.el8_3.x86_64
Compiler: gcc 10.2.0
Ubuntu 18.04
Kernel: 4.18.0-240.10.1.el8_3.x86_64
Compiler: gcc 7.5.0-3ubuntu1~18.04
Fedora 32
Kernel: 4.18.0-240.10.1.el8_3.x86_64
Compiler: gcc 10.2.1
Fedora 31
Kernel: 4.18.0-240.10.1.el8_3.x86_64
Compiler: gcc 9.3.1
CentOS 8
Kernel: 4.18.0-240.10.1.el8_3.x86_64
Compiler: gcc 8.3.1 20191121 (Red Hat 8.3.1-5)
CentOS Stream 8
Kernel: 4.18.0-240.10.1.el8_3.x86_64
Compiler: gcc 8.4.1 20200928
RHEL8
Kernel: 4.18.0-240.10.1.el8_3.x86_64
Compiler: gcc 8.3.1 20191121 (Red Hat 8.3.1-5)
openSUSE Leap 15
Kernel: 4.18.0-240.10.1.el8_3.x86_64
Compiler: gcc 7.5.0
To view detailed results, visit:
https://lab.dpdk.org/results/dashboard/patchsets/16996/
UNH-IOL DPDK Community Lab
To manage your email subscriptions, visit:
https://lab.dpdk.org/results/dashboard/preferences/subscriptions/
^ permalink raw reply [flat|nested] 10+ messages in thread
* [dpdk-test-report] |SUCCESS| pw93056 [PATCH] net/hns3: fix TM QCN error event report by MSIX
@ 2021-05-08 8:37 dpdklab
0 siblings, 0 replies; 10+ messages in thread
From: dpdklab @ 2021-05-08 8:37 UTC (permalink / raw)
To: Test Report; +Cc: dpdk-test-reports
[-- Attachment #1: Type: text/plain, Size: 4637 bytes --]
Test-Label: iol-testing
Test-Status: SUCCESS
http://dpdk.org/patch/93056
_Testing PASS_
Submitter: Min Hu (Connor) <humin29@huawei.com>
Date: Saturday, May 08 2021 07:40:57
DPDK git baseline: Repo:dpdk
Branch: master
CommitID:627c5b41bb14a1afbd1489b0fc4b8224532a823d
93056 --> testing pass
Test environment and result as below:
+---------------------+----------------------+-------------------+--------------------+----------------+
| Environment | dpdk_mingw64_compile | dpdk_compile_spdk | dpdk_meson_compile | dpdk_unit_test |
+=====================+======================+===================+====================+================+
| Windows Server 2019 | PASS | SKIPPED | PASS | SKIPPED |
+---------------------+----------------------+-------------------+--------------------+----------------+
| Ubuntu 18.04 | SKIPPED | PASS | PASS | PASS |
+---------------------+----------------------+-------------------+--------------------+----------------+
| Fedora 31 | SKIPPED | SKIPPED | PASS | SKIPPED |
+---------------------+----------------------+-------------------+--------------------+----------------+
| Ubuntu 18.04 ARM | SKIPPED | SKIPPED | PASS | SKIPPED |
+---------------------+----------------------+-------------------+--------------------+----------------+
| CentOS 8 | SKIPPED | SKIPPED | PASS | SKIPPED |
+---------------------+----------------------+-------------------+--------------------+----------------+
| FreeBSD 11.2 | SKIPPED | SKIPPED | PASS | SKIPPED |
+---------------------+----------------------+-------------------+--------------------+----------------+
| CentOS Stream 8 | SKIPPED | SKIPPED | PASS | SKIPPED |
+---------------------+----------------------+-------------------+--------------------+----------------+
| Fedora 32 | SKIPPED | SKIPPED | PASS | SKIPPED |
+---------------------+----------------------+-------------------+--------------------+----------------+
| Ubuntu 20.04 | SKIPPED | SKIPPED | PASS | SKIPPED |
+---------------------+----------------------+-------------------+--------------------+----------------+
| RHEL8 | SKIPPED | SKIPPED | PASS | SKIPPED |
+---------------------+----------------------+-------------------+--------------------+----------------+
| openSUSE Leap 15 | SKIPPED | SKIPPED | PASS | SKIPPED |
+---------------------+----------------------+-------------------+--------------------+----------------+
| Arch Linux | SKIPPED | SKIPPED | PASS | SKIPPED |
+---------------------+----------------------+-------------------+--------------------+----------------+
| RHEL 7 | SKIPPED | SKIPPED | PASS | SKIPPED |
+---------------------+----------------------+-------------------+--------------------+----------------+
Windows Server 2019
Kernel: 10.0
Compiler: clang 9.0 and gcc 8.1.0 (MinGW)
Ubuntu 18.04
Kernel: 4.18.0-240.10.1.el8_3.x86_64
Compiler: gcc 7.5.0-3ubuntu1~18.04
Fedora 31
Kernel: 4.18.0-240.10.1.el8_3.x86_64
Compiler: gcc 9.3.1
Ubuntu 18.04 ARM
Kernel: 5.4.0-53-generic
Compiler: gcc 9.3
CentOS 8
Kernel: 4.18.0-240.10.1.el8_3.x86_64
Compiler: gcc 8.3.1 20191121 (Red Hat 8.3.1-5)
FreeBSD 11.2
Kernel: 11.2
Compiler: gcc 8.3
CentOS Stream 8
Kernel: 4.18.0-240.10.1.el8_3.x86_64
Compiler: gcc 8.4.1 20200928
Fedora 32
Kernel: 4.18.0-240.10.1.el8_3.x86_64
Compiler: gcc 10.2.1
Ubuntu 20.04
Kernel: 4.18.0-240.10.1.el8_3.x86_64
Compiler: gcc 9.3.0-17ubuntu1~20.04
RHEL8
Kernel: 4.18.0-240.10.1.el8_3.x86_64
Compiler: gcc 8.3.1 20191121 (Red Hat 8.3.1-5)
openSUSE Leap 15
Kernel: 4.18.0-240.10.1.el8_3.x86_64
Compiler: gcc 7.5.0
Arch Linux
Kernel: 4.18.0-240.10.1.el8_3.x86_64
Compiler: gcc 10.2.0
RHEL 7
Kernel: 4.18.0-240.10.1.el8_3.x86_64
Compiler: gcc 4.8.5 20150623 (Red Hat 4.8.5-44)
To view detailed results, visit:
https://lab.dpdk.org/results/dashboard/patchsets/16996/
UNH-IOL DPDK Community Lab
To manage your email subscriptions, visit:
https://lab.dpdk.org/results/dashboard/preferences/subscriptions/
^ permalink raw reply [flat|nested] 10+ messages in thread
* [dpdk-test-report] |SUCCESS| pw93056 [PATCH] net/hns3: fix TM QCN error event report by MSIX
@ 2021-05-08 8:33 dpdklab
0 siblings, 0 replies; 10+ messages in thread
From: dpdklab @ 2021-05-08 8:33 UTC (permalink / raw)
To: Test Report; +Cc: dpdk-test-reports
[-- Attachment #1: Type: text/plain, Size: 781 bytes --]
Test-Label: iol-intel-Functional
Test-Status: SUCCESS
http://dpdk.org/patch/93056
_Functional Testing PASS_
Submitter: Min Hu (Connor) <humin29@huawei.com>
Date: Saturday, May 08 2021 07:40:57
DPDK git baseline: Repo:dpdk
Branch: master
CommitID:627c5b41bb14a1afbd1489b0fc4b8224532a823d
93056 --> functional testing pass
Test environment and result as below:
Ubuntu 18.04
Kernel: 4.15.0-generic
Compiler: gcc 7.4
NIC: Intel Corporation Ethernet Converged Network Adapter 82599ES 10000 Mbps
Target: x86_64-native-linuxapp-gcc
Fail/Total: 0/5
To view detailed results, visit:
https://lab.dpdk.org/results/dashboard/patchsets/16996/
UNH-IOL DPDK Community Lab
To manage your email subscriptions, visit:
https://lab.dpdk.org/results/dashboard/preferences/subscriptions/
^ permalink raw reply [flat|nested] 10+ messages in thread
* [dpdk-test-report] |SUCCESS| pw93056 [PATCH] net/hns3: fix TM QCN error event report by MSIX
@ 2021-05-08 8:22 dpdklab
0 siblings, 0 replies; 10+ messages in thread
From: dpdklab @ 2021-05-08 8:22 UTC (permalink / raw)
To: Test Report; +Cc: dpdk-test-reports
[-- Attachment #1: Type: text/plain, Size: 1254 bytes --]
Test-Label: iol-intel-Performance
Test-Status: SUCCESS
http://dpdk.org/patch/93056
_Performance Testing PASS_
Submitter: Min Hu (Connor) <humin29@huawei.com>
Date: Saturday, May 08 2021 07:40:57
DPDK git baseline: Repo:dpdk
Branch: master
CommitID:627c5b41bb14a1afbd1489b0fc4b8224532a823d
93056 --> performance testing pass
Test environment and result as below:
Ubuntu 18.04
Kernel: 4.15.0-generic
Compiler: gcc 7.4
NIC: Intel Corporation Ethernet Converged Network Adapter 82599ES 10000 Mbps
Target: x86_64-native-linuxapp-gcc
Fail/Total: 0/2
Detail performance results:
+------------+---------+-------------------------------------+
| frame_size | txd/rxd | throughput difference from expected |
+============+=========+=====================================+
| 64 | 512 | -0.28377% |
+------------+---------+-------------------------------------+
| 64 | 2048 | 0.67695% |
+------------+---------+-------------------------------------+
To view detailed results, visit:
https://lab.dpdk.org/results/dashboard/patchsets/16996/
UNH-IOL DPDK Community Lab
To manage your email subscriptions, visit:
https://lab.dpdk.org/results/dashboard/preferences/subscriptions/
^ permalink raw reply [flat|nested] 10+ messages in thread
* [dpdk-test-report] |SUCCESS| pw93056 [PATCH] net/hns3: fix TM QCN error event report by MSIX
[not found] <1620459657-38326-1-git-send-email-humin29@huawei.com>
@ 2021-05-08 7:42 ` checkpatch
0 siblings, 0 replies; 10+ messages in thread
From: checkpatch @ 2021-05-08 7:42 UTC (permalink / raw)
To: test-report
Test-Label: checkpatch
Test-Status: SUCCESS
http://dpdk.org/patch/93056
_coding style OK_
^ permalink raw reply [flat|nested] 10+ messages in thread
end of thread, other threads:[~2021-05-09 21:33 UTC | newest]
Thread overview: 10+ messages (download: mbox.gz / follow: Atom feed)
-- links below jump to the message on this page --
2021-05-08 22:50 [dpdk-test-report] |SUCCESS| pw93056 [PATCH] net/hns3: fix TM QCN error event report by MSIX dpdklab
-- strict thread matches above, loose matches on Subject: below --
2021-05-09 21:33 dpdklab
2021-05-09 21:08 dpdklab
2021-05-08 23:15 dpdklab
2021-05-08 23:03 dpdklab
2021-05-08 8:38 dpdklab
2021-05-08 8:37 dpdklab
2021-05-08 8:33 dpdklab
2021-05-08 8:22 dpdklab
[not found] <1620459657-38326-1-git-send-email-humin29@huawei.com>
2021-05-08 7:42 ` checkpatch
This is a public inbox, see mirroring instructions
for how to clone and mirror all data and code used for this inbox;
as well as URLs for NNTP newsgroup(s).