* [dpdk-test-report] |SUCCESS| pw92964-92973 [PATCH] [v13, 10/10] app/testpmd: enable building testpmd on Windows
@ 2021-05-09 4:33 dpdklab
0 siblings, 0 replies; 16+ messages in thread
From: dpdklab @ 2021-05-09 4:33 UTC (permalink / raw)
To: Ali Alnubani, Test Report; +Cc: dpdk-test-reports
[-- Attachment #1: Type: text/plain, Size: 4844 bytes --]
Test-Label: iol-mellanox-Performance
Test-Status: SUCCESS
http://dpdk.org/patch/92973
_Performance Testing PASS_
Submitter: Jie Zhou <jizh@linux.microsoft.com>
Date: Wednesday, May 05 2021 19:12:11
DPDK git baseline: Repo:dpdk
Branch: master
CommitID:7fb41a8cbe2108a7634343c3abb7f9d01aed3777
92964-92973 --> performance testing pass
Test environment and result as below:
Ubuntu 18.04
Kernel: 4.15.0-generic
Compiler: gcc 7.4
NIC: Mellanox ConnectX-4 Lx 25000 Mbps
Target: x86_64-native-linuxapp-gcc
Fail/Total: 0/6
Detail performance results:
+------------+---------+-------------------------------------+
| frame_size | txd/rxd | throughput difference from expected |
+============+=========+=====================================+
| 64 | 256 | -0.47779% |
+------------+---------+-------------------------------------+
| 128 | 256 | -0.03801% |
+------------+---------+-------------------------------------+
| 256 | 256 | -1.28307% |
+------------+---------+-------------------------------------+
| 512 | 256 | 0.01712% |
+------------+---------+-------------------------------------+
| 1024 | 256 | 0.0% |
+------------+---------+-------------------------------------+
| 1518 | 256 | -0.22146% |
+------------+---------+-------------------------------------+
Ubuntu 18.04
Kernel: 4.15.0-generic
Compiler: gcc 7.4
NIC: Mellanox ConnectX-5 100000 Mbps
Target: x86_64-native-linuxapp-gcc
Fail/Total: 0/6
Detail performance results:
+------------+---------+-------------------------------------+
| frame_size | txd/rxd | throughput difference from expected |
+============+=========+=====================================+
| 64 | 256 | -0.367% |
+------------+---------+-------------------------------------+
| 128 | 256 | -0.05154% |
+------------+---------+-------------------------------------+
| 256 | 256 | 0.0674% |
+------------+---------+-------------------------------------+
| 512 | 256 | 0.1199% |
+------------+---------+-------------------------------------+
| 1024 | 256 | 0.02542% |
+------------+---------+-------------------------------------+
| 1518 | 256 | 0.24633% |
+------------+---------+-------------------------------------+
Ubuntu 18.04
Kernel: 4.15.0-generic
Compiler: gcc 7.4
NIC: Mellanox ConnectX-4 Lx 40000 Mbps
Target: x86_64-native-linuxapp-gcc
Fail/Total: 0/6
Detail performance results:
+------------+---------+-------------------------------------+
| frame_size | txd/rxd | throughput difference from expected |
+============+=========+=====================================+
| 64 | 256 | -0.0314% |
+------------+---------+-------------------------------------+
| 128 | 256 | -0.166% |
+------------+---------+-------------------------------------+
| 256 | 256 | 0.05488% |
+------------+---------+-------------------------------------+
| 512 | 256 | -0.15977% |
+------------+---------+-------------------------------------+
| 1024 | 256 | -0.21925% |
+------------+---------+-------------------------------------+
| 1518 | 256 | -0.15378% |
+------------+---------+-------------------------------------+
Ubuntu 18.04 ARM
Kernel: 4.15.0-132-generic
Compiler: gcc 7.5
NIC: Arm Mellanox ConnectX-5 10000 Mbps
Target: x86_64-native-linuxapp-gcc
Fail/Total: 0/4
Detail performance results:
+------------+---------+-------------------------------------+
| frame_size | txd/rxd | throughput difference from expected |
+============+=========+=====================================+
| 64 | 128 | 0.39678% |
+------------+---------+-------------------------------------+
| 64 | 256 | 0.63386% |
+------------+---------+-------------------------------------+
| 64 | 512 | 1.83174% |
+------------+---------+-------------------------------------+
| 64 | 2048 | -0.99914% |
+------------+---------+-------------------------------------+
To view detailed results, visit:
https://lab.dpdk.org/results/dashboard/patchsets/16955/
UNH-IOL DPDK Community Lab
To manage your email subscriptions, visit:
https://lab.dpdk.org/results/dashboard/preferences/subscriptions/
^ permalink raw reply [flat|nested] 16+ messages in thread
* [dpdk-test-report] |SUCCESS| pw92964-92973 [PATCH] [v13, 10/10] app/testpmd: enable building testpmd on Windows
@ 2021-05-12 10:25 dpdklab
0 siblings, 0 replies; 16+ messages in thread
From: dpdklab @ 2021-05-12 10:25 UTC (permalink / raw)
To: Ali Alnubani, Test Report; +Cc: dpdk-test-reports
[-- Attachment #1: Type: text/plain, Size: 1053 bytes --]
Test-Label: iol-mellanox-Functional
Test-Status: SUCCESS
http://dpdk.org/patch/92973
_Functional Testing PASS_
Submitter: Jie Zhou <jizh@linux.microsoft.com>
Date: Wednesday, May 05 2021 19:12:11
DPDK git baseline: Repo:dpdk
Branch: master
CommitID:7fb41a8cbe2108a7634343c3abb7f9d01aed3777
92964-92973 --> functional testing pass
Test environment and result as below:
Ubuntu 18.04
Kernel: 4.15.0-generic
Compiler: gcc 7.4
NIC: Mellanox ConnectX-4 Lx 25000 Mbps
Target: x86_64-native-linuxapp-gcc
Fail/Total: 0/5
Ubuntu 18.04
Kernel: 4.15.0-generic
Compiler: gcc 7.4
NIC: Mellanox ConnectX-4 Lx 40000 Mbps
Target: x86_64-native-linuxapp-gcc
Fail/Total: 0/5
Ubuntu 18.04 ARM
Kernel: 4.15.0-132-generic
Compiler: gcc 7.5
NIC: Arm Mellanox ConnectX-5 10000 Mbps
Target: x86_64-native-linuxapp-gcc
Fail/Total: 0/4
To view detailed results, visit:
https://lab.dpdk.org/results/dashboard/patchsets/16955/
UNH-IOL DPDK Community Lab
To manage your email subscriptions, visit:
https://lab.dpdk.org/results/dashboard/preferences/subscriptions/
^ permalink raw reply [flat|nested] 16+ messages in thread
* [dpdk-test-report] |SUCCESS| pw92964-92973 [PATCH] [v13, 10/10] app/testpmd: enable building testpmd on Windows
@ 2021-05-12 9:45 dpdklab
0 siblings, 0 replies; 16+ messages in thread
From: dpdklab @ 2021-05-12 9:45 UTC (permalink / raw)
To: Ali Alnubani, Test Report; +Cc: dpdk-test-reports
[-- Attachment #1: Type: text/plain, Size: 1053 bytes --]
Test-Label: iol-mellanox-Functional
Test-Status: SUCCESS
http://dpdk.org/patch/92973
_Functional Testing PASS_
Submitter: Jie Zhou <jizh@linux.microsoft.com>
Date: Wednesday, May 05 2021 19:12:11
DPDK git baseline: Repo:dpdk
Branch: master
CommitID:7fb41a8cbe2108a7634343c3abb7f9d01aed3777
92964-92973 --> functional testing pass
Test environment and result as below:
Ubuntu 18.04
Kernel: 4.15.0-generic
Compiler: gcc 7.4
NIC: Mellanox ConnectX-4 Lx 25000 Mbps
Target: x86_64-native-linuxapp-gcc
Fail/Total: 0/5
Ubuntu 18.04
Kernel: 4.15.0-generic
Compiler: gcc 7.4
NIC: Mellanox ConnectX-4 Lx 40000 Mbps
Target: x86_64-native-linuxapp-gcc
Fail/Total: 0/5
Ubuntu 18.04 ARM
Kernel: 4.15.0-132-generic
Compiler: gcc 7.5
NIC: Arm Mellanox ConnectX-5 10000 Mbps
Target: x86_64-native-linuxapp-gcc
Fail/Total: 0/4
To view detailed results, visit:
https://lab.dpdk.org/results/dashboard/patchsets/16955/
UNH-IOL DPDK Community Lab
To manage your email subscriptions, visit:
https://lab.dpdk.org/results/dashboard/preferences/subscriptions/
^ permalink raw reply [flat|nested] 16+ messages in thread
* [dpdk-test-report] |SUCCESS| pw92964-92973 [PATCH] [v13, 10/10] app/testpmd: enable building testpmd on Windows
@ 2021-05-09 5:12 dpdklab
0 siblings, 0 replies; 16+ messages in thread
From: dpdklab @ 2021-05-09 5:12 UTC (permalink / raw)
To: Test Report; +Cc: dpdk-test-reports
[-- Attachment #1: Type: text/plain, Size: 986 bytes --]
Test-Label: iol-intel-Functional
Test-Status: SUCCESS
http://dpdk.org/patch/92973
_Functional Testing PASS_
Submitter: Jie Zhou <jizh@linux.microsoft.com>
Date: Wednesday, May 05 2021 19:12:11
DPDK git baseline: Repo:dpdk
Branch: master
CommitID:7fb41a8cbe2108a7634343c3abb7f9d01aed3777
92964-92973 --> functional testing pass
Test environment and result as below:
Ubuntu 18.04
Kernel: 4.15.0-generic
Compiler: gcc 7.4
NIC: Intel Corporation Ethernet Converged Network Adapter 82599ES 10000 Mbps
Target: x86_64-native-linuxapp-gcc
Fail/Total: 0/5
Ubuntu 18.04 ARM
Kernel: 4.15.0-132-generic
Compiler: gcc 7.5
NIC: Arm Intel Corporation Ethernet Converged Network Adapter XL710-QDA2 40000 Mbps
Target: x86_64-native-linuxapp-gcc
Fail/Total: 0/5
To view detailed results, visit:
https://lab.dpdk.org/results/dashboard/patchsets/16955/
UNH-IOL DPDK Community Lab
To manage your email subscriptions, visit:
https://lab.dpdk.org/results/dashboard/preferences/subscriptions/
^ permalink raw reply [flat|nested] 16+ messages in thread
* [dpdk-test-report] |SUCCESS| pw92964-92973 [PATCH] [v13, 10/10] app/testpmd: enable building testpmd on Windows
@ 2021-05-09 4:56 dpdklab
0 siblings, 0 replies; 16+ messages in thread
From: dpdklab @ 2021-05-09 4:56 UTC (permalink / raw)
To: Test Report; +Cc: dpdk-test-reports
[-- Attachment #1: Type: text/plain, Size: 1929 bytes --]
Test-Label: iol-intel-Performance
Test-Status: SUCCESS
http://dpdk.org/patch/92973
_Performance Testing PASS_
Submitter: Jie Zhou <jizh@linux.microsoft.com>
Date: Wednesday, May 05 2021 19:12:11
DPDK git baseline: Repo:dpdk
Branch: master
CommitID:7fb41a8cbe2108a7634343c3abb7f9d01aed3777
92964-92973 --> performance testing pass
Test environment and result as below:
Ubuntu 18.04
Kernel: 4.15.0-generic
Compiler: gcc 7.4
NIC: Intel Corporation Ethernet Converged Network Adapter 82599ES 10000 Mbps
Target: x86_64-native-linuxapp-gcc
Fail/Total: 0/2
Detail performance results:
+------------+---------+-------------------------------------+
| frame_size | txd/rxd | throughput difference from expected |
+============+=========+=====================================+
| 64 | 512 | -0.05894% |
+------------+---------+-------------------------------------+
| 64 | 2048 | 0.59233% |
+------------+---------+-------------------------------------+
Ubuntu 18.04 ARM
Kernel: 4.15.0-132-generic
Compiler: gcc 7.5
NIC: Arm Intel Corporation Ethernet Converged Network Adapter XL710-QDA2 40000 Mbps
Target: x86_64-native-linuxapp-gcc
Fail/Total: 0/2
Detail performance results:
+------------+---------+-------------------------------------+
| frame_size | txd/rxd | throughput difference from expected |
+============+=========+=====================================+
| 64 | 512 | -0.3274% |
+------------+---------+-------------------------------------+
| 64 | 2048 | -0.31388% |
+------------+---------+-------------------------------------+
To view detailed results, visit:
https://lab.dpdk.org/results/dashboard/patchsets/16955/
UNH-IOL DPDK Community Lab
To manage your email subscriptions, visit:
https://lab.dpdk.org/results/dashboard/preferences/subscriptions/
^ permalink raw reply [flat|nested] 16+ messages in thread
* [dpdk-test-report] |SUCCESS| pw92964-92973 [PATCH] [v13, 10/10] app/testpmd: enable building testpmd on Windows
@ 2021-05-08 13:24 dpdklab
0 siblings, 0 replies; 16+ messages in thread
From: dpdklab @ 2021-05-08 13:24 UTC (permalink / raw)
To: Ali Alnubani, Test Report; +Cc: dpdk-test-reports
[-- Attachment #1: Type: text/plain, Size: 3967 bytes --]
Test-Label: iol-mellanox-Performance
Test-Status: SUCCESS
http://dpdk.org/patch/92973
_Performance Testing PASS_
Submitter: Jie Zhou <jizh@linux.microsoft.com>
Date: Wednesday, May 05 2021 19:12:11
DPDK git baseline: Repo:dpdk
Branch: master
CommitID:7fb41a8cbe2108a7634343c3abb7f9d01aed3777
92964-92973 --> performance testing pass
Test environment and result as below:
Ubuntu 18.04
Kernel: 4.15.0-generic
Compiler: gcc 7.4
NIC: Mellanox ConnectX-4 Lx 25000 Mbps
Target: x86_64-native-linuxapp-gcc
Fail/Total: 0/6
Detail performance results:
+------------+---------+-------------------------------------+
| frame_size | txd/rxd | throughput difference from expected |
+============+=========+=====================================+
| 64 | 256 | -0.47779% |
+------------+---------+-------------------------------------+
| 128 | 256 | -0.03801% |
+------------+---------+-------------------------------------+
| 256 | 256 | -1.28307% |
+------------+---------+-------------------------------------+
| 512 | 256 | 0.01712% |
+------------+---------+-------------------------------------+
| 1024 | 256 | 0.0% |
+------------+---------+-------------------------------------+
| 1518 | 256 | -0.22146% |
+------------+---------+-------------------------------------+
Ubuntu 18.04
Kernel: 4.15.0-generic
Compiler: gcc 7.4
NIC: Mellanox ConnectX-5 100000 Mbps
Target: x86_64-native-linuxapp-gcc
Fail/Total: 0/6
Detail performance results:
+------------+---------+-------------------------------------+
| frame_size | txd/rxd | throughput difference from expected |
+============+=========+=====================================+
| 64 | 256 | -0.367% |
+------------+---------+-------------------------------------+
| 128 | 256 | -0.05154% |
+------------+---------+-------------------------------------+
| 256 | 256 | 0.0674% |
+------------+---------+-------------------------------------+
| 512 | 256 | 0.1199% |
+------------+---------+-------------------------------------+
| 1024 | 256 | 0.02542% |
+------------+---------+-------------------------------------+
| 1518 | 256 | 0.24633% |
+------------+---------+-------------------------------------+
Ubuntu 18.04
Kernel: 4.15.0-generic
Compiler: gcc 7.4
NIC: Mellanox ConnectX-4 Lx 40000 Mbps
Target: x86_64-native-linuxapp-gcc
Fail/Total: 0/6
Detail performance results:
+------------+---------+-------------------------------------+
| frame_size | txd/rxd | throughput difference from expected |
+============+=========+=====================================+
| 64 | 256 | -0.0314% |
+------------+---------+-------------------------------------+
| 128 | 256 | -0.166% |
+------------+---------+-------------------------------------+
| 256 | 256 | 0.05488% |
+------------+---------+-------------------------------------+
| 512 | 256 | -0.15977% |
+------------+---------+-------------------------------------+
| 1024 | 256 | -0.21925% |
+------------+---------+-------------------------------------+
| 1518 | 256 | -0.15378% |
+------------+---------+-------------------------------------+
To view detailed results, visit:
https://lab.dpdk.org/results/dashboard/patchsets/16955/
UNH-IOL DPDK Community Lab
To manage your email subscriptions, visit:
https://lab.dpdk.org/results/dashboard/preferences/subscriptions/
^ permalink raw reply [flat|nested] 16+ messages in thread
* [dpdk-test-report] |SUCCESS| pw92964-92973 [PATCH] [v13, 10/10] app/testpmd: enable building testpmd on Windows
@ 2021-05-08 11:53 dpdklab
0 siblings, 0 replies; 16+ messages in thread
From: dpdklab @ 2021-05-08 11:53 UTC (permalink / raw)
To: Ali Alnubani, Test Report; +Cc: dpdk-test-reports
[-- Attachment #1: Type: text/plain, Size: 2847 bytes --]
Test-Label: iol-mellanox-Performance
Test-Status: SUCCESS
http://dpdk.org/patch/92973
_Performance Testing PASS_
Submitter: Jie Zhou <jizh@linux.microsoft.com>
Date: Wednesday, May 05 2021 19:12:11
DPDK git baseline: Repo:dpdk
Branch: master
CommitID:7fb41a8cbe2108a7634343c3abb7f9d01aed3777
92964-92973 --> performance testing pass
Test environment and result as below:
Ubuntu 18.04
Kernel: 4.15.0-generic
Compiler: gcc 7.4
NIC: Mellanox ConnectX-4 Lx 25000 Mbps
Target: x86_64-native-linuxapp-gcc
Fail/Total: 0/6
Detail performance results:
+------------+---------+-------------------------------------+
| frame_size | txd/rxd | throughput difference from expected |
+============+=========+=====================================+
| 64 | 256 | -0.47779% |
+------------+---------+-------------------------------------+
| 128 | 256 | -0.03801% |
+------------+---------+-------------------------------------+
| 256 | 256 | -1.28307% |
+------------+---------+-------------------------------------+
| 512 | 256 | 0.01712% |
+------------+---------+-------------------------------------+
| 1024 | 256 | 0.0% |
+------------+---------+-------------------------------------+
| 1518 | 256 | -0.22146% |
+------------+---------+-------------------------------------+
Ubuntu 18.04
Kernel: 4.15.0-generic
Compiler: gcc 7.4
NIC: Mellanox ConnectX-5 100000 Mbps
Target: x86_64-native-linuxapp-gcc
Fail/Total: 0/6
Detail performance results:
+------------+---------+-------------------------------------+
| frame_size | txd/rxd | throughput difference from expected |
+============+=========+=====================================+
| 64 | 256 | -0.367% |
+------------+---------+-------------------------------------+
| 128 | 256 | -0.05154% |
+------------+---------+-------------------------------------+
| 256 | 256 | 0.0674% |
+------------+---------+-------------------------------------+
| 512 | 256 | 0.1199% |
+------------+---------+-------------------------------------+
| 1024 | 256 | 0.02542% |
+------------+---------+-------------------------------------+
| 1518 | 256 | 0.24633% |
+------------+---------+-------------------------------------+
To view detailed results, visit:
https://lab.dpdk.org/results/dashboard/patchsets/16955/
UNH-IOL DPDK Community Lab
To manage your email subscriptions, visit:
https://lab.dpdk.org/results/dashboard/preferences/subscriptions/
^ permalink raw reply [flat|nested] 16+ messages in thread
* [dpdk-test-report] |SUCCESS| pw92964-92973 [PATCH] [v13, 10/10] app/testpmd: enable building testpmd on Windows
@ 2021-05-08 11:41 dpdklab
0 siblings, 0 replies; 16+ messages in thread
From: dpdklab @ 2021-05-08 11:41 UTC (permalink / raw)
To: Ali Alnubani, Test Report; +Cc: dpdk-test-reports
[-- Attachment #1: Type: text/plain, Size: 1729 bytes --]
Test-Label: iol-mellanox-Performance
Test-Status: SUCCESS
http://dpdk.org/patch/92973
_Performance Testing PASS_
Submitter: Jie Zhou <jizh@linux.microsoft.com>
Date: Wednesday, May 05 2021 19:12:11
DPDK git baseline: Repo:dpdk
Branch: master
CommitID:7fb41a8cbe2108a7634343c3abb7f9d01aed3777
92964-92973 --> performance testing pass
Test environment and result as below:
Ubuntu 18.04
Kernel: 4.15.0-generic
Compiler: gcc 7.4
NIC: Mellanox ConnectX-4 Lx 25000 Mbps
Target: x86_64-native-linuxapp-gcc
Fail/Total: 0/6
Detail performance results:
+------------+---------+-------------------------------------+
| frame_size | txd/rxd | throughput difference from expected |
+============+=========+=====================================+
| 64 | 256 | -0.47779% |
+------------+---------+-------------------------------------+
| 128 | 256 | -0.03801% |
+------------+---------+-------------------------------------+
| 256 | 256 | -1.28307% |
+------------+---------+-------------------------------------+
| 512 | 256 | 0.01712% |
+------------+---------+-------------------------------------+
| 1024 | 256 | 0.0% |
+------------+---------+-------------------------------------+
| 1518 | 256 | -0.22146% |
+------------+---------+-------------------------------------+
To view detailed results, visit:
https://lab.dpdk.org/results/dashboard/patchsets/16955/
UNH-IOL DPDK Community Lab
To manage your email subscriptions, visit:
https://lab.dpdk.org/results/dashboard/preferences/subscriptions/
^ permalink raw reply [flat|nested] 16+ messages in thread
* [dpdk-test-report] |SUCCESS| pw92964-92973 [PATCH] [v13, 10/10] app/testpmd: enable building testpmd on Windows
@ 2021-05-07 20:29 dpdklab
0 siblings, 0 replies; 16+ messages in thread
From: dpdklab @ 2021-05-07 20:29 UTC (permalink / raw)
To: Test Report; +Cc: dpdklab
[-- Attachment #1: Type: text/plain, Size: 2277 bytes --]
Test-Label: iol-abi-testing
Test-Status: SUCCESS
http://dpdk.org/patch/92973
_Testing PASS_
Submitter: Jie Zhou <jizh@linux.microsoft.com>
Date: Wednesday, May 05 2021 19:12:11
DPDK git baseline: Repo:dpdk
Branch: master
CommitID:7fb41a8cbe2108a7634343c3abb7f9d01aed3777
92964-92973 --> testing pass
Test environment and result as below:
+------------------+----------+
| Environment | abi_test |
+==================+==========+
| Ubuntu 18.04 ARM | PASS |
+------------------+----------+
| CentOS 8 | PASS |
+------------------+----------+
| Arch Linux | PASS |
+------------------+----------+
| Ubuntu 18.04 | PASS |
+------------------+----------+
| RHEL8 | PASS |
+------------------+----------+
| RHEL 7 | PASS |
+------------------+----------+
| Ubuntu 20.04 | PASS |
+------------------+----------+
| openSUSE Leap 15 | PASS |
+------------------+----------+
| Fedora 31 | PASS |
+------------------+----------+
| CentOS Stream 8 | PASS |
+------------------+----------+
| Fedora 32 | PASS |
+------------------+----------+
Ubuntu 18.04 ARM
Kernel: 5.4.0-53-generic
Compiler: gcc 9.3
CentOS 8
Kernel: 4.18.0-240.10.1.el8_3.x86_64
Compiler: gcc 8.3.1 20191121 (Red Hat 8.3.1-5)
Arch Linux
Kernel: 4.18.0-240.10.1.el8_3.x86_64
Compiler: gcc 10.2.0
Ubuntu 18.04
Kernel: 4.18.0-240.10.1.el8_3.x86_64
Compiler: gcc 7.5.0-3ubuntu1~18.04
RHEL8
Kernel: 4.18.0-240.10.1.el8_3.x86_64
Compiler: gcc 8.3.1 20191121 (Red Hat 8.3.1-5)
RHEL 7
Kernel: 4.18.0-240.10.1.el8_3.x86_64
Compiler: gcc 4.8.5 20150623 (Red Hat 4.8.5-44)
Ubuntu 20.04
Kernel: 4.18.0-240.10.1.el8_3.x86_64
Compiler: gcc 9.3.0-17ubuntu1~20.04
openSUSE Leap 15
Kernel: 4.18.0-240.10.1.el8_3.x86_64
Compiler: gcc 7.5.0
Fedora 31
Kernel: 4.18.0-240.10.1.el8_3.x86_64
Compiler: gcc 9.3.1
CentOS Stream 8
Kernel: 4.18.0-240.10.1.el8_3.x86_64
Compiler: gcc 8.4.1 20200928
Fedora 32
Kernel: 4.18.0-240.10.1.el8_3.x86_64
Compiler: gcc 10.2.1
To view detailed results, visit:
https://lab.dpdk.org/results/dashboard/patchsets/16955/
UNH-IOL DPDK Community Lab
To manage your email subscriptions, visit:
https://lab.dpdk.org/results/dashboard/preferences/subscriptions/
^ permalink raw reply [flat|nested] 16+ messages in thread
* [dpdk-test-report] |SUCCESS| pw92964-92973 [PATCH] [v13, 10/10] app/testpmd: enable building testpmd on Windows
@ 2021-05-07 20:28 dpdklab
0 siblings, 0 replies; 16+ messages in thread
From: dpdklab @ 2021-05-07 20:28 UTC (permalink / raw)
To: Test Report; +Cc: dpdk-test-reports
[-- Attachment #1: Type: text/plain, Size: 4643 bytes --]
Test-Label: iol-testing
Test-Status: SUCCESS
http://dpdk.org/patch/92973
_Testing PASS_
Submitter: Jie Zhou <jizh@linux.microsoft.com>
Date: Wednesday, May 05 2021 19:12:11
DPDK git baseline: Repo:dpdk
Branch: master
CommitID:7fb41a8cbe2108a7634343c3abb7f9d01aed3777
92964-92973 --> testing pass
Test environment and result as below:
+---------------------+----------------------+-------------------+--------------------+----------------+
| Environment | dpdk_mingw64_compile | dpdk_compile_spdk | dpdk_meson_compile | dpdk_unit_test |
+=====================+======================+===================+====================+================+
| Windows Server 2019 | PASS | SKIPPED | PASS | SKIPPED |
+---------------------+----------------------+-------------------+--------------------+----------------+
| Ubuntu 18.04 | SKIPPED | PASS | PASS | PASS |
+---------------------+----------------------+-------------------+--------------------+----------------+
| Fedora 31 | SKIPPED | SKIPPED | PASS | SKIPPED |
+---------------------+----------------------+-------------------+--------------------+----------------+
| Ubuntu 18.04 ARM | SKIPPED | SKIPPED | PASS | SKIPPED |
+---------------------+----------------------+-------------------+--------------------+----------------+
| FreeBSD 11.2 | SKIPPED | SKIPPED | PASS | SKIPPED |
+---------------------+----------------------+-------------------+--------------------+----------------+
| CentOS 8 | SKIPPED | SKIPPED | PASS | SKIPPED |
+---------------------+----------------------+-------------------+--------------------+----------------+
| Fedora 32 | SKIPPED | SKIPPED | PASS | SKIPPED |
+---------------------+----------------------+-------------------+--------------------+----------------+
| CentOS Stream 8 | SKIPPED | SKIPPED | PASS | SKIPPED |
+---------------------+----------------------+-------------------+--------------------+----------------+
| RHEL 7 | SKIPPED | SKIPPED | PASS | SKIPPED |
+---------------------+----------------------+-------------------+--------------------+----------------+
| openSUSE Leap 15 | SKIPPED | SKIPPED | PASS | SKIPPED |
+---------------------+----------------------+-------------------+--------------------+----------------+
| RHEL8 | SKIPPED | SKIPPED | PASS | SKIPPED |
+---------------------+----------------------+-------------------+--------------------+----------------+
| Ubuntu 20.04 | SKIPPED | SKIPPED | PASS | SKIPPED |
+---------------------+----------------------+-------------------+--------------------+----------------+
| Arch Linux | SKIPPED | SKIPPED | PASS | SKIPPED |
+---------------------+----------------------+-------------------+--------------------+----------------+
Windows Server 2019
Kernel: 10.0
Compiler: clang 9.0 and gcc 8.1.0 (MinGW)
Ubuntu 18.04
Kernel: 4.18.0-240.10.1.el8_3.x86_64
Compiler: gcc 7.5.0-3ubuntu1~18.04
Fedora 31
Kernel: 4.18.0-240.10.1.el8_3.x86_64
Compiler: gcc 9.3.1
Ubuntu 18.04 ARM
Kernel: 5.4.0-53-generic
Compiler: gcc 9.3
FreeBSD 11.2
Kernel: 11.2
Compiler: gcc 8.3
CentOS 8
Kernel: 4.18.0-240.10.1.el8_3.x86_64
Compiler: gcc 8.3.1 20191121 (Red Hat 8.3.1-5)
Fedora 32
Kernel: 4.18.0-240.10.1.el8_3.x86_64
Compiler: gcc 10.2.1
CentOS Stream 8
Kernel: 4.18.0-240.10.1.el8_3.x86_64
Compiler: gcc 8.4.1 20200928
RHEL 7
Kernel: 4.18.0-240.10.1.el8_3.x86_64
Compiler: gcc 4.8.5 20150623 (Red Hat 4.8.5-44)
openSUSE Leap 15
Kernel: 4.18.0-240.10.1.el8_3.x86_64
Compiler: gcc 7.5.0
RHEL8
Kernel: 4.18.0-240.10.1.el8_3.x86_64
Compiler: gcc 8.3.1 20191121 (Red Hat 8.3.1-5)
Ubuntu 20.04
Kernel: 4.18.0-240.10.1.el8_3.x86_64
Compiler: gcc 9.3.0-17ubuntu1~20.04
Arch Linux
Kernel: 4.18.0-240.10.1.el8_3.x86_64
Compiler: gcc 10.2.0
To view detailed results, visit:
https://lab.dpdk.org/results/dashboard/patchsets/16955/
UNH-IOL DPDK Community Lab
To manage your email subscriptions, visit:
https://lab.dpdk.org/results/dashboard/preferences/subscriptions/
^ permalink raw reply [flat|nested] 16+ messages in thread
* [dpdk-test-report] |SUCCESS| pw92964-92973 [PATCH] [v13, 10/10] app/testpmd: enable building testpmd on Windows
@ 2021-05-07 20:24 dpdklab
0 siblings, 0 replies; 16+ messages in thread
From: dpdklab @ 2021-05-07 20:24 UTC (permalink / raw)
To: Test Report; +Cc: dpdk-test-reports
[-- Attachment #1: Type: text/plain, Size: 1260 bytes --]
Test-Label: iol-intel-Performance
Test-Status: SUCCESS
http://dpdk.org/patch/92973
_Performance Testing PASS_
Submitter: Jie Zhou <jizh@linux.microsoft.com>
Date: Wednesday, May 05 2021 19:12:11
DPDK git baseline: Repo:dpdk
Branch: master
CommitID:7fb41a8cbe2108a7634343c3abb7f9d01aed3777
92964-92973 --> performance testing pass
Test environment and result as below:
Ubuntu 18.04
Kernel: 4.15.0-generic
Compiler: gcc 7.4
NIC: Intel Corporation Ethernet Converged Network Adapter 82599ES 10000 Mbps
Target: x86_64-native-linuxapp-gcc
Fail/Total: 0/2
Detail performance results:
+------------+---------+-------------------------------------+
| frame_size | txd/rxd | throughput difference from expected |
+============+=========+=====================================+
| 64 | 512 | -0.05894% |
+------------+---------+-------------------------------------+
| 64 | 2048 | 0.59233% |
+------------+---------+-------------------------------------+
To view detailed results, visit:
https://lab.dpdk.org/results/dashboard/patchsets/16955/
UNH-IOL DPDK Community Lab
To manage your email subscriptions, visit:
https://lab.dpdk.org/results/dashboard/preferences/subscriptions/
^ permalink raw reply [flat|nested] 16+ messages in thread
* [dpdk-test-report] |SUCCESS| pw92964-92973 [PATCH] [v13, 10/10] app/testpmd: enable building testpmd on Windows
@ 2021-05-07 20:18 dpdklab
0 siblings, 0 replies; 16+ messages in thread
From: dpdklab @ 2021-05-07 20:18 UTC (permalink / raw)
To: Test Report; +Cc: dpdk-test-reports
[-- Attachment #1: Type: text/plain, Size: 787 bytes --]
Test-Label: iol-intel-Functional
Test-Status: SUCCESS
http://dpdk.org/patch/92973
_Functional Testing PASS_
Submitter: Jie Zhou <jizh@linux.microsoft.com>
Date: Wednesday, May 05 2021 19:12:11
DPDK git baseline: Repo:dpdk
Branch: master
CommitID:7fb41a8cbe2108a7634343c3abb7f9d01aed3777
92964-92973 --> functional testing pass
Test environment and result as below:
Ubuntu 18.04
Kernel: 4.15.0-generic
Compiler: gcc 7.4
NIC: Intel Corporation Ethernet Converged Network Adapter 82599ES 10000 Mbps
Target: x86_64-native-linuxapp-gcc
Fail/Total: 0/5
To view detailed results, visit:
https://lab.dpdk.org/results/dashboard/patchsets/16955/
UNH-IOL DPDK Community Lab
To manage your email subscriptions, visit:
https://lab.dpdk.org/results/dashboard/preferences/subscriptions/
^ permalink raw reply [flat|nested] 16+ messages in thread
* [dpdk-test-report] |SUCCESS| pw92964-92973 [PATCH] [v13, 10/10] app/testpmd: enable building testpmd on Windows
@ 2021-05-06 0:51 dpdklab
0 siblings, 0 replies; 16+ messages in thread
From: dpdklab @ 2021-05-06 0:51 UTC (permalink / raw)
To: Test Report; +Cc: dpdk-test-reports
[-- Attachment #1: Type: text/plain, Size: 790 bytes --]
Test-Label: iol-intel-Functional
Test-Status: SUCCESS
http://dpdk.org/patch/92973
_Functional Testing PASS_
Submitter: Jie Zhou <jizh@linux.microsoft.com>
Date: Wednesday, May 05 2021 19:12:11
DPDK git baseline: Repo:dpdk
Branch: master
CommitID:caec80f92adf21f86d18b77d4cdc951b41088c6e
92964-92973 --> functional testing pass
Test environment and result as below:
Ubuntu 18.04
Kernel: 4.15.0-generic
Compiler: gcc 7.4
NIC: Intel Corporation Ethernet Converged Network Adapter XL710-QDA2 40000 Mbps
Target: x86_64-native-linuxapp-gcc
Fail/Total: 0/3
To view detailed results, visit:
https://lab.dpdk.org/results/dashboard/patchsets/16955/
UNH-IOL DPDK Community Lab
To manage your email subscriptions, visit:
https://lab.dpdk.org/results/dashboard/preferences/subscriptions/
^ permalink raw reply [flat|nested] 16+ messages in thread
* [dpdk-test-report] |SUCCESS| pw92964-92973 [PATCH] [v13, 10/10] app/testpmd: enable building testpmd on Windows
@ 2021-05-05 20:23 dpdklab
0 siblings, 0 replies; 16+ messages in thread
From: dpdklab @ 2021-05-05 20:23 UTC (permalink / raw)
To: Ali Alnubani, Test Report; +Cc: dpdk-test-reports
[-- Attachment #1: Type: text/plain, Size: 3967 bytes --]
Test-Label: iol-mellanox-Performance
Test-Status: SUCCESS
http://dpdk.org/patch/92973
_Performance Testing PASS_
Submitter: Jie Zhou <jizh@linux.microsoft.com>
Date: Wednesday, May 05 2021 19:12:11
DPDK git baseline: Repo:dpdk
Branch: master
CommitID:caec80f92adf21f86d18b77d4cdc951b41088c6e
92964-92973 --> performance testing pass
Test environment and result as below:
Ubuntu 18.04
Kernel: 4.15.0-generic
Compiler: gcc 7.4
NIC: Mellanox ConnectX-5 100000 Mbps
Target: x86_64-native-linuxapp-gcc
Fail/Total: 0/6
Detail performance results:
+------------+---------+-------------------------------------+
| frame_size | txd/rxd | throughput difference from expected |
+============+=========+=====================================+
| 64 | 256 | -0.68135% |
+------------+---------+-------------------------------------+
| 128 | 256 | -0.179% |
+------------+---------+-------------------------------------+
| 256 | 256 | 0.04727% |
+------------+---------+-------------------------------------+
| 512 | 256 | -0.6166% |
+------------+---------+-------------------------------------+
| 1024 | 256 | -0.45279% |
+------------+---------+-------------------------------------+
| 1518 | 256 | -0.07042% |
+------------+---------+-------------------------------------+
Ubuntu 18.04
Kernel: 4.15.0-generic
Compiler: gcc 7.4
NIC: Mellanox ConnectX-4 Lx 25000 Mbps
Target: x86_64-native-linuxapp-gcc
Fail/Total: 0/6
Detail performance results:
+------------+---------+-------------------------------------+
| frame_size | txd/rxd | throughput difference from expected |
+============+=========+=====================================+
| 64 | 256 | 1.09067% |
+------------+---------+-------------------------------------+
| 128 | 256 | -0.12061% |
+------------+---------+-------------------------------------+
| 256 | 256 | 0.42247% |
+------------+---------+-------------------------------------+
| 512 | 256 | -0.03421% |
+------------+---------+-------------------------------------+
| 1024 | 256 | -0.20043% |
+------------+---------+-------------------------------------+
| 1518 | 256 | -0.0738% |
+------------+---------+-------------------------------------+
Ubuntu 18.04
Kernel: 4.15.0-generic
Compiler: gcc 7.4
NIC: Mellanox ConnectX-4 Lx 40000 Mbps
Target: x86_64-native-linuxapp-gcc
Fail/Total: 0/6
Detail performance results:
+------------+---------+-------------------------------------+
| frame_size | txd/rxd | throughput difference from expected |
+============+=========+=====================================+
| 64 | 256 | 0.54147% |
+------------+---------+-------------------------------------+
| 128 | 256 | -0.74489% |
+------------+---------+-------------------------------------+
| 256 | 256 | -0.05475% |
+------------+---------+-------------------------------------+
| 512 | 256 | -0.01066% |
+------------+---------+-------------------------------------+
| 1024 | 256 | -0.01046% |
+------------+---------+-------------------------------------+
| 1518 | 256 | -0.0308% |
+------------+---------+-------------------------------------+
To view detailed results, visit:
https://lab.dpdk.org/results/dashboard/patchsets/16955/
UNH-IOL DPDK Community Lab
To manage your email subscriptions, visit:
https://lab.dpdk.org/results/dashboard/preferences/subscriptions/
^ permalink raw reply [flat|nested] 16+ messages in thread
* [dpdk-test-report] |SUCCESS| pw92964-92973 [PATCH] [v13, 10/10] app/testpmd: enable building testpmd on Windows
@ 2021-05-05 19:53 dpdklab
0 siblings, 0 replies; 16+ messages in thread
From: dpdklab @ 2021-05-05 19:53 UTC (permalink / raw)
To: Test Report; +Cc: dpdklab
[-- Attachment #1: Type: text/plain, Size: 2277 bytes --]
Test-Label: iol-abi-testing
Test-Status: SUCCESS
http://dpdk.org/patch/92973
_Testing PASS_
Submitter: Jie Zhou <jizh@linux.microsoft.com>
Date: Wednesday, May 05 2021 19:12:11
DPDK git baseline: Repo:dpdk
Branch: master
CommitID:caec80f92adf21f86d18b77d4cdc951b41088c6e
92964-92973 --> testing pass
Test environment and result as below:
+------------------+----------+
| Environment | abi_test |
+==================+==========+
| Ubuntu 18.04 ARM | PASS |
+------------------+----------+
| RHEL8 | PASS |
+------------------+----------+
| CentOS 8 | PASS |
+------------------+----------+
| Ubuntu 18.04 | PASS |
+------------------+----------+
| Ubuntu 20.04 | PASS |
+------------------+----------+
| Arch Linux | PASS |
+------------------+----------+
| CentOS Stream 8 | PASS |
+------------------+----------+
| Fedora 31 | PASS |
+------------------+----------+
| Fedora 32 | PASS |
+------------------+----------+
| openSUSE Leap 15 | PASS |
+------------------+----------+
| RHEL 7 | PASS |
+------------------+----------+
Ubuntu 18.04 ARM
Kernel: 5.4.0-53-generic
Compiler: gcc 9.3
RHEL8
Kernel: 4.18.0-240.10.1.el8_3.x86_64
Compiler: gcc 8.3.1 20191121 (Red Hat 8.3.1-5)
CentOS 8
Kernel: 4.18.0-240.10.1.el8_3.x86_64
Compiler: gcc 8.3.1 20191121 (Red Hat 8.3.1-5)
Ubuntu 18.04
Kernel: 4.18.0-240.10.1.el8_3.x86_64
Compiler: gcc 7.5.0-3ubuntu1~18.04
Ubuntu 20.04
Kernel: 4.18.0-240.10.1.el8_3.x86_64
Compiler: gcc 9.3.0-17ubuntu1~20.04
Arch Linux
Kernel: 4.18.0-240.10.1.el8_3.x86_64
Compiler: gcc 10.2.0
CentOS Stream 8
Kernel: 4.18.0-240.10.1.el8_3.x86_64
Compiler: gcc 8.4.1 20200928
Fedora 31
Kernel: 4.18.0-240.10.1.el8_3.x86_64
Compiler: gcc 9.3.1
Fedora 32
Kernel: 4.18.0-240.10.1.el8_3.x86_64
Compiler: gcc 10.2.1
openSUSE Leap 15
Kernel: 4.18.0-240.10.1.el8_3.x86_64
Compiler: gcc 7.5.0
RHEL 7
Kernel: 4.18.0-240.10.1.el8_3.x86_64
Compiler: gcc 4.8.5 20150623 (Red Hat 4.8.5-44)
To view detailed results, visit:
https://lab.dpdk.org/results/dashboard/patchsets/16955/
UNH-IOL DPDK Community Lab
To manage your email subscriptions, visit:
https://lab.dpdk.org/results/dashboard/preferences/subscriptions/
^ permalink raw reply [flat|nested] 16+ messages in thread
* [dpdk-test-report] |SUCCESS| pw92964-92973 [PATCH] [v13, 10/10] app/testpmd: enable building testpmd on Windows
@ 2021-05-05 19:49 dpdklab
0 siblings, 0 replies; 16+ messages in thread
From: dpdklab @ 2021-05-05 19:49 UTC (permalink / raw)
To: Test Report; +Cc: dpdk-test-reports
[-- Attachment #1: Type: text/plain, Size: 4643 bytes --]
Test-Label: iol-testing
Test-Status: SUCCESS
http://dpdk.org/patch/92973
_Testing PASS_
Submitter: Jie Zhou <jizh@linux.microsoft.com>
Date: Wednesday, May 05 2021 19:12:11
DPDK git baseline: Repo:dpdk
Branch: master
CommitID:caec80f92adf21f86d18b77d4cdc951b41088c6e
92964-92973 --> testing pass
Test environment and result as below:
+---------------------+----------------------+-------------------+--------------------+----------------+
| Environment | dpdk_mingw64_compile | dpdk_compile_spdk | dpdk_meson_compile | dpdk_unit_test |
+=====================+======================+===================+====================+================+
| Windows Server 2019 | PASS | SKIPPED | PASS | SKIPPED |
+---------------------+----------------------+-------------------+--------------------+----------------+
| Ubuntu 18.04 | SKIPPED | PASS | PASS | PASS |
+---------------------+----------------------+-------------------+--------------------+----------------+
| CentOS 8 | SKIPPED | SKIPPED | PASS | SKIPPED |
+---------------------+----------------------+-------------------+--------------------+----------------+
| Fedora 31 | SKIPPED | SKIPPED | PASS | SKIPPED |
+---------------------+----------------------+-------------------+--------------------+----------------+
| CentOS Stream 8 | SKIPPED | SKIPPED | PASS | SKIPPED |
+---------------------+----------------------+-------------------+--------------------+----------------+
| Ubuntu 20.04 | SKIPPED | SKIPPED | PASS | SKIPPED |
+---------------------+----------------------+-------------------+--------------------+----------------+
| Fedora 32 | SKIPPED | SKIPPED | PASS | SKIPPED |
+---------------------+----------------------+-------------------+--------------------+----------------+
| Ubuntu 18.04 ARM | SKIPPED | SKIPPED | PASS | SKIPPED |
+---------------------+----------------------+-------------------+--------------------+----------------+
| FreeBSD 11.2 | SKIPPED | SKIPPED | PASS | SKIPPED |
+---------------------+----------------------+-------------------+--------------------+----------------+
| RHEL 7 | SKIPPED | SKIPPED | PASS | SKIPPED |
+---------------------+----------------------+-------------------+--------------------+----------------+
| Arch Linux | SKIPPED | SKIPPED | PASS | SKIPPED |
+---------------------+----------------------+-------------------+--------------------+----------------+
| openSUSE Leap 15 | SKIPPED | SKIPPED | PASS | SKIPPED |
+---------------------+----------------------+-------------------+--------------------+----------------+
| RHEL8 | SKIPPED | SKIPPED | PASS | SKIPPED |
+---------------------+----------------------+-------------------+--------------------+----------------+
Windows Server 2019
Kernel: 10.0
Compiler: clang 9.0 and gcc 8.1.0 (MinGW)
Ubuntu 18.04
Kernel: 4.18.0-240.10.1.el8_3.x86_64
Compiler: gcc 7.5.0-3ubuntu1~18.04
CentOS 8
Kernel: 4.18.0-240.10.1.el8_3.x86_64
Compiler: gcc 8.3.1 20191121 (Red Hat 8.3.1-5)
Fedora 31
Kernel: 4.18.0-240.10.1.el8_3.x86_64
Compiler: gcc 9.3.1
CentOS Stream 8
Kernel: 4.18.0-240.10.1.el8_3.x86_64
Compiler: gcc 8.4.1 20200928
Ubuntu 20.04
Kernel: 4.18.0-240.10.1.el8_3.x86_64
Compiler: gcc 9.3.0-17ubuntu1~20.04
Fedora 32
Kernel: 4.18.0-240.10.1.el8_3.x86_64
Compiler: gcc 10.2.1
Ubuntu 18.04 ARM
Kernel: 5.4.0-53-generic
Compiler: gcc 9.3
FreeBSD 11.2
Kernel: 11.2
Compiler: gcc 8.3
RHEL 7
Kernel: 4.18.0-240.10.1.el8_3.x86_64
Compiler: gcc 4.8.5 20150623 (Red Hat 4.8.5-44)
Arch Linux
Kernel: 4.18.0-240.10.1.el8_3.x86_64
Compiler: gcc 10.2.0
openSUSE Leap 15
Kernel: 4.18.0-240.10.1.el8_3.x86_64
Compiler: gcc 7.5.0
RHEL8
Kernel: 4.18.0-240.10.1.el8_3.x86_64
Compiler: gcc 8.3.1 20191121 (Red Hat 8.3.1-5)
To view detailed results, visit:
https://lab.dpdk.org/results/dashboard/patchsets/16955/
UNH-IOL DPDK Community Lab
To manage your email subscriptions, visit:
https://lab.dpdk.org/results/dashboard/preferences/subscriptions/
^ permalink raw reply [flat|nested] 16+ messages in thread
end of thread, other threads:[~2021-05-12 10:25 UTC | newest]
Thread overview: 16+ messages (download: mbox.gz / follow: Atom feed)
-- links below jump to the message on this page --
2021-05-09 4:33 [dpdk-test-report] |SUCCESS| pw92964-92973 [PATCH] [v13, 10/10] app/testpmd: enable building testpmd on Windows dpdklab
-- strict thread matches above, loose matches on Subject: below --
2021-05-12 10:25 dpdklab
2021-05-12 9:45 dpdklab
2021-05-09 5:12 dpdklab
2021-05-09 4:56 dpdklab
2021-05-08 13:24 dpdklab
2021-05-08 11:53 dpdklab
2021-05-08 11:41 dpdklab
2021-05-07 20:29 dpdklab
2021-05-07 20:28 dpdklab
2021-05-07 20:24 dpdklab
2021-05-07 20:18 dpdklab
2021-05-06 0:51 dpdklab
2021-05-05 20:23 dpdklab
2021-05-05 19:53 dpdklab
2021-05-05 19:49 dpdklab
This is a public inbox, see mirroring instructions
for how to clone and mirror all data and code used for this inbox;
as well as URLs for NNTP newsgroup(s).