* [dpdk-test-report] |SUCCESS| pw93100-93096 [PATCH] [4/4] net/hns3: return fail if FEC mode not support
@ 2021-05-11 15:42 dpdklab
0 siblings, 0 replies; 10+ messages in thread
From: dpdklab @ 2021-05-11 15:42 UTC (permalink / raw)
To: Ali Alnubani, Test Report; +Cc: dpdk-test-reports
[-- Attachment #1: Type: text/plain, Size: 4842 bytes --]
Test-Label: iol-mellanox-Performance
Test-Status: SUCCESS
http://dpdk.org/patch/93096
_Performance Testing PASS_
Submitter: Min Hu (Connor) <humin29@huawei.com>
Date: Monday, May 10 2021 13:38:13
DPDK git baseline: Repo:dpdk
Branch: master
CommitID:627c5b41bb14a1afbd1489b0fc4b8224532a823d
93100-93096 --> performance testing pass
Test environment and result as below:
Ubuntu 18.04
Kernel: 4.15.0-generic
Compiler: gcc 7.4
NIC: Mellanox ConnectX-4 Lx 25000 Mbps
Target: x86_64-native-linuxapp-gcc
Fail/Total: 0/6
Detail performance results:
+------------+---------+-------------------------------------+
| frame_size | txd/rxd | throughput difference from expected |
+============+=========+=====================================+
| 64 | 256 | 0.31947% |
+------------+---------+-------------------------------------+
| 128 | 256 | 0.1624% |
+------------+---------+-------------------------------------+
| 256 | 256 | -0.53998% |
+------------+---------+-------------------------------------+
| 512 | 256 | -0.60777% |
+------------+---------+-------------------------------------+
| 1024 | 256 | -0.03346% |
+------------+---------+-------------------------------------+
| 1518 | 256 | -0.12303% |
+------------+---------+-------------------------------------+
Ubuntu 18.04
Kernel: 4.15.0-generic
Compiler: gcc 7.4
NIC: Mellanox ConnectX-4 Lx 40000 Mbps
Target: x86_64-native-linuxapp-gcc
Fail/Total: 0/6
Detail performance results:
+------------+---------+-------------------------------------+
| frame_size | txd/rxd | throughput difference from expected |
+============+=========+=====================================+
| 64 | 256 | 0.16841% |
+------------+---------+-------------------------------------+
| 128 | 256 | 1.29078% |
+------------+---------+-------------------------------------+
| 256 | 256 | 0.06219% |
+------------+---------+-------------------------------------+
| 512 | 256 | -0.08521% |
+------------+---------+-------------------------------------+
| 1024 | 256 | 0.19837% |
+------------+---------+-------------------------------------+
| 1518 | 256 | -0.18453% |
+------------+---------+-------------------------------------+
Ubuntu 18.04
Kernel: 4.15.0-generic
Compiler: gcc 7.4
NIC: Mellanox ConnectX-5 100000 Mbps
Target: x86_64-native-linuxapp-gcc
Fail/Total: 0/6
Detail performance results:
+------------+---------+-------------------------------------+
| frame_size | txd/rxd | throughput difference from expected |
+============+=========+=====================================+
| 64 | 256 | -0.19563% |
+------------+---------+-------------------------------------+
| 128 | 256 | -0.08099% |
+------------+---------+-------------------------------------+
| 256 | 256 | -0.2796% |
+------------+---------+-------------------------------------+
| 512 | 256 | -0.92811% |
+------------+---------+-------------------------------------+
| 1024 | 256 | 1.04211% |
+------------+---------+-------------------------------------+
| 1518 | 256 | 0.08211% |
+------------+---------+-------------------------------------+
Ubuntu 18.04 ARM
Kernel: 4.15.0-132-generic
Compiler: gcc 7.5
NIC: Arm Mellanox ConnectX-5 10000 Mbps
Target: x86_64-native-linuxapp-gcc
Fail/Total: 0/4
Detail performance results:
+------------+---------+-------------------------------------+
| frame_size | txd/rxd | throughput difference from expected |
+============+=========+=====================================+
| 64 | 128 | -0.9008% |
+------------+---------+-------------------------------------+
| 64 | 256 | -2.53545% |
+------------+---------+-------------------------------------+
| 64 | 512 | 0.93232% |
+------------+---------+-------------------------------------+
| 64 | 2048 | -1.22475% |
+------------+---------+-------------------------------------+
To view detailed results, visit:
https://lab.dpdk.org/results/dashboard/patchsets/17016/
UNH-IOL DPDK Community Lab
To manage your email subscriptions, visit:
https://lab.dpdk.org/results/dashboard/preferences/subscriptions/
^ permalink raw reply [flat|nested] 10+ messages in thread
* [dpdk-test-report] |SUCCESS| pw93100-93096 [PATCH] [4/4] net/hns3: return fail if FEC mode not support
@ 2021-05-11 15:20 dpdklab
0 siblings, 0 replies; 10+ messages in thread
From: dpdklab @ 2021-05-11 15:20 UTC (permalink / raw)
To: Test Report; +Cc: dpdk-test-reports
[-- Attachment #1: Type: text/plain, Size: 984 bytes --]
Test-Label: iol-intel-Functional
Test-Status: SUCCESS
http://dpdk.org/patch/93096
_Functional Testing PASS_
Submitter: Min Hu (Connor) <humin29@huawei.com>
Date: Monday, May 10 2021 13:38:13
DPDK git baseline: Repo:dpdk
Branch: master
CommitID:627c5b41bb14a1afbd1489b0fc4b8224532a823d
93100-93096 --> functional testing pass
Test environment and result as below:
Ubuntu 18.04
Kernel: 4.15.0-generic
Compiler: gcc 7.4
NIC: Intel Corporation Ethernet Converged Network Adapter 82599ES 10000 Mbps
Target: x86_64-native-linuxapp-gcc
Fail/Total: 0/5
Ubuntu 18.04 ARM
Kernel: 4.15.0-132-generic
Compiler: gcc 7.5
NIC: Arm Intel Corporation Ethernet Converged Network Adapter XL710-QDA2 40000 Mbps
Target: x86_64-native-linuxapp-gcc
Fail/Total: 0/5
To view detailed results, visit:
https://lab.dpdk.org/results/dashboard/patchsets/17016/
UNH-IOL DPDK Community Lab
To manage your email subscriptions, visit:
https://lab.dpdk.org/results/dashboard/preferences/subscriptions/
^ permalink raw reply [flat|nested] 10+ messages in thread
* [dpdk-test-report] |SUCCESS| pw93100-93096 [PATCH] [4/4] net/hns3: return fail if FEC mode not support
@ 2021-05-11 15:02 dpdklab
0 siblings, 0 replies; 10+ messages in thread
From: dpdklab @ 2021-05-11 15:02 UTC (permalink / raw)
To: Test Report; +Cc: dpdk-test-reports
[-- Attachment #1: Type: text/plain, Size: 1927 bytes --]
Test-Label: iol-intel-Performance
Test-Status: SUCCESS
http://dpdk.org/patch/93096
_Performance Testing PASS_
Submitter: Min Hu (Connor) <humin29@huawei.com>
Date: Monday, May 10 2021 13:38:13
DPDK git baseline: Repo:dpdk
Branch: master
CommitID:627c5b41bb14a1afbd1489b0fc4b8224532a823d
93100-93096 --> performance testing pass
Test environment and result as below:
Ubuntu 18.04
Kernel: 4.15.0-generic
Compiler: gcc 7.4
NIC: Intel Corporation Ethernet Converged Network Adapter 82599ES 10000 Mbps
Target: x86_64-native-linuxapp-gcc
Fail/Total: 0/2
Detail performance results:
+------------+---------+-------------------------------------+
| frame_size | txd/rxd | throughput difference from expected |
+============+=========+=====================================+
| 64 | 512 | -0.00873% |
+------------+---------+-------------------------------------+
| 64 | 2048 | 0.26796% |
+------------+---------+-------------------------------------+
Ubuntu 18.04 ARM
Kernel: 4.15.0-132-generic
Compiler: gcc 7.5
NIC: Arm Intel Corporation Ethernet Converged Network Adapter XL710-QDA2 40000 Mbps
Target: x86_64-native-linuxapp-gcc
Fail/Total: 0/2
Detail performance results:
+------------+---------+-------------------------------------+
| frame_size | txd/rxd | throughput difference from expected |
+============+=========+=====================================+
| 64 | 512 | -0.24199% |
+------------+---------+-------------------------------------+
| 64 | 2048 | -0.0856% |
+------------+---------+-------------------------------------+
To view detailed results, visit:
https://lab.dpdk.org/results/dashboard/patchsets/17016/
UNH-IOL DPDK Community Lab
To manage your email subscriptions, visit:
https://lab.dpdk.org/results/dashboard/preferences/subscriptions/
^ permalink raw reply [flat|nested] 10+ messages in thread
* [dpdk-test-report] |SUCCESS| pw93100-93096 [PATCH] [4/4] net/hns3: return fail if FEC mode not support
@ 2021-05-10 22:10 dpdklab
0 siblings, 0 replies; 10+ messages in thread
From: dpdklab @ 2021-05-10 22:10 UTC (permalink / raw)
To: Ali Alnubani, Test Report; +Cc: dpdk-test-reports
[-- Attachment #1: Type: text/plain, Size: 3965 bytes --]
Test-Label: iol-mellanox-Performance
Test-Status: SUCCESS
http://dpdk.org/patch/93096
_Performance Testing PASS_
Submitter: Min Hu (Connor) <humin29@huawei.com>
Date: Monday, May 10 2021 13:38:13
DPDK git baseline: Repo:dpdk
Branch: master
CommitID:627c5b41bb14a1afbd1489b0fc4b8224532a823d
93100-93096 --> performance testing pass
Test environment and result as below:
Ubuntu 18.04
Kernel: 4.15.0-generic
Compiler: gcc 7.4
NIC: Mellanox ConnectX-4 Lx 25000 Mbps
Target: x86_64-native-linuxapp-gcc
Fail/Total: 0/6
Detail performance results:
+------------+---------+-------------------------------------+
| frame_size | txd/rxd | throughput difference from expected |
+============+=========+=====================================+
| 64 | 256 | 0.31947% |
+------------+---------+-------------------------------------+
| 128 | 256 | 0.1624% |
+------------+---------+-------------------------------------+
| 256 | 256 | -0.53998% |
+------------+---------+-------------------------------------+
| 512 | 256 | -0.60777% |
+------------+---------+-------------------------------------+
| 1024 | 256 | -0.03346% |
+------------+---------+-------------------------------------+
| 1518 | 256 | -0.12303% |
+------------+---------+-------------------------------------+
Ubuntu 18.04
Kernel: 4.15.0-generic
Compiler: gcc 7.4
NIC: Mellanox ConnectX-4 Lx 40000 Mbps
Target: x86_64-native-linuxapp-gcc
Fail/Total: 0/6
Detail performance results:
+------------+---------+-------------------------------------+
| frame_size | txd/rxd | throughput difference from expected |
+============+=========+=====================================+
| 64 | 256 | 0.16841% |
+------------+---------+-------------------------------------+
| 128 | 256 | 1.29078% |
+------------+---------+-------------------------------------+
| 256 | 256 | 0.06219% |
+------------+---------+-------------------------------------+
| 512 | 256 | -0.08521% |
+------------+---------+-------------------------------------+
| 1024 | 256 | 0.19837% |
+------------+---------+-------------------------------------+
| 1518 | 256 | -0.18453% |
+------------+---------+-------------------------------------+
Ubuntu 18.04
Kernel: 4.15.0-generic
Compiler: gcc 7.4
NIC: Mellanox ConnectX-5 100000 Mbps
Target: x86_64-native-linuxapp-gcc
Fail/Total: 0/6
Detail performance results:
+------------+---------+-------------------------------------+
| frame_size | txd/rxd | throughput difference from expected |
+============+=========+=====================================+
| 64 | 256 | -0.19563% |
+------------+---------+-------------------------------------+
| 128 | 256 | -0.08099% |
+------------+---------+-------------------------------------+
| 256 | 256 | -0.2796% |
+------------+---------+-------------------------------------+
| 512 | 256 | -0.92811% |
+------------+---------+-------------------------------------+
| 1024 | 256 | 1.04211% |
+------------+---------+-------------------------------------+
| 1518 | 256 | 0.08211% |
+------------+---------+-------------------------------------+
To view detailed results, visit:
https://lab.dpdk.org/results/dashboard/patchsets/17016/
UNH-IOL DPDK Community Lab
To manage your email subscriptions, visit:
https://lab.dpdk.org/results/dashboard/preferences/subscriptions/
^ permalink raw reply [flat|nested] 10+ messages in thread
* [dpdk-test-report] |SUCCESS| pw93100-93096 [PATCH] [4/4] net/hns3: return fail if FEC mode not support
@ 2021-05-10 21:58 dpdklab
0 siblings, 0 replies; 10+ messages in thread
From: dpdklab @ 2021-05-10 21:58 UTC (permalink / raw)
To: Ali Alnubani, Test Report; +Cc: dpdk-test-reports
[-- Attachment #1: Type: text/plain, Size: 2847 bytes --]
Test-Label: iol-mellanox-Performance
Test-Status: SUCCESS
http://dpdk.org/patch/93096
_Performance Testing PASS_
Submitter: Min Hu (Connor) <humin29@huawei.com>
Date: Monday, May 10 2021 13:38:13
DPDK git baseline: Repo:dpdk
Branch: master
CommitID:627c5b41bb14a1afbd1489b0fc4b8224532a823d
93100-93096 --> performance testing pass
Test environment and result as below:
Ubuntu 18.04
Kernel: 4.15.0-generic
Compiler: gcc 7.4
NIC: Mellanox ConnectX-4 Lx 25000 Mbps
Target: x86_64-native-linuxapp-gcc
Fail/Total: 0/6
Detail performance results:
+------------+---------+-------------------------------------+
| frame_size | txd/rxd | throughput difference from expected |
+============+=========+=====================================+
| 64 | 256 | 0.31947% |
+------------+---------+-------------------------------------+
| 128 | 256 | 0.1624% |
+------------+---------+-------------------------------------+
| 256 | 256 | -0.53998% |
+------------+---------+-------------------------------------+
| 512 | 256 | -0.60777% |
+------------+---------+-------------------------------------+
| 1024 | 256 | -0.03346% |
+------------+---------+-------------------------------------+
| 1518 | 256 | -0.12303% |
+------------+---------+-------------------------------------+
Ubuntu 18.04
Kernel: 4.15.0-generic
Compiler: gcc 7.4
NIC: Mellanox ConnectX-4 Lx 40000 Mbps
Target: x86_64-native-linuxapp-gcc
Fail/Total: 0/6
Detail performance results:
+------------+---------+-------------------------------------+
| frame_size | txd/rxd | throughput difference from expected |
+============+=========+=====================================+
| 64 | 256 | 0.16841% |
+------------+---------+-------------------------------------+
| 128 | 256 | 1.29078% |
+------------+---------+-------------------------------------+
| 256 | 256 | 0.06219% |
+------------+---------+-------------------------------------+
| 512 | 256 | -0.08521% |
+------------+---------+-------------------------------------+
| 1024 | 256 | 0.19837% |
+------------+---------+-------------------------------------+
| 1518 | 256 | -0.18453% |
+------------+---------+-------------------------------------+
To view detailed results, visit:
https://lab.dpdk.org/results/dashboard/patchsets/17016/
UNH-IOL DPDK Community Lab
To manage your email subscriptions, visit:
https://lab.dpdk.org/results/dashboard/preferences/subscriptions/
^ permalink raw reply [flat|nested] 10+ messages in thread
* [dpdk-test-report] |SUCCESS| pw93100-93096 [PATCH] [4/4] net/hns3: return fail if FEC mode not support
@ 2021-05-10 21:06 dpdklab
0 siblings, 0 replies; 10+ messages in thread
From: dpdklab @ 2021-05-10 21:06 UTC (permalink / raw)
To: Ali Alnubani, Test Report; +Cc: dpdk-test-reports
[-- Attachment #1: Type: text/plain, Size: 1727 bytes --]
Test-Label: iol-mellanox-Performance
Test-Status: SUCCESS
http://dpdk.org/patch/93096
_Performance Testing PASS_
Submitter: Min Hu (Connor) <humin29@huawei.com>
Date: Monday, May 10 2021 13:38:13
DPDK git baseline: Repo:dpdk
Branch: master
CommitID:627c5b41bb14a1afbd1489b0fc4b8224532a823d
93100-93096 --> performance testing pass
Test environment and result as below:
Ubuntu 18.04
Kernel: 4.15.0-generic
Compiler: gcc 7.4
NIC: Mellanox ConnectX-4 Lx 25000 Mbps
Target: x86_64-native-linuxapp-gcc
Fail/Total: 0/6
Detail performance results:
+------------+---------+-------------------------------------+
| frame_size | txd/rxd | throughput difference from expected |
+============+=========+=====================================+
| 64 | 256 | 0.31947% |
+------------+---------+-------------------------------------+
| 128 | 256 | 0.1624% |
+------------+---------+-------------------------------------+
| 256 | 256 | -0.53998% |
+------------+---------+-------------------------------------+
| 512 | 256 | -0.60777% |
+------------+---------+-------------------------------------+
| 1024 | 256 | -0.03346% |
+------------+---------+-------------------------------------+
| 1518 | 256 | -0.12303% |
+------------+---------+-------------------------------------+
To view detailed results, visit:
https://lab.dpdk.org/results/dashboard/patchsets/17016/
UNH-IOL DPDK Community Lab
To manage your email subscriptions, visit:
https://lab.dpdk.org/results/dashboard/preferences/subscriptions/
^ permalink raw reply [flat|nested] 10+ messages in thread
* [dpdk-test-report] |SUCCESS| pw93100-93096 [PATCH] [4/4] net/hns3: return fail if FEC mode not support
@ 2021-05-10 14:37 dpdklab
0 siblings, 0 replies; 10+ messages in thread
From: dpdklab @ 2021-05-10 14:37 UTC (permalink / raw)
To: Test Report; +Cc: dpdk-test-reports
[-- Attachment #1: Type: text/plain, Size: 4641 bytes --]
Test-Label: iol-testing
Test-Status: SUCCESS
http://dpdk.org/patch/93096
_Testing PASS_
Submitter: Min Hu (Connor) <humin29@huawei.com>
Date: Monday, May 10 2021 13:38:13
DPDK git baseline: Repo:dpdk
Branch: master
CommitID:627c5b41bb14a1afbd1489b0fc4b8224532a823d
93100-93096 --> testing pass
Test environment and result as below:
+---------------------+----------------------+-------------------+--------------------+----------------+
| Environment | dpdk_mingw64_compile | dpdk_compile_spdk | dpdk_meson_compile | dpdk_unit_test |
+=====================+======================+===================+====================+================+
| Windows Server 2019 | PASS | SKIPPED | PASS | SKIPPED |
+---------------------+----------------------+-------------------+--------------------+----------------+
| Ubuntu 18.04 | SKIPPED | PASS | PASS | PASS |
+---------------------+----------------------+-------------------+--------------------+----------------+
| Fedora 31 | SKIPPED | SKIPPED | PASS | SKIPPED |
+---------------------+----------------------+-------------------+--------------------+----------------+
| Ubuntu 18.04 ARM | SKIPPED | SKIPPED | PASS | SKIPPED |
+---------------------+----------------------+-------------------+--------------------+----------------+
| FreeBSD 11.2 | SKIPPED | SKIPPED | PASS | SKIPPED |
+---------------------+----------------------+-------------------+--------------------+----------------+
| CentOS 8 | SKIPPED | SKIPPED | PASS | SKIPPED |
+---------------------+----------------------+-------------------+--------------------+----------------+
| Fedora 32 | SKIPPED | SKIPPED | PASS | SKIPPED |
+---------------------+----------------------+-------------------+--------------------+----------------+
| RHEL 7 | SKIPPED | SKIPPED | PASS | SKIPPED |
+---------------------+----------------------+-------------------+--------------------+----------------+
| CentOS Stream 8 | SKIPPED | SKIPPED | PASS | SKIPPED |
+---------------------+----------------------+-------------------+--------------------+----------------+
| Ubuntu 20.04 | SKIPPED | SKIPPED | PASS | SKIPPED |
+---------------------+----------------------+-------------------+--------------------+----------------+
| RHEL8 | SKIPPED | SKIPPED | PASS | SKIPPED |
+---------------------+----------------------+-------------------+--------------------+----------------+
| openSUSE Leap 15 | SKIPPED | SKIPPED | PASS | SKIPPED |
+---------------------+----------------------+-------------------+--------------------+----------------+
| Arch Linux | SKIPPED | SKIPPED | PASS | SKIPPED |
+---------------------+----------------------+-------------------+--------------------+----------------+
Windows Server 2019
Kernel: 10.0
Compiler: clang 9.0 and gcc 8.1.0 (MinGW)
Ubuntu 18.04
Kernel: 4.18.0-240.10.1.el8_3.x86_64
Compiler: gcc 7.5.0-3ubuntu1~18.04
Fedora 31
Kernel: 4.18.0-240.10.1.el8_3.x86_64
Compiler: gcc 9.3.1
Ubuntu 18.04 ARM
Kernel: 5.4.0-53-generic
Compiler: gcc 9.3
FreeBSD 11.2
Kernel: 11.2
Compiler: gcc 8.3
CentOS 8
Kernel: 4.18.0-240.10.1.el8_3.x86_64
Compiler: gcc 8.3.1 20191121 (Red Hat 8.3.1-5)
Fedora 32
Kernel: 4.18.0-240.10.1.el8_3.x86_64
Compiler: gcc 10.2.1
RHEL 7
Kernel: 4.18.0-240.10.1.el8_3.x86_64
Compiler: gcc 4.8.5 20150623 (Red Hat 4.8.5-44)
CentOS Stream 8
Kernel: 4.18.0-240.10.1.el8_3.x86_64
Compiler: gcc 8.4.1 20200928
Ubuntu 20.04
Kernel: 4.18.0-240.10.1.el8_3.x86_64
Compiler: gcc 9.3.0-17ubuntu1~20.04
RHEL8
Kernel: 4.18.0-240.10.1.el8_3.x86_64
Compiler: gcc 8.3.1 20191121 (Red Hat 8.3.1-5)
openSUSE Leap 15
Kernel: 4.18.0-240.10.1.el8_3.x86_64
Compiler: gcc 7.5.0
Arch Linux
Kernel: 4.18.0-240.10.1.el8_3.x86_64
Compiler: gcc 10.2.0
To view detailed results, visit:
https://lab.dpdk.org/results/dashboard/patchsets/17016/
UNH-IOL DPDK Community Lab
To manage your email subscriptions, visit:
https://lab.dpdk.org/results/dashboard/preferences/subscriptions/
^ permalink raw reply [flat|nested] 10+ messages in thread
* [dpdk-test-report] |SUCCESS| pw93100-93096 [PATCH] [4/4] net/hns3: return fail if FEC mode not support
@ 2021-05-10 14:37 dpdklab
0 siblings, 0 replies; 10+ messages in thread
From: dpdklab @ 2021-05-10 14:37 UTC (permalink / raw)
To: Test Report; +Cc: dpdklab
[-- Attachment #1: Type: text/plain, Size: 2275 bytes --]
Test-Label: iol-abi-testing
Test-Status: SUCCESS
http://dpdk.org/patch/93096
_Testing PASS_
Submitter: Min Hu (Connor) <humin29@huawei.com>
Date: Monday, May 10 2021 13:38:13
DPDK git baseline: Repo:dpdk
Branch: master
CommitID:627c5b41bb14a1afbd1489b0fc4b8224532a823d
93100-93096 --> testing pass
Test environment and result as below:
+------------------+----------+
| Environment | abi_test |
+==================+==========+
| Ubuntu 18.04 ARM | PASS |
+------------------+----------+
| RHEL8 | PASS |
+------------------+----------+
| CentOS 8 | PASS |
+------------------+----------+
| Ubuntu 18.04 | PASS |
+------------------+----------+
| Arch Linux | PASS |
+------------------+----------+
| Ubuntu 20.04 | PASS |
+------------------+----------+
| RHEL 7 | PASS |
+------------------+----------+
| openSUSE Leap 15 | PASS |
+------------------+----------+
| Fedora 32 | PASS |
+------------------+----------+
| Fedora 31 | PASS |
+------------------+----------+
| CentOS Stream 8 | PASS |
+------------------+----------+
Ubuntu 18.04 ARM
Kernel: 5.4.0-53-generic
Compiler: gcc 9.3
RHEL8
Kernel: 4.18.0-240.10.1.el8_3.x86_64
Compiler: gcc 8.3.1 20191121 (Red Hat 8.3.1-5)
CentOS 8
Kernel: 4.18.0-240.10.1.el8_3.x86_64
Compiler: gcc 8.3.1 20191121 (Red Hat 8.3.1-5)
Ubuntu 18.04
Kernel: 4.18.0-240.10.1.el8_3.x86_64
Compiler: gcc 7.5.0-3ubuntu1~18.04
Arch Linux
Kernel: 4.18.0-240.10.1.el8_3.x86_64
Compiler: gcc 10.2.0
Ubuntu 20.04
Kernel: 4.18.0-240.10.1.el8_3.x86_64
Compiler: gcc 9.3.0-17ubuntu1~20.04
RHEL 7
Kernel: 4.18.0-240.10.1.el8_3.x86_64
Compiler: gcc 4.8.5 20150623 (Red Hat 4.8.5-44)
openSUSE Leap 15
Kernel: 4.18.0-240.10.1.el8_3.x86_64
Compiler: gcc 7.5.0
Fedora 32
Kernel: 4.18.0-240.10.1.el8_3.x86_64
Compiler: gcc 10.2.1
Fedora 31
Kernel: 4.18.0-240.10.1.el8_3.x86_64
Compiler: gcc 9.3.1
CentOS Stream 8
Kernel: 4.18.0-240.10.1.el8_3.x86_64
Compiler: gcc 8.4.1 20200928
To view detailed results, visit:
https://lab.dpdk.org/results/dashboard/patchsets/17016/
UNH-IOL DPDK Community Lab
To manage your email subscriptions, visit:
https://lab.dpdk.org/results/dashboard/preferences/subscriptions/
^ permalink raw reply [flat|nested] 10+ messages in thread
* [dpdk-test-report] |SUCCESS| pw93100-93096 [PATCH] [4/4] net/hns3: return fail if FEC mode not support
@ 2021-05-10 14:33 dpdklab
0 siblings, 0 replies; 10+ messages in thread
From: dpdklab @ 2021-05-10 14:33 UTC (permalink / raw)
To: Test Report; +Cc: dpdk-test-reports
[-- Attachment #1: Type: text/plain, Size: 785 bytes --]
Test-Label: iol-intel-Functional
Test-Status: SUCCESS
http://dpdk.org/patch/93096
_Functional Testing PASS_
Submitter: Min Hu (Connor) <humin29@huawei.com>
Date: Monday, May 10 2021 13:38:13
DPDK git baseline: Repo:dpdk
Branch: master
CommitID:627c5b41bb14a1afbd1489b0fc4b8224532a823d
93100-93096 --> functional testing pass
Test environment and result as below:
Ubuntu 18.04
Kernel: 4.15.0-generic
Compiler: gcc 7.4
NIC: Intel Corporation Ethernet Converged Network Adapter 82599ES 10000 Mbps
Target: x86_64-native-linuxapp-gcc
Fail/Total: 0/5
To view detailed results, visit:
https://lab.dpdk.org/results/dashboard/patchsets/17016/
UNH-IOL DPDK Community Lab
To manage your email subscriptions, visit:
https://lab.dpdk.org/results/dashboard/preferences/subscriptions/
^ permalink raw reply [flat|nested] 10+ messages in thread
* [dpdk-test-report] |SUCCESS| pw93100-93096 [PATCH] [4/4] net/hns3: return fail if FEC mode not support
@ 2021-05-10 14:22 dpdklab
0 siblings, 0 replies; 10+ messages in thread
From: dpdklab @ 2021-05-10 14:22 UTC (permalink / raw)
To: Test Report; +Cc: dpdk-test-reports
[-- Attachment #1: Type: text/plain, Size: 1258 bytes --]
Test-Label: iol-intel-Performance
Test-Status: SUCCESS
http://dpdk.org/patch/93096
_Performance Testing PASS_
Submitter: Min Hu (Connor) <humin29@huawei.com>
Date: Monday, May 10 2021 13:38:13
DPDK git baseline: Repo:dpdk
Branch: master
CommitID:627c5b41bb14a1afbd1489b0fc4b8224532a823d
93100-93096 --> performance testing pass
Test environment and result as below:
Ubuntu 18.04
Kernel: 4.15.0-generic
Compiler: gcc 7.4
NIC: Intel Corporation Ethernet Converged Network Adapter 82599ES 10000 Mbps
Target: x86_64-native-linuxapp-gcc
Fail/Total: 0/2
Detail performance results:
+------------+---------+-------------------------------------+
| frame_size | txd/rxd | throughput difference from expected |
+============+=========+=====================================+
| 64 | 512 | -0.00873% |
+------------+---------+-------------------------------------+
| 64 | 2048 | 0.26796% |
+------------+---------+-------------------------------------+
To view detailed results, visit:
https://lab.dpdk.org/results/dashboard/patchsets/17016/
UNH-IOL DPDK Community Lab
To manage your email subscriptions, visit:
https://lab.dpdk.org/results/dashboard/preferences/subscriptions/
^ permalink raw reply [flat|nested] 10+ messages in thread
end of thread, other threads:[~2021-05-11 15:43 UTC | newest]
Thread overview: 10+ messages (download: mbox.gz / follow: Atom feed)
-- links below jump to the message on this page --
2021-05-11 15:42 [dpdk-test-report] |SUCCESS| pw93100-93096 [PATCH] [4/4] net/hns3: return fail if FEC mode not support dpdklab
-- strict thread matches above, loose matches on Subject: below --
2021-05-11 15:20 dpdklab
2021-05-11 15:02 dpdklab
2021-05-10 22:10 dpdklab
2021-05-10 21:58 dpdklab
2021-05-10 21:06 dpdklab
2021-05-10 14:37 dpdklab
2021-05-10 14:37 dpdklab
2021-05-10 14:33 dpdklab
2021-05-10 14:22 dpdklab
This is a public inbox, see mirroring instructions
for how to clone and mirror all data and code used for this inbox;
as well as URLs for NNTP newsgroup(s).