* [dpdk-test-report] |SUCCESS| pw93323-93324 [PATCH] [v6, 2/2] net/hns3: refactor SVE code compile method
@ 2021-05-19 14:05 dpdklab
0 siblings, 0 replies; 10+ messages in thread
From: dpdklab @ 2021-05-19 14:05 UTC (permalink / raw)
To: Test Report; +Cc: dpdk-test-reports
[-- Attachment #1: Type: text/plain, Size: 2280 bytes --]
Test-Label: iol-abi-testing
Test-Status: SUCCESS
http://dpdk.org/patch/93324
_Testing PASS_
Submitter: fengchengwen <fengchengwen@huawei.com>
Date: Wednesday, May 19 2021 13:25:31
DPDK git baseline: Repo:dpdk
Branch: master
CommitID:947dff12bcf5023255433c9997710a5635522431
93323-93324 --> testing pass
Test environment and result as below:
+------------------+----------+
| Environment | abi_test |
+==================+==========+
| Ubuntu 18.04 | PASS |
+------------------+----------+
| Arch Linux | PASS |
+------------------+----------+
| RHEL8 | PASS |
+------------------+----------+
| Ubuntu 20.04 | PASS |
+------------------+----------+
| RHEL 7 | PASS |
+------------------+----------+
| CentOS 8 | PASS |
+------------------+----------+
| Fedora 31 | PASS |
+------------------+----------+
| openSUSE Leap 15 | PASS |
+------------------+----------+
| CentOS Stream 8 | PASS |
+------------------+----------+
| Fedora 32 | PASS |
+------------------+----------+
| Ubuntu 18.04 ARM | PASS |
+------------------+----------+
Ubuntu 18.04
Kernel: 4.18.0-240.10.1.el8_3.x86_64
Compiler: gcc 7.5.0-3ubuntu1~18.04
Arch Linux
Kernel: 4.18.0-240.10.1.el8_3.x86_64
Compiler: gcc 10.2.0
RHEL8
Kernel: 4.18.0-240.10.1.el8_3.x86_64
Compiler: gcc 8.3.1 20191121 (Red Hat 8.3.1-5)
Ubuntu 20.04
Kernel: 4.18.0-240.10.1.el8_3.x86_64
Compiler: gcc 9.3.0-17ubuntu1~20.04
RHEL 7
Kernel: 4.18.0-240.10.1.el8_3.x86_64
Compiler: gcc 4.8.5 20150623 (Red Hat 4.8.5-44)
CentOS 8
Kernel: 4.18.0-240.10.1.el8_3.x86_64
Compiler: gcc 8.3.1 20191121 (Red Hat 8.3.1-5)
Fedora 31
Kernel: 4.18.0-240.10.1.el8_3.x86_64
Compiler: gcc 9.3.1
openSUSE Leap 15
Kernel: 4.18.0-240.10.1.el8_3.x86_64
Compiler: gcc 7.5.0
CentOS Stream 8
Kernel: 4.18.0-240.10.1.el8_3.x86_64
Compiler: gcc 8.4.1 20200928
Fedora 32
Kernel: 4.18.0-240.10.1.el8_3.x86_64
Compiler: gcc 10.2.1
Ubuntu 18.04 ARM
Kernel: 5.4.0-53-generic
Compiler: gcc 9.3
To view detailed results, visit:
https://lab.dpdk.org/results/dashboard/patchsets/17135/
UNH-IOL DPDK Community Lab
To manage your email subscriptions, visit:
https://lab.dpdk.org/results/dashboard/preferences/subscriptions/
^ permalink raw reply [flat|nested] 10+ messages in thread
* [dpdk-test-report] |SUCCESS| pw93323-93324 [PATCH] [v6, 2/2] net/hns3: refactor SVE code compile method
@ 2021-05-21 1:56 dpdklab
0 siblings, 0 replies; 10+ messages in thread
From: dpdklab @ 2021-05-21 1:56 UTC (permalink / raw)
To: Test Report; +Cc: dpdk-test-reports
[-- Attachment #1: Type: text/plain, Size: 989 bytes --]
Test-Label: iol-intel-Functional
Test-Status: SUCCESS
http://dpdk.org/patch/93324
_Functional Testing PASS_
Submitter: fengchengwen <fengchengwen@huawei.com>
Date: Wednesday, May 19 2021 13:25:31
DPDK git baseline: Repo:dpdk
Branch: master
CommitID:947dff12bcf5023255433c9997710a5635522431
93323-93324 --> functional testing pass
Test environment and result as below:
Ubuntu 18.04
Kernel: 4.15.0-generic
Compiler: gcc 7.4
NIC: Intel Corporation Ethernet Converged Network Adapter 82599ES 10000 Mbps
Target: x86_64-native-linuxapp-gcc
Fail/Total: 0/5
Ubuntu 18.04 ARM
Kernel: 4.15.0-132-generic
Compiler: gcc 7.5
NIC: Arm Intel Corporation Ethernet Converged Network Adapter XL710-QDA2 40000 Mbps
Target: x86_64-native-linuxapp-gcc
Fail/Total: 0/5
To view detailed results, visit:
https://lab.dpdk.org/results/dashboard/patchsets/17135/
UNH-IOL DPDK Community Lab
To manage your email subscriptions, visit:
https://lab.dpdk.org/results/dashboard/preferences/subscriptions/
^ permalink raw reply [flat|nested] 10+ messages in thread
* [dpdk-test-report] |SUCCESS| pw93323-93324 [PATCH] [v6, 2/2] net/hns3: refactor SVE code compile method
@ 2021-05-21 1:42 dpdklab
0 siblings, 0 replies; 10+ messages in thread
From: dpdklab @ 2021-05-21 1:42 UTC (permalink / raw)
To: Test Report; +Cc: dpdk-test-reports
[-- Attachment #1: Type: text/plain, Size: 1932 bytes --]
Test-Label: iol-intel-Performance
Test-Status: SUCCESS
http://dpdk.org/patch/93324
_Performance Testing PASS_
Submitter: fengchengwen <fengchengwen@huawei.com>
Date: Wednesday, May 19 2021 13:25:31
DPDK git baseline: Repo:dpdk
Branch: master
CommitID:947dff12bcf5023255433c9997710a5635522431
93323-93324 --> performance testing pass
Test environment and result as below:
Ubuntu 18.04
Kernel: 4.15.0-generic
Compiler: gcc 7.4
NIC: Intel Corporation Ethernet Converged Network Adapter 82599ES 10000 Mbps
Target: x86_64-native-linuxapp-gcc
Fail/Total: 0/2
Detail performance results:
+------------+---------+-------------------------------------+
| frame_size | txd/rxd | throughput difference from expected |
+============+=========+=====================================+
| 64 | 512 | -0.44312% |
+------------+---------+-------------------------------------+
| 64 | 2048 | 0.20309% |
+------------+---------+-------------------------------------+
Ubuntu 18.04 ARM
Kernel: 4.15.0-132-generic
Compiler: gcc 7.5
NIC: Arm Intel Corporation Ethernet Converged Network Adapter XL710-QDA2 40000 Mbps
Target: x86_64-native-linuxapp-gcc
Fail/Total: 0/2
Detail performance results:
+------------+---------+-------------------------------------+
| frame_size | txd/rxd | throughput difference from expected |
+============+=========+=====================================+
| 64 | 512 | 0.21352% |
+------------+---------+-------------------------------------+
| 64 | 2048 | -0.01427% |
+------------+---------+-------------------------------------+
To view detailed results, visit:
https://lab.dpdk.org/results/dashboard/patchsets/17135/
UNH-IOL DPDK Community Lab
To manage your email subscriptions, visit:
https://lab.dpdk.org/results/dashboard/preferences/subscriptions/
^ permalink raw reply [flat|nested] 10+ messages in thread
* [dpdk-test-report] |SUCCESS| pw93323-93324 [PATCH] [v6, 2/2] net/hns3: refactor SVE code compile method
@ 2021-05-19 18:10 dpdklab
0 siblings, 0 replies; 10+ messages in thread
From: dpdklab @ 2021-05-19 18:10 UTC (permalink / raw)
To: Ali Alnubani, Test Report; +Cc: dpdk-test-reports
[-- Attachment #1: Type: text/plain, Size: 901 bytes --]
Test-Label: iol-mellanox-Functional
Test-Status: SUCCESS
http://dpdk.org/patch/93324
_Functional Testing PASS_
Submitter: fengchengwen <fengchengwen@huawei.com>
Date: Wednesday, May 19 2021 13:25:31
DPDK git baseline: Repo:dpdk
Branch: master
CommitID:947dff12bcf5023255433c9997710a5635522431
93323-93324 --> functional testing pass
Test environment and result as below:
Ubuntu 18.04
Kernel: 4.15.0-generic
Compiler: gcc 7.4
NIC: Mellanox ConnectX-4 Lx 40000 Mbps
Target: x86_64-native-linuxapp-gcc
Fail/Total: 0/5
Ubuntu 18.04
Kernel: 4.15.0-generic
Compiler: gcc 7.4
NIC: Mellanox ConnectX-4 Lx 25000 Mbps
Target: x86_64-native-linuxapp-gcc
Fail/Total: 0/5
To view detailed results, visit:
https://lab.dpdk.org/results/dashboard/patchsets/17135/
UNH-IOL DPDK Community Lab
To manage your email subscriptions, visit:
https://lab.dpdk.org/results/dashboard/preferences/subscriptions/
^ permalink raw reply [flat|nested] 10+ messages in thread
* [dpdk-test-report] |SUCCESS| pw93323-93324 [PATCH] [v6, 2/2] net/hns3: refactor SVE code compile method
@ 2021-05-19 17:29 dpdklab
0 siblings, 0 replies; 10+ messages in thread
From: dpdklab @ 2021-05-19 17:29 UTC (permalink / raw)
To: Ali Alnubani, Test Report; +Cc: dpdk-test-reports
[-- Attachment #1: Type: text/plain, Size: 3970 bytes --]
Test-Label: iol-mellanox-Performance
Test-Status: SUCCESS
http://dpdk.org/patch/93324
_Performance Testing PASS_
Submitter: fengchengwen <fengchengwen@huawei.com>
Date: Wednesday, May 19 2021 13:25:31
DPDK git baseline: Repo:dpdk
Branch: master
CommitID:947dff12bcf5023255433c9997710a5635522431
93323-93324 --> performance testing pass
Test environment and result as below:
Ubuntu 18.04
Kernel: 4.15.0-generic
Compiler: gcc 7.4
NIC: Mellanox ConnectX-4 Lx 40000 Mbps
Target: x86_64-native-linuxapp-gcc
Fail/Total: 0/6
Detail performance results:
+------------+---------+-------------------------------------+
| frame_size | txd/rxd | throughput difference from expected |
+============+=========+=====================================+
| 64 | 256 | 0.62796% |
+------------+---------+-------------------------------------+
| 128 | 256 | 0.90441% |
+------------+---------+-------------------------------------+
| 256 | 256 | -0.06219% |
+------------+---------+-------------------------------------+
| 512 | 256 | 0.00533% |
+------------+---------+-------------------------------------+
| 1024 | 256 | -0.17749% |
+------------+---------+-------------------------------------+
| 1518 | 256 | -0.29217% |
+------------+---------+-------------------------------------+
Ubuntu 18.04
Kernel: 4.15.0-generic
Compiler: gcc 7.4
NIC: Mellanox ConnectX-4 Lx 25000 Mbps
Target: x86_64-native-linuxapp-gcc
Fail/Total: 0/6
Detail performance results:
+------------+---------+-------------------------------------+
| frame_size | txd/rxd | throughput difference from expected |
+============+=========+=====================================+
| 64 | 256 | -0.46366% |
+------------+---------+-------------------------------------+
| 128 | 256 | 0.22114% |
+------------+---------+-------------------------------------+
| 256 | 256 | -1.09482% |
+------------+---------+-------------------------------------+
| 512 | 256 | 0.11984% |
+------------+---------+-------------------------------------+
| 1024 | 256 | 0.05019% |
+------------+---------+-------------------------------------+
| 1518 | 256 | -0.19685% |
+------------+---------+-------------------------------------+
Ubuntu 18.04
Kernel: 4.15.0-generic
Compiler: gcc 7.4
NIC: Mellanox ConnectX-5 100000 Mbps
Target: x86_64-native-linuxapp-gcc
Fail/Total: 0/6
Detail performance results:
+------------+---------+-------------------------------------+
| frame_size | txd/rxd | throughput difference from expected |
+============+=========+=====================================+
| 64 | 256 | -0.33466% |
+------------+---------+-------------------------------------+
| 128 | 256 | -0.23561% |
+------------+---------+-------------------------------------+
| 256 | 256 | -0.4194% |
+------------+---------+-------------------------------------+
| 512 | 256 | 0.57729% |
+------------+---------+-------------------------------------+
| 1024 | 256 | 0.99127% |
+------------+---------+-------------------------------------+
| 1518 | 256 | 0.22287% |
+------------+---------+-------------------------------------+
To view detailed results, visit:
https://lab.dpdk.org/results/dashboard/patchsets/17135/
UNH-IOL DPDK Community Lab
To manage your email subscriptions, visit:
https://lab.dpdk.org/results/dashboard/preferences/subscriptions/
^ permalink raw reply [flat|nested] 10+ messages in thread
* [dpdk-test-report] |SUCCESS| pw93323-93324 [PATCH] [v6, 2/2] net/hns3: refactor SVE code compile method
@ 2021-05-19 17:17 dpdklab
0 siblings, 0 replies; 10+ messages in thread
From: dpdklab @ 2021-05-19 17:17 UTC (permalink / raw)
To: Ali Alnubani, Test Report; +Cc: dpdk-test-reports
[-- Attachment #1: Type: text/plain, Size: 755 bytes --]
Test-Label: iol-mellanox-Functional
Test-Status: SUCCESS
http://dpdk.org/patch/93324
_Functional Testing PASS_
Submitter: fengchengwen <fengchengwen@huawei.com>
Date: Wednesday, May 19 2021 13:25:31
DPDK git baseline: Repo:dpdk
Branch: master
CommitID:947dff12bcf5023255433c9997710a5635522431
93323-93324 --> functional testing pass
Test environment and result as below:
Ubuntu 18.04
Kernel: 4.15.0-generic
Compiler: gcc 7.4
NIC: Mellanox ConnectX-4 Lx 40000 Mbps
Target: x86_64-native-linuxapp-gcc
Fail/Total: 0/5
To view detailed results, visit:
https://lab.dpdk.org/results/dashboard/patchsets/17135/
UNH-IOL DPDK Community Lab
To manage your email subscriptions, visit:
https://lab.dpdk.org/results/dashboard/preferences/subscriptions/
^ permalink raw reply [flat|nested] 10+ messages in thread
* [dpdk-test-report] |SUCCESS| pw93323-93324 [PATCH] [v6, 2/2] net/hns3: refactor SVE code compile method
@ 2021-05-19 16:36 dpdklab
0 siblings, 0 replies; 10+ messages in thread
From: dpdklab @ 2021-05-19 16:36 UTC (permalink / raw)
To: Ali Alnubani, Test Report; +Cc: dpdk-test-reports
[-- Attachment #1: Type: text/plain, Size: 2852 bytes --]
Test-Label: iol-mellanox-Performance
Test-Status: SUCCESS
http://dpdk.org/patch/93324
_Performance Testing PASS_
Submitter: fengchengwen <fengchengwen@huawei.com>
Date: Wednesday, May 19 2021 13:25:31
DPDK git baseline: Repo:dpdk
Branch: master
CommitID:947dff12bcf5023255433c9997710a5635522431
93323-93324 --> performance testing pass
Test environment and result as below:
Ubuntu 18.04
Kernel: 4.15.0-generic
Compiler: gcc 7.4
NIC: Mellanox ConnectX-4 Lx 40000 Mbps
Target: x86_64-native-linuxapp-gcc
Fail/Total: 0/6
Detail performance results:
+------------+---------+-------------------------------------+
| frame_size | txd/rxd | throughput difference from expected |
+============+=========+=====================================+
| 64 | 256 | 0.62796% |
+------------+---------+-------------------------------------+
| 128 | 256 | 0.90441% |
+------------+---------+-------------------------------------+
| 256 | 256 | -0.06219% |
+------------+---------+-------------------------------------+
| 512 | 256 | 0.00533% |
+------------+---------+-------------------------------------+
| 1024 | 256 | -0.17749% |
+------------+---------+-------------------------------------+
| 1518 | 256 | -0.29217% |
+------------+---------+-------------------------------------+
Ubuntu 18.04
Kernel: 4.15.0-generic
Compiler: gcc 7.4
NIC: Mellanox ConnectX-4 Lx 25000 Mbps
Target: x86_64-native-linuxapp-gcc
Fail/Total: 0/6
Detail performance results:
+------------+---------+-------------------------------------+
| frame_size | txd/rxd | throughput difference from expected |
+============+=========+=====================================+
| 64 | 256 | -0.46366% |
+------------+---------+-------------------------------------+
| 128 | 256 | 0.22114% |
+------------+---------+-------------------------------------+
| 256 | 256 | -1.09482% |
+------------+---------+-------------------------------------+
| 512 | 256 | 0.11984% |
+------------+---------+-------------------------------------+
| 1024 | 256 | 0.05019% |
+------------+---------+-------------------------------------+
| 1518 | 256 | -0.19685% |
+------------+---------+-------------------------------------+
To view detailed results, visit:
https://lab.dpdk.org/results/dashboard/patchsets/17135/
UNH-IOL DPDK Community Lab
To manage your email subscriptions, visit:
https://lab.dpdk.org/results/dashboard/preferences/subscriptions/
^ permalink raw reply [flat|nested] 10+ messages in thread
* [dpdk-test-report] |SUCCESS| pw93323-93324 [PATCH] [v6, 2/2] net/hns3: refactor SVE code compile method
@ 2021-05-19 16:24 dpdklab
0 siblings, 0 replies; 10+ messages in thread
From: dpdklab @ 2021-05-19 16:24 UTC (permalink / raw)
To: Ali Alnubani, Test Report; +Cc: dpdk-test-reports
[-- Attachment #1: Type: text/plain, Size: 1732 bytes --]
Test-Label: iol-mellanox-Performance
Test-Status: SUCCESS
http://dpdk.org/patch/93324
_Performance Testing PASS_
Submitter: fengchengwen <fengchengwen@huawei.com>
Date: Wednesday, May 19 2021 13:25:31
DPDK git baseline: Repo:dpdk
Branch: master
CommitID:947dff12bcf5023255433c9997710a5635522431
93323-93324 --> performance testing pass
Test environment and result as below:
Ubuntu 18.04
Kernel: 4.15.0-generic
Compiler: gcc 7.4
NIC: Mellanox ConnectX-4 Lx 40000 Mbps
Target: x86_64-native-linuxapp-gcc
Fail/Total: 0/6
Detail performance results:
+------------+---------+-------------------------------------+
| frame_size | txd/rxd | throughput difference from expected |
+============+=========+=====================================+
| 64 | 256 | 0.62796% |
+------------+---------+-------------------------------------+
| 128 | 256 | 0.90441% |
+------------+---------+-------------------------------------+
| 256 | 256 | -0.06219% |
+------------+---------+-------------------------------------+
| 512 | 256 | 0.00533% |
+------------+---------+-------------------------------------+
| 1024 | 256 | -0.17749% |
+------------+---------+-------------------------------------+
| 1518 | 256 | -0.29217% |
+------------+---------+-------------------------------------+
To view detailed results, visit:
https://lab.dpdk.org/results/dashboard/patchsets/17135/
UNH-IOL DPDK Community Lab
To manage your email subscriptions, visit:
https://lab.dpdk.org/results/dashboard/preferences/subscriptions/
^ permalink raw reply [flat|nested] 10+ messages in thread
* [dpdk-test-report] |SUCCESS| pw93323-93324 [PATCH] [v6, 2/2] net/hns3: refactor SVE code compile method
@ 2021-05-19 14:02 dpdklab
0 siblings, 0 replies; 10+ messages in thread
From: dpdklab @ 2021-05-19 14:02 UTC (permalink / raw)
To: Test Report; +Cc: dpdk-test-reports
[-- Attachment #1: Type: text/plain, Size: 1263 bytes --]
Test-Label: iol-intel-Performance
Test-Status: SUCCESS
http://dpdk.org/patch/93324
_Performance Testing PASS_
Submitter: fengchengwen <fengchengwen@huawei.com>
Date: Wednesday, May 19 2021 13:25:31
DPDK git baseline: Repo:dpdk
Branch: master
CommitID:947dff12bcf5023255433c9997710a5635522431
93323-93324 --> performance testing pass
Test environment and result as below:
Ubuntu 18.04
Kernel: 4.15.0-generic
Compiler: gcc 7.4
NIC: Intel Corporation Ethernet Converged Network Adapter 82599ES 10000 Mbps
Target: x86_64-native-linuxapp-gcc
Fail/Total: 0/2
Detail performance results:
+------------+---------+-------------------------------------+
| frame_size | txd/rxd | throughput difference from expected |
+============+=========+=====================================+
| 64 | 512 | -0.44312% |
+------------+---------+-------------------------------------+
| 64 | 2048 | 0.20309% |
+------------+---------+-------------------------------------+
To view detailed results, visit:
https://lab.dpdk.org/results/dashboard/patchsets/17135/
UNH-IOL DPDK Community Lab
To manage your email subscriptions, visit:
https://lab.dpdk.org/results/dashboard/preferences/subscriptions/
^ permalink raw reply [flat|nested] 10+ messages in thread
* [dpdk-test-report] |SUCCESS| pw93323-93324 [PATCH] [v6, 2/2] net/hns3: refactor SVE code compile method
@ 2021-05-19 13:55 dpdklab
0 siblings, 0 replies; 10+ messages in thread
From: dpdklab @ 2021-05-19 13:55 UTC (permalink / raw)
To: Test Report; +Cc: dpdk-test-reports
[-- Attachment #1: Type: text/plain, Size: 790 bytes --]
Test-Label: iol-intel-Functional
Test-Status: SUCCESS
http://dpdk.org/patch/93324
_Functional Testing PASS_
Submitter: fengchengwen <fengchengwen@huawei.com>
Date: Wednesday, May 19 2021 13:25:31
DPDK git baseline: Repo:dpdk
Branch: master
CommitID:947dff12bcf5023255433c9997710a5635522431
93323-93324 --> functional testing pass
Test environment and result as below:
Ubuntu 18.04
Kernel: 4.15.0-generic
Compiler: gcc 7.4
NIC: Intel Corporation Ethernet Converged Network Adapter 82599ES 10000 Mbps
Target: x86_64-native-linuxapp-gcc
Fail/Total: 0/5
To view detailed results, visit:
https://lab.dpdk.org/results/dashboard/patchsets/17135/
UNH-IOL DPDK Community Lab
To manage your email subscriptions, visit:
https://lab.dpdk.org/results/dashboard/preferences/subscriptions/
^ permalink raw reply [flat|nested] 10+ messages in thread
end of thread, other threads:[~2021-05-21 1:56 UTC | newest]
Thread overview: 10+ messages (download: mbox.gz / follow: Atom feed)
-- links below jump to the message on this page --
2021-05-19 14:05 [dpdk-test-report] |SUCCESS| pw93323-93324 [PATCH] [v6, 2/2] net/hns3: refactor SVE code compile method dpdklab
-- strict thread matches above, loose matches on Subject: below --
2021-05-21 1:56 dpdklab
2021-05-21 1:42 dpdklab
2021-05-19 18:10 dpdklab
2021-05-19 17:29 dpdklab
2021-05-19 17:17 dpdklab
2021-05-19 16:36 dpdklab
2021-05-19 16:24 dpdklab
2021-05-19 14:02 dpdklab
2021-05-19 13:55 dpdklab
This is a public inbox, see mirroring instructions
for how to clone and mirror all data and code used for this inbox;
as well as URLs for NNTP newsgroup(s).