* [dpdk-test-report] |SUCCESS| pw93326 [PATCH] ethdev: fix comments of packet integrity flow item
@ 2021-05-19 23:38 dpdklab
0 siblings, 0 replies; 9+ messages in thread
From: dpdklab @ 2021-05-19 23:38 UTC (permalink / raw)
To: Ali Alnubani, Test Report; +Cc: dpdk-test-reports
[-- Attachment #1: Type: text/plain, Size: 894 bytes --]
Test-Label: iol-mellanox-Functional
Test-Status: SUCCESS
http://dpdk.org/patch/93326
_Functional Testing PASS_
Submitter: Thomas Monjalon <thomas@monjalon.net>
Date: Wednesday, May 19 2021 16:27:25
DPDK git baseline: Repo:dpdk
Branch: master
CommitID:947dff12bcf5023255433c9997710a5635522431
93326 --> functional testing pass
Test environment and result as below:
Ubuntu 18.04
Kernel: 4.15.0-generic
Compiler: gcc 7.4
NIC: Mellanox ConnectX-4 Lx 25000 Mbps
Target: x86_64-native-linuxapp-gcc
Fail/Total: 0/5
Ubuntu 18.04
Kernel: 4.15.0-generic
Compiler: gcc 7.4
NIC: Mellanox ConnectX-4 Lx 40000 Mbps
Target: x86_64-native-linuxapp-gcc
Fail/Total: 0/5
To view detailed results, visit:
https://lab.dpdk.org/results/dashboard/patchsets/17137/
UNH-IOL DPDK Community Lab
To manage your email subscriptions, visit:
https://lab.dpdk.org/results/dashboard/preferences/subscriptions/
^ permalink raw reply [flat|nested] 9+ messages in thread
* [dpdk-test-report] |SUCCESS| pw93326 [PATCH] ethdev: fix comments of packet integrity flow item
@ 2021-05-21 5:08 dpdklab
0 siblings, 0 replies; 9+ messages in thread
From: dpdklab @ 2021-05-21 5:08 UTC (permalink / raw)
To: Test Report; +Cc: dpdk-test-reports
[-- Attachment #1: Type: text/plain, Size: 1925 bytes --]
Test-Label: iol-intel-Performance
Test-Status: SUCCESS
http://dpdk.org/patch/93326
_Performance Testing PASS_
Submitter: Thomas Monjalon <thomas@monjalon.net>
Date: Wednesday, May 19 2021 16:27:25
DPDK git baseline: Repo:dpdk
Branch: master
CommitID:947dff12bcf5023255433c9997710a5635522431
93326 --> performance testing pass
Test environment and result as below:
Ubuntu 18.04
Kernel: 4.15.0-generic
Compiler: gcc 7.4
NIC: Intel Corporation Ethernet Converged Network Adapter 82599ES 10000 Mbps
Target: x86_64-native-linuxapp-gcc
Fail/Total: 0/2
Detail performance results:
+------------+---------+-------------------------------------+
| frame_size | txd/rxd | throughput difference from expected |
+============+=========+=====================================+
| 64 | 512 | -0.07858% |
+------------+---------+-------------------------------------+
| 64 | 2048 | 0.64593% |
+------------+---------+-------------------------------------+
Ubuntu 18.04 ARM
Kernel: 4.15.0-132-generic
Compiler: gcc 7.5
NIC: Arm Intel Corporation Ethernet Converged Network Adapter XL710-QDA2 40000 Mbps
Target: x86_64-native-linuxapp-gcc
Fail/Total: 0/2
Detail performance results:
+------------+---------+-------------------------------------+
| frame_size | txd/rxd | throughput difference from expected |
+============+=========+=====================================+
| 64 | 512 | -0.2847% |
+------------+---------+-------------------------------------+
| 64 | 2048 | 0.15694% |
+------------+---------+-------------------------------------+
To view detailed results, visit:
https://lab.dpdk.org/results/dashboard/patchsets/17137/
UNH-IOL DPDK Community Lab
To manage your email subscriptions, visit:
https://lab.dpdk.org/results/dashboard/preferences/subscriptions/
^ permalink raw reply [flat|nested] 9+ messages in thread
* [dpdk-test-report] |SUCCESS| pw93326 [PATCH] ethdev: fix comments of packet integrity flow item
@ 2021-05-20 0:03 dpdklab
0 siblings, 0 replies; 9+ messages in thread
From: dpdklab @ 2021-05-20 0:03 UTC (permalink / raw)
To: Ali Alnubani, Test Report; +Cc: dpdk-test-reports
[-- Attachment #1: Type: text/plain, Size: 3963 bytes --]
Test-Label: iol-mellanox-Performance
Test-Status: SUCCESS
http://dpdk.org/patch/93326
_Performance Testing PASS_
Submitter: Thomas Monjalon <thomas@monjalon.net>
Date: Wednesday, May 19 2021 16:27:25
DPDK git baseline: Repo:dpdk
Branch: master
CommitID:947dff12bcf5023255433c9997710a5635522431
93326 --> performance testing pass
Test environment and result as below:
Ubuntu 18.04
Kernel: 4.15.0-generic
Compiler: gcc 7.4
NIC: Mellanox ConnectX-5 100000 Mbps
Target: x86_64-native-linuxapp-gcc
Fail/Total: 0/6
Detail performance results:
+------------+---------+-------------------------------------+
| frame_size | txd/rxd | throughput difference from expected |
+============+=========+=====================================+
| 64 | 256 | 0.02587% |
+------------+---------+-------------------------------------+
| 128 | 256 | 0.00736% |
+------------+---------+-------------------------------------+
| 256 | 256 | 0.09736% |
+------------+---------+-------------------------------------+
| 512 | 256 | 0.83041% |
+------------+---------+-------------------------------------+
| 1024 | 256 | 0.46598% |
+------------+---------+-------------------------------------+
| 1518 | 256 | -0.05865% |
+------------+---------+-------------------------------------+
Ubuntu 18.04
Kernel: 4.15.0-generic
Compiler: gcc 7.4
NIC: Mellanox ConnectX-4 Lx 40000 Mbps
Target: x86_64-native-linuxapp-gcc
Fail/Total: 0/6
Detail performance results:
+------------+---------+-------------------------------------+
| frame_size | txd/rxd | throughput difference from expected |
+============+=========+=====================================+
| 64 | 256 | 0.12274% |
+------------+---------+-------------------------------------+
| 128 | 256 | 1.35375% |
+------------+---------+-------------------------------------+
| 256 | 256 | 0.30365% |
+------------+---------+-------------------------------------+
| 512 | 256 | 0.11184% |
+------------+---------+-------------------------------------+
| 1024 | 256 | -0.22969% |
+------------+---------+-------------------------------------+
| 1518 | 256 | -0.26142% |
+------------+---------+-------------------------------------+
Ubuntu 18.04
Kernel: 4.15.0-generic
Compiler: gcc 7.4
NIC: Mellanox ConnectX-4 Lx 25000 Mbps
Target: x86_64-native-linuxapp-gcc
Fail/Total: 0/6
Detail performance results:
+------------+---------+-------------------------------------+
| frame_size | txd/rxd | throughput difference from expected |
+============+=========+=====================================+
| 64 | 256 | 0.25162% |
+------------+---------+-------------------------------------+
| 128 | 256 | 0.05874% |
+------------+---------+-------------------------------------+
| 256 | 256 | -0.44585% |
+------------+---------+-------------------------------------+
| 512 | 256 | -0.26537% |
+------------+---------+-------------------------------------+
| 1024 | 256 | 0.10038% |
+------------+---------+-------------------------------------+
| 1518 | 256 | -0.24606% |
+------------+---------+-------------------------------------+
To view detailed results, visit:
https://lab.dpdk.org/results/dashboard/patchsets/17137/
UNH-IOL DPDK Community Lab
To manage your email subscriptions, visit:
https://lab.dpdk.org/results/dashboard/preferences/subscriptions/
^ permalink raw reply [flat|nested] 9+ messages in thread
* [dpdk-test-report] |SUCCESS| pw93326 [PATCH] ethdev: fix comments of packet integrity flow item
@ 2021-05-19 23:51 dpdklab
0 siblings, 0 replies; 9+ messages in thread
From: dpdklab @ 2021-05-19 23:51 UTC (permalink / raw)
To: Ali Alnubani, Test Report; +Cc: dpdk-test-reports
[-- Attachment #1: Type: text/plain, Size: 2843 bytes --]
Test-Label: iol-mellanox-Performance
Test-Status: SUCCESS
http://dpdk.org/patch/93326
_Performance Testing PASS_
Submitter: Thomas Monjalon <thomas@monjalon.net>
Date: Wednesday, May 19 2021 16:27:25
DPDK git baseline: Repo:dpdk
Branch: master
CommitID:947dff12bcf5023255433c9997710a5635522431
93326 --> performance testing pass
Test environment and result as below:
Ubuntu 18.04
Kernel: 4.15.0-generic
Compiler: gcc 7.4
NIC: Mellanox ConnectX-5 100000 Mbps
Target: x86_64-native-linuxapp-gcc
Fail/Total: 0/6
Detail performance results:
+------------+---------+-------------------------------------+
| frame_size | txd/rxd | throughput difference from expected |
+============+=========+=====================================+
| 64 | 256 | 0.02587% |
+------------+---------+-------------------------------------+
| 128 | 256 | 0.00736% |
+------------+---------+-------------------------------------+
| 256 | 256 | 0.09736% |
+------------+---------+-------------------------------------+
| 512 | 256 | 0.83041% |
+------------+---------+-------------------------------------+
| 1024 | 256 | 0.46598% |
+------------+---------+-------------------------------------+
| 1518 | 256 | -0.05865% |
+------------+---------+-------------------------------------+
Ubuntu 18.04
Kernel: 4.15.0-generic
Compiler: gcc 7.4
NIC: Mellanox ConnectX-4 Lx 40000 Mbps
Target: x86_64-native-linuxapp-gcc
Fail/Total: 0/6
Detail performance results:
+------------+---------+-------------------------------------+
| frame_size | txd/rxd | throughput difference from expected |
+============+=========+=====================================+
| 64 | 256 | 0.12274% |
+------------+---------+-------------------------------------+
| 128 | 256 | 1.35375% |
+------------+---------+-------------------------------------+
| 256 | 256 | 0.30365% |
+------------+---------+-------------------------------------+
| 512 | 256 | 0.11184% |
+------------+---------+-------------------------------------+
| 1024 | 256 | -0.22969% |
+------------+---------+-------------------------------------+
| 1518 | 256 | -0.26142% |
+------------+---------+-------------------------------------+
To view detailed results, visit:
https://lab.dpdk.org/results/dashboard/patchsets/17137/
UNH-IOL DPDK Community Lab
To manage your email subscriptions, visit:
https://lab.dpdk.org/results/dashboard/preferences/subscriptions/
^ permalink raw reply [flat|nested] 9+ messages in thread
* [dpdk-test-report] |SUCCESS| pw93326 [PATCH] ethdev: fix comments of packet integrity flow item
@ 2021-05-19 22:58 dpdklab
0 siblings, 0 replies; 9+ messages in thread
From: dpdklab @ 2021-05-19 22:58 UTC (permalink / raw)
To: Ali Alnubani, Test Report; +Cc: dpdk-test-reports
[-- Attachment #1: Type: text/plain, Size: 1723 bytes --]
Test-Label: iol-mellanox-Performance
Test-Status: SUCCESS
http://dpdk.org/patch/93326
_Performance Testing PASS_
Submitter: Thomas Monjalon <thomas@monjalon.net>
Date: Wednesday, May 19 2021 16:27:25
DPDK git baseline: Repo:dpdk
Branch: master
CommitID:947dff12bcf5023255433c9997710a5635522431
93326 --> performance testing pass
Test environment and result as below:
Ubuntu 18.04
Kernel: 4.15.0-generic
Compiler: gcc 7.4
NIC: Mellanox ConnectX-5 100000 Mbps
Target: x86_64-native-linuxapp-gcc
Fail/Total: 0/6
Detail performance results:
+------------+---------+-------------------------------------+
| frame_size | txd/rxd | throughput difference from expected |
+============+=========+=====================================+
| 64 | 256 | 0.02587% |
+------------+---------+-------------------------------------+
| 128 | 256 | 0.00736% |
+------------+---------+-------------------------------------+
| 256 | 256 | 0.09736% |
+------------+---------+-------------------------------------+
| 512 | 256 | 0.83041% |
+------------+---------+-------------------------------------+
| 1024 | 256 | 0.46598% |
+------------+---------+-------------------------------------+
| 1518 | 256 | -0.05865% |
+------------+---------+-------------------------------------+
To view detailed results, visit:
https://lab.dpdk.org/results/dashboard/patchsets/17137/
UNH-IOL DPDK Community Lab
To manage your email subscriptions, visit:
https://lab.dpdk.org/results/dashboard/preferences/subscriptions/
^ permalink raw reply [flat|nested] 9+ messages in thread
* [dpdk-test-report] |SUCCESS| pw93326 [PATCH] ethdev: fix comments of packet integrity flow item
@ 2021-05-19 22:45 dpdklab
0 siblings, 0 replies; 9+ messages in thread
From: dpdklab @ 2021-05-19 22:45 UTC (permalink / raw)
To: Ali Alnubani, Test Report; +Cc: dpdk-test-reports
[-- Attachment #1: Type: text/plain, Size: 748 bytes --]
Test-Label: iol-mellanox-Functional
Test-Status: SUCCESS
http://dpdk.org/patch/93326
_Functional Testing PASS_
Submitter: Thomas Monjalon <thomas@monjalon.net>
Date: Wednesday, May 19 2021 16:27:25
DPDK git baseline: Repo:dpdk
Branch: master
CommitID:947dff12bcf5023255433c9997710a5635522431
93326 --> functional testing pass
Test environment and result as below:
Ubuntu 18.04
Kernel: 4.15.0-generic
Compiler: gcc 7.4
NIC: Mellanox ConnectX-4 Lx 25000 Mbps
Target: x86_64-native-linuxapp-gcc
Fail/Total: 0/5
To view detailed results, visit:
https://lab.dpdk.org/results/dashboard/patchsets/17137/
UNH-IOL DPDK Community Lab
To manage your email subscriptions, visit:
https://lab.dpdk.org/results/dashboard/preferences/subscriptions/
^ permalink raw reply [flat|nested] 9+ messages in thread
* [dpdk-test-report] |SUCCESS| pw93326 [PATCH] ethdev: fix comments of packet integrity flow item
@ 2021-05-19 16:59 dpdklab
0 siblings, 0 replies; 9+ messages in thread
From: dpdklab @ 2021-05-19 16:59 UTC (permalink / raw)
To: Test Report; +Cc: dpdk-test-reports
[-- Attachment #1: Type: text/plain, Size: 2273 bytes --]
Test-Label: iol-abi-testing
Test-Status: SUCCESS
http://dpdk.org/patch/93326
_Testing PASS_
Submitter: Thomas Monjalon <thomas@monjalon.net>
Date: Wednesday, May 19 2021 16:27:25
DPDK git baseline: Repo:dpdk
Branch: master
CommitID:947dff12bcf5023255433c9997710a5635522431
93326 --> testing pass
Test environment and result as below:
+------------------+----------+
| Environment | abi_test |
+==================+==========+
| CentOS 8 | PASS |
+------------------+----------+
| Ubuntu 18.04 | PASS |
+------------------+----------+
| Arch Linux | PASS |
+------------------+----------+
| RHEL8 | PASS |
+------------------+----------+
| RHEL 7 | PASS |
+------------------+----------+
| Ubuntu 20.04 | PASS |
+------------------+----------+
| Ubuntu 18.04 ARM | PASS |
+------------------+----------+
| CentOS Stream 8 | PASS |
+------------------+----------+
| openSUSE Leap 15 | PASS |
+------------------+----------+
| Fedora 32 | PASS |
+------------------+----------+
| Fedora 31 | PASS |
+------------------+----------+
CentOS 8
Kernel: 4.18.0-240.10.1.el8_3.x86_64
Compiler: gcc 8.3.1 20191121 (Red Hat 8.3.1-5)
Ubuntu 18.04
Kernel: 4.18.0-240.10.1.el8_3.x86_64
Compiler: gcc 7.5.0-3ubuntu1~18.04
Arch Linux
Kernel: 4.18.0-240.10.1.el8_3.x86_64
Compiler: gcc 10.2.0
RHEL8
Kernel: 4.18.0-240.10.1.el8_3.x86_64
Compiler: gcc 8.3.1 20191121 (Red Hat 8.3.1-5)
RHEL 7
Kernel: 4.18.0-240.10.1.el8_3.x86_64
Compiler: gcc 4.8.5 20150623 (Red Hat 4.8.5-44)
Ubuntu 20.04
Kernel: 4.18.0-240.10.1.el8_3.x86_64
Compiler: gcc 9.3.0-17ubuntu1~20.04
Ubuntu 18.04 ARM
Kernel: 5.4.0-53-generic
Compiler: gcc 9.3
CentOS Stream 8
Kernel: 4.18.0-240.10.1.el8_3.x86_64
Compiler: gcc 8.4.1 20200928
openSUSE Leap 15
Kernel: 4.18.0-240.10.1.el8_3.x86_64
Compiler: gcc 7.5.0
Fedora 32
Kernel: 4.18.0-240.10.1.el8_3.x86_64
Compiler: gcc 10.2.1
Fedora 31
Kernel: 4.18.0-240.10.1.el8_3.x86_64
Compiler: gcc 9.3.1
To view detailed results, visit:
https://lab.dpdk.org/results/dashboard/patchsets/17137/
UNH-IOL DPDK Community Lab
To manage your email subscriptions, visit:
https://lab.dpdk.org/results/dashboard/preferences/subscriptions/
^ permalink raw reply [flat|nested] 9+ messages in thread
* [dpdk-test-report] |SUCCESS| pw93326 [PATCH] ethdev: fix comments of packet integrity flow item
@ 2021-05-19 16:57 dpdklab
0 siblings, 0 replies; 9+ messages in thread
From: dpdklab @ 2021-05-19 16:57 UTC (permalink / raw)
To: Test Report; +Cc: dpdk-test-reports
[-- Attachment #1: Type: text/plain, Size: 1256 bytes --]
Test-Label: iol-intel-Performance
Test-Status: SUCCESS
http://dpdk.org/patch/93326
_Performance Testing PASS_
Submitter: Thomas Monjalon <thomas@monjalon.net>
Date: Wednesday, May 19 2021 16:27:25
DPDK git baseline: Repo:dpdk
Branch: master
CommitID:947dff12bcf5023255433c9997710a5635522431
93326 --> performance testing pass
Test environment and result as below:
Ubuntu 18.04
Kernel: 4.15.0-generic
Compiler: gcc 7.4
NIC: Intel Corporation Ethernet Converged Network Adapter 82599ES 10000 Mbps
Target: x86_64-native-linuxapp-gcc
Fail/Total: 0/2
Detail performance results:
+------------+---------+-------------------------------------+
| frame_size | txd/rxd | throughput difference from expected |
+============+=========+=====================================+
| 64 | 512 | -0.07858% |
+------------+---------+-------------------------------------+
| 64 | 2048 | 0.64593% |
+------------+---------+-------------------------------------+
To view detailed results, visit:
https://lab.dpdk.org/results/dashboard/patchsets/17137/
UNH-IOL DPDK Community Lab
To manage your email subscriptions, visit:
https://lab.dpdk.org/results/dashboard/preferences/subscriptions/
^ permalink raw reply [flat|nested] 9+ messages in thread
* [dpdk-test-report] |SUCCESS| pw93326 [PATCH] ethdev: fix comments of packet integrity flow item
[not found] <20210519162725.2179226-1-thomas@monjalon.net>
@ 2021-05-19 16:29 ` checkpatch
0 siblings, 0 replies; 9+ messages in thread
From: checkpatch @ 2021-05-19 16:29 UTC (permalink / raw)
To: test-report
Test-Label: checkpatch
Test-Status: SUCCESS
http://dpdk.org/patch/93326
_coding style OK_
^ permalink raw reply [flat|nested] 9+ messages in thread
end of thread, other threads:[~2021-05-21 5:09 UTC | newest]
Thread overview: 9+ messages (download: mbox.gz / follow: Atom feed)
-- links below jump to the message on this page --
2021-05-19 23:38 [dpdk-test-report] |SUCCESS| pw93326 [PATCH] ethdev: fix comments of packet integrity flow item dpdklab
-- strict thread matches above, loose matches on Subject: below --
2021-05-21 5:08 dpdklab
2021-05-20 0:03 dpdklab
2021-05-19 23:51 dpdklab
2021-05-19 22:58 dpdklab
2021-05-19 22:45 dpdklab
2021-05-19 16:59 dpdklab
2021-05-19 16:57 dpdklab
[not found] <20210519162725.2179226-1-thomas@monjalon.net>
2021-05-19 16:29 ` checkpatch
This is a public inbox, see mirroring instructions
for how to clone and mirror all data and code used for this inbox;
as well as URLs for NNTP newsgroup(s).