* [dpdk-test-report] |SUCCESS| pw93392 [PATCH] net/ice: fix wrong data path selection in secondary process
@ 2021-05-24 16:05 dpdklab
0 siblings, 0 replies; 8+ messages in thread
From: dpdklab @ 2021-05-24 16:05 UTC (permalink / raw)
To: Ali Alnubani, Test Report; +Cc: dpdk-test-reports
[-- Attachment #1: Type: text/plain, Size: 739 bytes --]
Test-Label: iol-mellanox-Functional
Test-Status: SUCCESS
http://dpdk.org/patch/93392
_Functional Testing PASS_
Submitter: Qi Zhang <qi.z.zhang@intel.com>
Date: Monday, May 24 2021 09:07:59
DPDK git baseline: Repo:dpdk
Branch: master
CommitID:66b3a54b9feab193a5cf8ad54606d745078587cc
93392 --> functional testing pass
Test environment and result as below:
Ubuntu 18.04
Kernel: 4.15.0-generic
Compiler: gcc 7.4
NIC: Mellanox ConnectX-4 Lx 40000 Mbps
Target: x86_64-native-linuxapp-gcc
Fail/Total: 0/4
To view detailed results, visit:
https://lab.dpdk.org/results/dashboard/patchsets/17187/
UNH-IOL DPDK Community Lab
To manage your email subscriptions, visit:
https://lab.dpdk.org/results/dashboard/preferences/subscriptions/
^ permalink raw reply [flat|nested] 8+ messages in thread
* [dpdk-test-report] |SUCCESS| pw93392 [PATCH] net/ice: fix wrong data path selection in secondary process
@ 2021-05-25 14:52 dpdklab
0 siblings, 0 replies; 8+ messages in thread
From: dpdklab @ 2021-05-25 14:52 UTC (permalink / raw)
To: Test Report; +Cc: dpdk-test-reports
[-- Attachment #1: Type: text/plain, Size: 774 bytes --]
Test-Label: iol-intel-Functional
Test-Status: SUCCESS
http://dpdk.org/patch/93392
_Functional Testing PASS_
Submitter: Qi Zhang <qi.z.zhang@intel.com>
Date: Monday, May 24 2021 09:07:59
DPDK git baseline: Repo:dpdk
Branch: master
CommitID:66b3a54b9feab193a5cf8ad54606d745078587cc
93392 --> functional testing pass
Test environment and result as below:
Ubuntu 18.04
Kernel: 4.15.0-generic
Compiler: gcc 7.4
NIC: Intel Corporation Ethernet Converged Network Adapter 82599ES 10000 Mbps
Target: x86_64-native-linuxapp-gcc
Fail/Total: 0/5
To view detailed results, visit:
https://lab.dpdk.org/results/dashboard/patchsets/17187/
UNH-IOL DPDK Community Lab
To manage your email subscriptions, visit:
https://lab.dpdk.org/results/dashboard/preferences/subscriptions/
^ permalink raw reply [flat|nested] 8+ messages in thread
* [dpdk-test-report] |SUCCESS| pw93392 [PATCH] net/ice: fix wrong data path selection in secondary process
@ 2021-05-24 16:56 dpdklab
0 siblings, 0 replies; 8+ messages in thread
From: dpdklab @ 2021-05-24 16:56 UTC (permalink / raw)
To: Ali Alnubani, Test Report; +Cc: dpdk-test-reports
[-- Attachment #1: Type: text/plain, Size: 3954 bytes --]
Test-Label: iol-mellanox-Performance
Test-Status: SUCCESS
http://dpdk.org/patch/93392
_Performance Testing PASS_
Submitter: Qi Zhang <qi.z.zhang@intel.com>
Date: Monday, May 24 2021 09:07:59
DPDK git baseline: Repo:dpdk
Branch: master
CommitID:66b3a54b9feab193a5cf8ad54606d745078587cc
93392 --> performance testing pass
Test environment and result as below:
Ubuntu 18.04
Kernel: 4.15.0-generic
Compiler: gcc 7.4
NIC: Mellanox ConnectX-5 100000 Mbps
Target: x86_64-native-linuxapp-gcc
Fail/Total: 0/6
Detail performance results:
+------------+---------+-------------------------------------+
| frame_size | txd/rxd | throughput difference from expected |
+============+=========+=====================================+
| 64 | 256 | -0.51736% |
+------------+---------+-------------------------------------+
| 128 | 256 | -0.04602% |
+------------+---------+-------------------------------------+
| 256 | 256 | -0.03745% |
+------------+---------+-------------------------------------+
| 512 | 256 | -0.31973% |
+------------+---------+-------------------------------------+
| 1024 | 256 | -0.55918% |
+------------+---------+-------------------------------------+
| 1518 | 256 | 0.08211% |
+------------+---------+-------------------------------------+
Ubuntu 18.04
Kernel: 4.15.0-generic
Compiler: gcc 7.4
NIC: Mellanox ConnectX-4 Lx 25000 Mbps
Target: x86_64-native-linuxapp-gcc
Fail/Total: 0/6
Detail performance results:
+------------+---------+-------------------------------------+
| frame_size | txd/rxd | throughput difference from expected |
+============+=========+=====================================+
| 64 | 256 | -0.53999% |
+------------+---------+-------------------------------------+
| 128 | 256 | -0.10711% |
+------------+---------+-------------------------------------+
| 256 | 256 | -0.17834% |
+------------+---------+-------------------------------------+
| 512 | 256 | -0.07704% |
+------------+---------+-------------------------------------+
| 1024 | 256 | 0.16731% |
+------------+---------+-------------------------------------+
| 1518 | 256 | -0.09843% |
+------------+---------+-------------------------------------+
Ubuntu 18.04
Kernel: 4.15.0-generic
Compiler: gcc 7.4
NIC: Mellanox ConnectX-4 Lx 40000 Mbps
Target: x86_64-native-linuxapp-gcc
Fail/Total: 0/6
Detail performance results:
+------------+---------+-------------------------------------+
| frame_size | txd/rxd | throughput difference from expected |
+============+=========+=====================================+
| 64 | 256 | 0.30542% |
+------------+---------+-------------------------------------+
| 128 | 256 | 1.19061% |
+------------+---------+-------------------------------------+
| 256 | 256 | 0.54145% |
+------------+---------+-------------------------------------+
| 512 | 256 | 0.05326% |
+------------+---------+-------------------------------------+
| 1024 | 256 | -0.12529% |
+------------+---------+-------------------------------------+
| 1518 | 256 | -0.2768% |
+------------+---------+-------------------------------------+
To view detailed results, visit:
https://lab.dpdk.org/results/dashboard/patchsets/17187/
UNH-IOL DPDK Community Lab
To manage your email subscriptions, visit:
https://lab.dpdk.org/results/dashboard/preferences/subscriptions/
^ permalink raw reply [flat|nested] 8+ messages in thread
* [dpdk-test-report] |SUCCESS| pw93392 [PATCH] net/ice: fix wrong data path selection in secondary process
@ 2021-05-24 16:44 dpdklab
0 siblings, 0 replies; 8+ messages in thread
From: dpdklab @ 2021-05-24 16:44 UTC (permalink / raw)
To: Ali Alnubani, Test Report; +Cc: dpdk-test-reports
[-- Attachment #1: Type: text/plain, Size: 885 bytes --]
Test-Label: iol-mellanox-Functional
Test-Status: SUCCESS
http://dpdk.org/patch/93392
_Functional Testing PASS_
Submitter: Qi Zhang <qi.z.zhang@intel.com>
Date: Monday, May 24 2021 09:07:59
DPDK git baseline: Repo:dpdk
Branch: master
CommitID:66b3a54b9feab193a5cf8ad54606d745078587cc
93392 --> functional testing pass
Test environment and result as below:
Ubuntu 18.04
Kernel: 4.15.0-generic
Compiler: gcc 7.4
NIC: Mellanox ConnectX-4 Lx 40000 Mbps
Target: x86_64-native-linuxapp-gcc
Fail/Total: 0/4
Ubuntu 18.04
Kernel: 4.15.0-generic
Compiler: gcc 7.4
NIC: Mellanox ConnectX-4 Lx 25000 Mbps
Target: x86_64-native-linuxapp-gcc
Fail/Total: 0/4
To view detailed results, visit:
https://lab.dpdk.org/results/dashboard/patchsets/17187/
UNH-IOL DPDK Community Lab
To manage your email subscriptions, visit:
https://lab.dpdk.org/results/dashboard/preferences/subscriptions/
^ permalink raw reply [flat|nested] 8+ messages in thread
* [dpdk-test-report] |SUCCESS| pw93392 [PATCH] net/ice: fix wrong data path selection in secondary process
@ 2021-05-24 15:26 dpdklab
0 siblings, 0 replies; 8+ messages in thread
From: dpdklab @ 2021-05-24 15:26 UTC (permalink / raw)
To: Ali Alnubani, Test Report; +Cc: dpdk-test-reports
[-- Attachment #1: Type: text/plain, Size: 2834 bytes --]
Test-Label: iol-mellanox-Performance
Test-Status: SUCCESS
http://dpdk.org/patch/93392
_Performance Testing PASS_
Submitter: Qi Zhang <qi.z.zhang@intel.com>
Date: Monday, May 24 2021 09:07:59
DPDK git baseline: Repo:dpdk
Branch: master
CommitID:66b3a54b9feab193a5cf8ad54606d745078587cc
93392 --> performance testing pass
Test environment and result as below:
Ubuntu 18.04
Kernel: 4.15.0-generic
Compiler: gcc 7.4
NIC: Mellanox ConnectX-5 100000 Mbps
Target: x86_64-native-linuxapp-gcc
Fail/Total: 0/6
Detail performance results:
+------------+---------+-------------------------------------+
| frame_size | txd/rxd | throughput difference from expected |
+============+=========+=====================================+
| 64 | 256 | -0.51736% |
+------------+---------+-------------------------------------+
| 128 | 256 | -0.04602% |
+------------+---------+-------------------------------------+
| 256 | 256 | -0.03745% |
+------------+---------+-------------------------------------+
| 512 | 256 | -0.31973% |
+------------+---------+-------------------------------------+
| 1024 | 256 | -0.55918% |
+------------+---------+-------------------------------------+
| 1518 | 256 | 0.08211% |
+------------+---------+-------------------------------------+
Ubuntu 18.04
Kernel: 4.15.0-generic
Compiler: gcc 7.4
NIC: Mellanox ConnectX-4 Lx 25000 Mbps
Target: x86_64-native-linuxapp-gcc
Fail/Total: 0/6
Detail performance results:
+------------+---------+-------------------------------------+
| frame_size | txd/rxd | throughput difference from expected |
+============+=========+=====================================+
| 64 | 256 | -0.53999% |
+------------+---------+-------------------------------------+
| 128 | 256 | -0.10711% |
+------------+---------+-------------------------------------+
| 256 | 256 | -0.17834% |
+------------+---------+-------------------------------------+
| 512 | 256 | -0.07704% |
+------------+---------+-------------------------------------+
| 1024 | 256 | 0.16731% |
+------------+---------+-------------------------------------+
| 1518 | 256 | -0.09843% |
+------------+---------+-------------------------------------+
To view detailed results, visit:
https://lab.dpdk.org/results/dashboard/patchsets/17187/
UNH-IOL DPDK Community Lab
To manage your email subscriptions, visit:
https://lab.dpdk.org/results/dashboard/preferences/subscriptions/
^ permalink raw reply [flat|nested] 8+ messages in thread
* [dpdk-test-report] |SUCCESS| pw93392 [PATCH] net/ice: fix wrong data path selection in secondary process
@ 2021-05-24 15:13 dpdklab
0 siblings, 0 replies; 8+ messages in thread
From: dpdklab @ 2021-05-24 15:13 UTC (permalink / raw)
To: Ali Alnubani, Test Report; +Cc: dpdk-test-reports
[-- Attachment #1: Type: text/plain, Size: 1714 bytes --]
Test-Label: iol-mellanox-Performance
Test-Status: SUCCESS
http://dpdk.org/patch/93392
_Performance Testing PASS_
Submitter: Qi Zhang <qi.z.zhang@intel.com>
Date: Monday, May 24 2021 09:07:59
DPDK git baseline: Repo:dpdk
Branch: master
CommitID:66b3a54b9feab193a5cf8ad54606d745078587cc
93392 --> performance testing pass
Test environment and result as below:
Ubuntu 18.04
Kernel: 4.15.0-generic
Compiler: gcc 7.4
NIC: Mellanox ConnectX-5 100000 Mbps
Target: x86_64-native-linuxapp-gcc
Fail/Total: 0/6
Detail performance results:
+------------+---------+-------------------------------------+
| frame_size | txd/rxd | throughput difference from expected |
+============+=========+=====================================+
| 64 | 256 | -0.51736% |
+------------+---------+-------------------------------------+
| 128 | 256 | -0.04602% |
+------------+---------+-------------------------------------+
| 256 | 256 | -0.03745% |
+------------+---------+-------------------------------------+
| 512 | 256 | -0.31973% |
+------------+---------+-------------------------------------+
| 1024 | 256 | -0.55918% |
+------------+---------+-------------------------------------+
| 1518 | 256 | 0.08211% |
+------------+---------+-------------------------------------+
To view detailed results, visit:
https://lab.dpdk.org/results/dashboard/patchsets/17187/
UNH-IOL DPDK Community Lab
To manage your email subscriptions, visit:
https://lab.dpdk.org/results/dashboard/preferences/subscriptions/
^ permalink raw reply [flat|nested] 8+ messages in thread
* [dpdk-test-report] |SUCCESS| pw93392 [PATCH] net/ice: fix wrong data path selection in secondary process
@ 2021-05-24 10:44 dpdklab
0 siblings, 0 replies; 8+ messages in thread
From: dpdklab @ 2021-05-24 10:44 UTC (permalink / raw)
To: Test Report; +Cc: dpdk-test-reports
[-- Attachment #1: Type: text/plain, Size: 2264 bytes --]
Test-Label: iol-abi-testing
Test-Status: SUCCESS
http://dpdk.org/patch/93392
_Testing PASS_
Submitter: Qi Zhang <qi.z.zhang@intel.com>
Date: Monday, May 24 2021 09:07:59
DPDK git baseline: Repo:dpdk
Branch: master
CommitID:66b3a54b9feab193a5cf8ad54606d745078587cc
93392 --> testing pass
Test environment and result as below:
+------------------+----------+
| Environment | abi_test |
+==================+==========+
| Ubuntu 18.04 ARM | PASS |
+------------------+----------+
| Ubuntu 18.04 | PASS |
+------------------+----------+
| RHEL8 | PASS |
+------------------+----------+
| Ubuntu 20.04 | PASS |
+------------------+----------+
| Fedora 31 | PASS |
+------------------+----------+
| Fedora 32 | PASS |
+------------------+----------+
| CentOS Stream 8 | PASS |
+------------------+----------+
| RHEL 7 | PASS |
+------------------+----------+
| CentOS 8 | PASS |
+------------------+----------+
| openSUSE Leap 15 | PASS |
+------------------+----------+
| Arch Linux | PASS |
+------------------+----------+
Ubuntu 18.04 ARM
Kernel: 5.4.0-53-generic
Compiler: gcc 9.3
Ubuntu 18.04
Kernel: 4.18.0-240.10.1.el8_3.x86_64
Compiler: gcc 7.5.0-3ubuntu1~18.04
RHEL8
Kernel: 4.18.0-240.10.1.el8_3.x86_64
Compiler: gcc 8.3.1 20191121 (Red Hat 8.3.1-5)
Ubuntu 20.04
Kernel: 4.18.0-240.10.1.el8_3.x86_64
Compiler: gcc 9.3.0-17ubuntu1~20.04
Fedora 31
Kernel: 4.18.0-240.10.1.el8_3.x86_64
Compiler: gcc 9.3.1
Fedora 32
Kernel: 4.18.0-240.10.1.el8_3.x86_64
Compiler: gcc 10.2.1
CentOS Stream 8
Kernel: 4.18.0-240.10.1.el8_3.x86_64
Compiler: gcc 8.4.1 20200928
RHEL 7
Kernel: 4.18.0-240.10.1.el8_3.x86_64
Compiler: gcc 4.8.5 20150623 (Red Hat 4.8.5-44)
CentOS 8
Kernel: 4.18.0-240.10.1.el8_3.x86_64
Compiler: gcc 8.3.1 20191121 (Red Hat 8.3.1-5)
openSUSE Leap 15
Kernel: 4.18.0-240.10.1.el8_3.x86_64
Compiler: gcc 7.5.0
Arch Linux
Kernel: 4.18.0-240.10.1.el8_3.x86_64
Compiler: gcc 10.2.0
To view detailed results, visit:
https://lab.dpdk.org/results/dashboard/patchsets/17187/
UNH-IOL DPDK Community Lab
To manage your email subscriptions, visit:
https://lab.dpdk.org/results/dashboard/preferences/subscriptions/
^ permalink raw reply [flat|nested] 8+ messages in thread
[parent not found: <20210524090759.980530-1-qi.z.zhang@intel.com>]
end of thread, other threads:[~2021-05-25 14:52 UTC | newest]
Thread overview: 8+ messages (download: mbox.gz / follow: Atom feed)
-- links below jump to the message on this page --
2021-05-24 16:05 [dpdk-test-report] |SUCCESS| pw93392 [PATCH] net/ice: fix wrong data path selection in secondary process dpdklab
-- strict thread matches above, loose matches on Subject: below --
2021-05-25 14:52 dpdklab
2021-05-24 16:56 dpdklab
2021-05-24 16:44 dpdklab
2021-05-24 15:26 dpdklab
2021-05-24 15:13 dpdklab
2021-05-24 10:44 dpdklab
[not found] <20210524090759.980530-1-qi.z.zhang@intel.com>
2021-05-24 9:05 ` checkpatch
This is a public inbox, see mirroring instructions
for how to clone and mirror all data and code used for this inbox;
as well as URLs for NNTP newsgroup(s).